Workbook

Sheet Character Sheet
C2: Type | D2: =IF(F89<=0,"Mechanoid",VLOOKUP(P3,'Race Modification'!C2:S55,17,FALSE)) -> Voidanoid | F2: Vulnerabilities | H2: =IF(D2="Mechanoid","Electricity(1d6), Ion(2d6)",X121) -> - | N2: N.E.W. Character Sheet | Z2: Careers | AD2: Racial/Hook Attributes Under Dark Blue Box | AP2: Humans will have to keep track of their selected Attributes | AQ2: Always Capitalize.
C3: Name | I3: Is a | J3: Select Size | M3: (trait) | N3: (age) | O3: (gender) | P3: Select Race | R3: Career | S3: who | T3: (hook) | AD3: =IF(T4="Strength",1,AD108) | AE3: =IF(T4="Agility",1,AE108) | AF3: =IF(T4="Endurance",1,AF108) | AG3: =IF(T4="Willpower",1,AG108) | AH3: =IF(T4="Intuition",1,AH108) | AI3: =IF(T4="Logic",1,AI108) | AJ3: =IF(T4="Charisma",1,AJ108) | AK3: =IF(T4="Luck",1,AK108) | AL3: =IF(T4="Reputation",1,AL108) | AM3: =IF(T4="Psionics",1,AM108) | AN3: =IF(T4="Magic",1,AN108) | AO3: =IF(T4="Chi",1,AO108)
L4: =IF(P3="Select Race","",(CONCATENATE("Age Range - Adult (",VLOOKUP(P3,'Race Modification'!C2:U55,18,FALSE),"-",VLOOKUP(P3,'Race Modification'!C2:U55,19,FALSE),")"))) | M4: Exploits & Traits | T4: Hook Attribute | Z4: Career | AA4: Grade | AB4: Age | AC4: Exploit | AD4: STR | AE4: AGI | AF4: END | AG4: WIL | AH4: INT | AI4: LOG | AJ4: CHA | AK4: LUC | AL4: REP | AM4: PSI | AN4: MAG | AO4: CHI | AP4: Skill One | AQ4: Skill Two
C5: Grade | D5: Max Dice Pool | E5: Attributes | G5: Select HW Skill | I5: Sheet made by Arthreas | L5: Exploits | M5: Description
C6: 5 | D6: =IF(C6<2,"1d6",IF(C6<3,"2d6",IF(C6<4,"3d6",IF(C6<5,"4d6",IF(C6<6,"5d6",IF(C6<8,"6d6",IF(C6<11,"7d6",IF(C6<15,"8d6",IF(C6<20,"9d6",IF(C6<26,"10d6",IF(C6<33,"11d6",IF(C6<41,"12d6",0)))))))))))) -> 5d6 | E6: =IF(F7="Agricultural","END +1",IF(F7="Arctic","END +1",IF(F7="Asteroid","AGI +1",IF(F7="Barren","END +1",IF(F7="City","CHA +1",IF(F7="Desert","END +1",IF(F7="Jungle","AGI +1",IF(F7="Ocean","AGI +1",IF(F7="Volcanic","AGI +1",""))))))))) | F6: =IF(F7="Agricultural","LOG -1",IF(F7="Arctic","AGI -1",IF(F7="Asteroid","STR -1",IF(F7="Barren","CHA -1",IF(F7="City","END -1",IF(F7="Desert","AGI -1",IF(F7="Jungle","END -1",IF(F7="Ocean","INT -1",IF(F7="Volcanic","STR -1",""))))))))) | G6: Select Skill
E7: Homeworld | F7: Select Homeworld
C8: Attributes
C9: Strength | D9: Agility | E9: Endurance | F9: Willpower | G9: Intuition | H9: Magic
C10: =AE33&"d6" -> 2d6 | D10: =AF33&"d6" -> 2d6 | E10: =AG33&"d6" -> 2d6 | F10: =AH33&"d6" -> 2d6 | G10: =AI33&"d6" -> 2d6 | H10: =AG37&"d6" -> 0d6
C13: =3+C15+AD106+SUM(AD5:AD24) -> 3 | D13: =3+D15+AE106+SUM(AE5:AE24) -> 3 | E13: =3+E15+AF106+SUM(AF5:AF24) -> 3 | F13: =3+F15+AG106+SUM(AG5:AG24) -> 3 | G13: =3+G15+AH106+SUM(AH5:AH24) -> 3 | H13: =0+H15+AN106+SUM(AN5:AN24) -> 0
C16: Logic | D16: Charisma | E16: Luck | F16: Reputation | G16: Psionics | H16: Chi
C17: =AE35&"d6" -> 2d6 | D17: =AF35&"d6" -> 2d6 | E17: =AG35&"d6" -> 2d6 | F17: =AH35&"d6" -> 0d6 | G17: =AI35&"d6" -> 0d6 | H17: =AG38&"d6" -> 0d6
C20: =3+C22+AI106+G196+SUM(AI5:AI24) -> 3 | D20: =3+D22+AJ106+SUM(AJ5:AJ24) -> 3 | E20: =3+E22+AK106+SUM(AK5:AK24) -> 3 | F20: =F22+AL106+SUM(AL5:AL24) -> 0 | G20: =IF(N136>0,0,G22+AM106+SUM(AM5:AM24)) -> 0 | H20: =H22+AO106+SUM(AO5:AO24) -> 0
B21: =VLOOKUP(P3,'Race Modification'!C2:BP55,66,FALSE)
B22: =VLOOKUP(P3,'Race Modification'!C2:BO55,37,FALSE)
B23: N | C23: Statistics
C24: Melee Defense | D24: Ranged Defense | E24: Mental Defense | F24: Actions | G24: SOAK
C25: =AG88+Q304+Q302+Q298+Q300+C26 -> 10 | D25: =AH88+Q304+Q302+Q300+Q298+D26 -> 10 | E25: =IF(D2="Mechanoid","Immune",AI88+E26) -> 10 | F25: =2+VLOOKUP(P3,'Race Modification'!C2:BO55,38,FALSE)+F26 -> 2 | G25: =M61+G26 -> 0 | X25: Skills | AD25: =SUM(AD5:AD24) -> 0 | AE25: =SUM(AE5:AE24) -> 0 | AF25: =SUM(AF5:AF24) -> 0 | AG25: =SUM(AG5:AG24) -> 0 | AH25: =SUM(AH5:AH24) -> 0 | AI25: =SUM(AI5:AI24) -> 0 | AJ25: =SUM(AJ5:AJ24) -> 0 | AK25: =SUM(AK5:AK24) -> 0 | ... AO25: =SUM(AO5:AO24) -> 0 | AP25: =G6 -> Select Skill
B26: =IF(B23="N",((AF35+AH33+AQ58)*4)+B21,IF(B23="C",(((AF35+AH33+AQ58+AG35)*4)+B21),((AF35+AH33+AQ58)*4)+B21)) -> 16 | I26: Credits | L26: 0 Credits | M26: Experience | N26: 0 XP | O26: Luck Pool | Q26: 2 | R26: Species Weight | S26: 0 lb | T26: HmWorld Name | X26: Career Skills | Y26: Rank | Z26: Dice Pool | AA26: Derived Skills | AB26: Rank | AC26: Dice Pool | AD26: =SUM(AB5:AB24) -> 0
B27: =IF((AI33+AD36)<0,0,AI33+AD36) -> 2 | C27: Health | D27: Resolve | E27: Speed | F27: Climb | G27: Swim | I27: Equipped Items | Q27: Biography | X27: =IFERROR(__xludf.DUMMYFUNCTION("UNIQUE(transpose(split(arrayformula(concatenate(AP5:AQ27&"","")),"","")))"),"Select Skill") -> Select Skill | Y27: =IF(ISBLANK(X27),"",COUNTIF($AP$5:$AQ$27,X27)) -> 1 | Z27: =IF(Y27<1,"0d6",IF(Y27<3,"1d6",IF(Y27<6,"2d6",IF(Y27<10,"3d6",IF(Y27<15,"4d6",IF(Y27<21,"5d6",IF(Y27<28,"6d6",IF(Y27<36,"7d6","0d6")))))))) -> 1d6 | AA27: Health
B28: =IF(B23="N",((AG33+AH33+AD28)*4)+B22,IF(B23="C",(((AG33+AH33+AD28+AG35)*4)+B22),((AG33+AH33+AD28)*4)+B22)) -> 16 | C28: =IF(B28<0,0,B28) -> 16 | D28: =IF(B26<10,10,B26) -> 16 | E28: =B30 -> 4 | F28: =IF(M3="Nimble",E28+F29+VLOOKUP(P3,'Race Modification'!C2:BP55,31,FALSE),IF(F29="Equal",E28,B31+F29)) -> 2 | G28: =IF(G29="Equal",E28,B32+G29) -> 2 | I28: Main Hand | L28: Nothing | Y28: =COUNTIF($AP$5:$AQ$27,X28) -> 0 | Z28: =IF(Y28<1,"0d6",IF(Y28<3,"1d6",IF(Y28<6,"2d6",IF(Y28<10,"3d6",IF(Y28<15,"4d6",IF(Y28<21,"5d6",IF(Y28<28,"6d6",IF(Y28<36,"7d6","0d6")))))))) -> 0d6 | AA28: =IF(ISNA(VLOOKUP("Hardy",X27:Y50,1,FALSE)),"-",VLOOKUP("Hardy",X27:Y50,1,FALSE)) -> - | AB28: =IF(ISNA(VLOOKUP("Hardy",X27:Y50,2,FALSE)),0,VLOOKUP("Hardy",X27:Y50,2,FALSE)) -> 0 | AC28: =IF(AB28<1,"0d6",IF(AB28<3,"1d6",IF(AB28<6,"2d6",IF(AB28<10,"3d6",IF(AB28<15,"4d6",IF(AB28<21,"5d6",IF(AB28<28,"6d6",IF(AB28<36,"7d6","0d6")))))))) -> 0d6 | AD28: =IF(AB28<1,0,IF(AB28<3,1,IF(AB28<6,2,IF(AB28<10,3,IF(AB28<15,4,IF(AB28<21,5,IF(AB28<28,6,IF(AB28<36,7,0)))))))) -> 0 | AE28: Universal Exploits | AJ28: Age Exploit | AP28: Write your 3 or 4 Species Skills Here
B29: =IF(AO31<0,0,AO31) -> 2 | C29: 16 | D29: 16 | I29: Off Hand | L29: Nothing | Y29: =COUNTIF($AP$5:$AQ$27,X29) -> 0 | Z29: =IF(Y29<1,"0d6",IF(Y29<3,"1d6",IF(Y29<6,"2d6",IF(Y29<10,"3d6",IF(Y29<15,"4d6",IF(Y29<21,"5d6",IF(Y29<28,"6d6",IF(Y29<36,"7d6","0d6")))))))) -> 0d6 | AA29: Speed
B30: =IF(AND(P3="Solurial",AG30<2),2,IF(AG30<0,0,AG30)) -> 4 | C30: Jump | D30: Carry | E30: High-G | F30: Zero-G | G30: Fly | I30: Other Weapon | L30: Nothing | Y30: =COUNTIF($AP$5:$AQ$27,X30) -> 0 | Z30: =IF(Y30<1,"0d6",IF(Y30<3,"1d6",IF(Y30<6,"2d6",IF(Y30<10,"3d6",IF(Y30<15,"4d6",IF(Y30<21,"5d6",IF(Y30<28,"6d6",IF(Y30<36,"7d6","0d6")))))))) -> 0d6 | AA30: =IF(ISNA(VLOOKUP("Running",X27:Y50,1,FALSE)),"-",VLOOKUP("Running",X27:Y50,1,FALSE)) -> - | AB30: =IF(ISNA(VLOOKUP("Running",X27:Y50,2,FALSE)),0,VLOOKUP("Running",X27:Y50,2,FALSE)) -> 0 | AC30: =IF(AB30<1,"0d6",IF(AB30<3,"1d6",IF(AB30<6,"2d6",IF(AB30<10,"3d6",IF(AB30<15,"4d6",IF(AB30<21,"5d6",IF(AB30<28,"6d6",IF(AB30<36,"7d6","0d6")))))))) -> 0d6 | AD30: =IF(AB30<1,0,IF(AB30<3,1,IF(AB30<6,2,IF(AB30<10,3,IF(AB30<15,4,IF(AB30<21,5,IF(AB30<28,6,IF(AB30<36,7,0)))))))) -> 0 | AE30: =AE33+AF33+AD30+E29+AK97 -> 4 | AF30: =AE30+AF31 -> 4 | AG30: =IF(J3="Small",AF30-1,AF30) -> 4 | AH30: run | AI30: spd | AJ30: clm | AK30: swm | AL30: zg | AM30: hg | AN30: fly | AO30: =MAX(AQ48,AQ49,AQ52,AQ55) -> 0 | AP30: meld | AQ30: =IF(E172="Light",AQ33,IF(E172="Medium",AQ33-2,IF(E172="Heavy",AQ33-4,AQ33))) -> 10
B31: =IF(AJ31<0,0,AJ31) -> 2 | C31: =CONCATENATE(AK33+C32,"'/",AL33+C32,"'") -> 6'/3' | D31: =CONCATENATE(AJ36+D32,"lb ","(",(AJ36+D32)*2.5,"lb)") -> 60lb (150lb) | E31: =IF(E32="Equal",E28,B33+E32) -> 2 | F31: =IF(F32="Equal",E28,B34+F32) -> 2 | G31: =IF(G32="Equal",E28,B35+G32) -> 2 | I31: Shield | L31: Nothing | Y31: =COUNTIF($AP$5:$AQ$27,X31) -> 0 | Z31: =IF(Y31<1,"0d6",IF(Y31<3,"1d6",IF(Y31<6,"2d6",IF(Y31<10,"3d6",IF(Y31<15,"4d6",IF(Y31<21,"5d6",IF(Y31<28,"6d6",IF(Y31<36,"7d6","0d6")))))))) -> 0d6 | AA31: =IF(ISNA(VLOOKUP("Climbing",X27:Y50,1,FALSE)),"-",VLOOKUP("Climbing",X27:Y50,1,FALSE)) -> - | AB31: =IF(ISNA(VLOOKUP("Climbing",X27:Y50,2,FALSE)),0,VLOOKUP("Climbing",X27:Y50,2,FALSE)) -> 0 | AC31: =IF(AB31<1,"0d6",IF(AB31<3,"1d6",IF(AB31<6,"2d6",IF(AB31<10,"3d6",IF(AB31<15,"4d6",IF(AB31<21,"5d6",IF(AB31<28,"6d6",IF(AB31<36,"7d6","0d6")))))))) -> 0d6 | AD31: =IF(AB31<1,0,IF(AB31<3,1,IF(AB31<6,2,IF(AB31<10,3,IF(AB31<15,4,IF(AB31<21,5,IF(AB31<28,6,IF(AB31<36,7,0)))))))) -> 0 | AF31: =VLOOKUP(P3,'Race Modification'!C2:AL55,30,FALSE) | AG31: =IF(J3="Small",AH31-1,AH31) -> 4 | AH31: =AI31+AF31 -> 4 | AI31: =AE33+AF33+E29+AK97 -> 4 | AJ31: =IF(VLOOKUP(P3,'Race Modification'!C2:BP55,31,FALSE)="Equal",(AG31+AD31), (AG31+AD31+VLOOKUP(P3,'Race Modification'!C2:BP55,31,FALSE))/2) -> 2 | AK31: =IF(VLOOKUP(P3,'Race Modification'!C2:BP55,32,FALSE)="Equal",(AG31+AD32), (AG31+AD32+VLOOKUP(P3,'Race Modification'!C2:BP55,32,FALSE))/2) -> 2 | AL31: =IF(VLOOKUP(P3,'Race Modification'!C2:BP55,35,FALSE)="Equal",(AG31+AD44), (AG31+AD44+VLOOKUP(P3,'Race Modification'!C2:BP55,35,FALSE))/2) -> 2 | AM31: =IF(VLOOKUP(P3,'Race Modification'!C2:BP55,33,FALSE)="Equal",(AG31+AD46), (AG31+AD46+VLOOKUP(P3,'Race Modification'!C2:BP55,33,FALSE))/2) -> 2 | AN31: =IF(VLOOKUP(P3,'Race Modification'!C2:BP55,36,FALSE)="Equal",(AG31+AD48), (AG31+AD48+VLOOKUP(P3,'Race Modification'!C2:BP55,36,FALSE))/2) -> 2 | AO31: =AO35+AO30 -> 2 | AP31: rd | AQ31: =IF(E172="Light",AQ34,IF(E172="Medium",AQ34-2,IF(E172="Heavy",AQ34-4,AQ34))) -> 10
B32: =IF(AK31<0,0,AK31) -> 2 | I32: Helmet | L32: Nothing | P32: - | Y32: =COUNTIF($AP$5:$AQ$27,X32) -> 0 | Z32: =IF(Y32<1,"0d6",IF(Y32<3,"1d6",IF(Y32<6,"2d6",IF(Y32<10,"3d6",IF(Y32<15,"4d6",IF(Y32<21,"5d6",IF(Y32<28,"6d6",IF(Y32<36,"7d6","0d6")))))))) -> 0d6 | AA32: =IF(ISNA(VLOOKUP("Swimming",X27:Y50,1,FALSE)),"-",VLOOKUP("Swimming",X27:Y50,1,FALSE)) -> - | AB32: =IF(ISNA(VLOOKUP("Swimming",X27:Y50,2,FALSE)),0,VLOOKUP("Swimming",X27:Y50,2,FALSE)) -> 0 | AC32: =IF(AB32<1,"0d6",IF(AB32<3,"1d6",IF(AB32<6,"2d6",IF(AB32<10,"3d6",IF(AB32<15,"4d6",IF(AB32<21,"5d6",IF(AB32<28,"6d6",IF(AB32<36,"7d6","0d6")))))))) -> 0d6 | AD32: =IF(AB32<1,0,IF(AB32<3,1,IF(AB32<6,2,IF(AB32<10,3,IF(AB32<15,4,IF(AB32<21,5,IF(AB32<28,6,IF(AB32<36,7,0)))))))) -> 0 | AE32: str | AF32: agi | AG32: end | AH32: wil | AI32: int | AJ32: agi or int | AN32: str | AO32: =AE33 -> 2 | AP32: mend | AQ32: =IF(P3="Orgron",AQ35+4,AQ35) -> 10
B33: =IF(AM31<0,0,AM31) -> 2 | C33: Initiative | D33: =CONCATENATE(B27+E33+VLOOKUP(P3,'Race Modification'!C2:BO55,40,FALSE),"d6") -> 2d6 | F33: Perception | G33: =IF(ISNA(VLOOKUP("Perception",AO105:AQ105,3,FALSE)+AI33+VLOOKUP(P3,'Race Modification'!C2:BO55,40,FALSE)&"d6"),"-",VLOOKUP("Perception",AO105:AQ105,3,FALSE)+AI33+VLOOKUP(P3,'Race Modification'!C2:BO55,40,FALSE)&"d6") -> - | I33: Armour | L33: Nothing | Y33: =COUNTIF($AP$5:$AQ$27,X33) -> 0 | Z33: =IF(Y33<1,"0d6",IF(Y33<3,"1d6",IF(Y33<6,"2d6",IF(Y33<10,"3d6",IF(Y33<15,"4d6",IF(Y33<21,"5d6",IF(Y33<28,"6d6",IF(Y33<36,"7d6","0d6")))))))) -> 0d6 | AA33: =IF(ISNA(VLOOKUP("Jumping",X27:Y50,1,FALSE)),"-",VLOOKUP("Jumping",X27:Y50,1,FALSE)) -> - | AB33: =IF(ISNA(VLOOKUP("Jumping",X27:Y50,2,FALSE)),0,VLOOKUP("Jumping",X27:Y50,2,FALSE)) -> 0 | AC33: =IF(AB33<1,"0d6",IF(AB33<3,"1d6",IF(AB33<6,"2d6",IF(AB33<10,"3d6",IF(AB33<15,"4d6",IF(AB33<21,"5d6",IF(AB33<28,"6d6",IF(AB33<36,"7d6","0d6")))))))) -> 0d6 | AD33: =IF(AB33<1,0,IF(AB33<3,1,IF(AB33<6,2,IF(AB33<10,3,IF(AB33<15,4,IF(AB33<21,5,IF(AB33<28,6,IF(AB33<36,7,0)))))))) -> 0 | AE33: =IF(AE41<=0,1,AE41) -> 2 | AF33: =IF(AF41<=0,1,AF41) -> 2 | AG33: =IF(AG41<=0,1,AG41) -> 2 | AH33: =IF(AH41<=0,1,AH41) -> 2 | AI33: =IF(AI41<=0,1,AI41) -> 2 | AJ33: =MAX(AI33,AF33) -> 2 | AK33: =AK34+AM33 -> 6 | AL33: =AL34+AM34 -> 3 | AM33: =VLOOKUP(P3,'Race Modification'!C2:AL55,21,FALSE) | AN33: agi | AO33: =AF33 -> 2 | AP33: meld | AQ33: =IF(B174="Small",AQ36+2,IF(B174="Medium",AQ36+4,IF(B174="Large",AQ36+6,AQ36))) -> 10
B34: =IF(AL31<0,0,AL31) -> 2 | C34: Attacks | I34: Gauntlet | L34: Nothing | Y34: =COUNTIF($AP$5:$AQ$27,X34) -> 0 | Z34: =IF(Y34<1,"0d6",IF(Y34<3,"1d6",IF(Y34<6,"2d6",IF(Y34<10,"3d6",IF(Y34<15,"4d6",IF(Y34<21,"5d6",IF(Y34<28,"6d6",IF(Y34<36,"7d6","0d6")))))))) -> 0d6 | AA34: =IF(ISNA(VLOOKUP("Carrying",X27:Y50,1,FALSE)),"-",VLOOKUP("Carrying",X27:Y50,1,FALSE)) -> - | AB34: =IF(ISNA(VLOOKUP("Carrying",X27:Y50,2,FALSE)),0,VLOOKUP("Carrying",X27:Y50,2,FALSE)) -> 0 | AC34: =IF(AB34<1,"0d6",IF(AB34<3,"1d6",IF(AB34<6,"2d6",IF(AB34<10,"3d6",IF(AB34<15,"4d6",IF(AB34<21,"5d6",IF(AB34<28,"6d6",IF(AB34<36,"7d6","0d6")))))))) -> 0d6 | AD34: =IF(AB34<1,0,IF(AB34<3,1,IF(AB34<6,2,IF(AB34<10,3,IF(AB34<15,4,IF(AB34<21,5,IF(AB34<28,6,IF(AB34<36,7,0)))))))) -> 0 | AE34: log | AF34: cha | AG34: luc | AH34: rep | AI34: psi | AJ34: =AF33 -> 2 | AK34: =D13*2+AD33 -> 6 | AL34: =C13+AD33 -> 3 | AM34: =VLOOKUP(P3,'Race Modification'!C2:AL55,22,FALSE) | AP34: rd | AQ34: =IF(B174="Small",AQ37+2,IF(B174="Medium",AQ37+4,IF(B174="Large",AQ37+6,AQ37))) -> 10
B35: =IF(AN31<0,0,AN31) -> 2 | C35: =IFERROR(__xludf.DUMMYFUNCTION("IF(ISNA(FILTER(E338:E347,E338:E347<>"""")),"""",FILTER(E338:E347,E338:E347<>""""))"),"Unarmed 2d6 (0d6+2 Unarmed damage; range 1)") -> Unarmed 2d6 (0d6+2 Unarmed damage; range 1) | H35: =H329 -> 2 | J35: Quick Gear | O35: Total Weight | R35: Other Exploits | Y35: =COUNTIF($AP$5:$AQ$27,X35) -> 0 | Z35: =IF(Y35<1,"0d6",IF(Y35<3,"1d6",IF(Y35<6,"2d6",IF(Y35<10,"3d6",IF(Y35<15,"4d6",IF(Y35<21,"5d6",IF(Y35<28,"6d6",IF(Y35<36,"7d6","0d6")))))))) -> 0d6 | AA35: Initiative | AE35: =IF(AE42<=0,1,AE42) -> 2 | AF35: =IF(AF42<=0,1,AF42) -> 2 | AG35: =IF(AG42<=0,1,AG42) -> 2 | AH35: =IF(AH42<0,0,AH42) -> 0 | AI35: =IF(AI42<0,0,AI42) -> 0 | AJ35: agi | AL35: lg | AM35: mel | AN35: =VLOOKUP(AO35,AH174:AI203,2) -> 1 | AO35: =MAX(AO33,AO32) -> 2 | AP35: mend | AQ35: =IF(AQ38<10,10,AQ38) -> 10
H36: =H330 | I36: Qty | J36: Name | M36: Quality | N36: Cost | O36: Weight | P36: =IF(P37="-",AB109&"lb",CONCATENATE(AB110,"lb")) -> 0lb | Q36: Name | R36: Description | Y36: =COUNTIF($AP$5:$AQ$27,X36) -> 0 | Z36: =IF(Y36<1,"0d6",IF(Y36<3,"1d6",IF(Y36<6,"2d6",IF(Y36<10,"3d6",IF(Y36<15,"4d6",IF(Y36<21,"5d6",IF(Y36<28,"6d6",IF(Y36<36,"7d6","0d6")))))))) -> 0d6 | AA36: =AO73 | AB36: =AO74 -> 0 | AC36: =IF(AB36<1,"0d6",IF(AB36<3,"1d6",IF(AB36<6,"2d6",IF(AB36<10,"3d6",IF(AB36<15,"4d6",IF(AB36<21,"5d6",IF(AB36<28,"6d6",IF(AB36<36,"7d6","0d6")))))))) -> 0d6 | AD36: =IF(AB36<1,0,IF(AB36<3,1,IF(AB36<6,2,IF(AB36<10,3,IF(AB36<15,4,IF(AB36<21,5,IF(AB36<28,6,IF(AB36<36,7,0)))))))) -> 0 | AG36: mag | AI36: =(C13+E13+AB34)*10 -> 60 | AJ36: =AI36*AK36 -> 60 | AK36: =IF((VLOOKUP(P3,'Race Modification'!C2:BP55,44,FALSE)%)="",1,VLOOKUP(P3,'Race Modification'!C2:BP55,44,FALSE)%+1) -> 1 | AL36: =IF(VLOOKUP(P3,'Race Modification'!C2:BP55,34,FALSE)="Equal",(AG31+AH50), (AG31+AH50+VLOOKUP(P3,'Race Modification'!C2:BP55,34,FALSE))/2) -> 2 | AM36: mnt | AN36: =VLOOKUP(AO36,AH174:AI203,2) -> 1 | AO36: =MAX(AI33,AH33,AE35) -> 2 | AP36: meld | AQ36: =IF(AQ40<10,10,AQ40) -> 10
H37: =H331 | I37: 0 | M37: Standard | P37: Active | Y37: =COUNTIF($AP$5:$AQ$27,X37) -> 0 | Z37: =IF(Y37<1,"0d6",IF(Y37<3,"1d6",IF(Y37<6,"2d6",IF(Y37<10,"3d6",IF(Y37<15,"4d6",IF(Y37<21,"5d6",IF(Y37<28,"6d6",IF(Y37<36,"7d6","0d6")))))))) -> 0d6 | AA37: Melee Defense | AE37: d6 | AG37: =IF(AJ42<0,0,AJ42) -> 0 | AI37: =(AE33+AG33+AB34)*10 -> 40 | AJ37: OW | AK37: =IF(U296="Ranged",MAX(AF33,AI33),IF(U296="Melee",MAX(AE33,AF33),0)) -> 0 | AN37: Mental Defense DP | AO37: =VLOOKUP(P3,'Race Modification'!C2:AE55,29,FALSE) | AP37: rd | AQ37: =IF(AQ42<10,10,AQ42) -> 10
H38: =H332 | I38: 0 | M38: Standard | Y38: =COUNTIF($AP$5:$AQ$27,X38) -> 0 | Z38: =IF(Y38<1,"0d6",IF(Y38<3,"1d6",IF(Y38<6,"2d6",IF(Y38<10,"3d6",IF(Y38<15,"4d6",IF(Y38<21,"5d6",IF(Y38<28,"6d6",IF(Y38<36,"7d6","0d6")))))))) -> 0d6 | AA38: =AO57 | AB38: =AN57 -> 0 | AC38: =IF(AB38<1,"0d6",IF(AB38<3,"1d6",IF(AB38<6,"2d6",IF(AB38<10,"3d6",IF(AB38<15,"4d6",IF(AB38<21,"5d6",IF(AB38<28,"6d6",IF(AB38<36,"7d6","0d6")))))))) -> 0d6 | AD38: =IF(AB38<1,0,IF(AB38<3,1,IF(AB38<6,2,IF(AB38<10,3,IF(AB38<15,4,IF(AB38<21,5,IF(AB38<28,6,IF(AB38<36,7,0)))))))) -> 0 | AE38: =IF(J3="Small",1,IF(J3="Medium",1,IF(J3="Large",2,IF(J3="Enormous",3,0)))) -> 0 | AF38: =VLOOKUP(P3,'Race Modification'!C2:BP55,41,FALSE) | AG38: =IF(AJ43<0,0,AJ43) -> 0 | AJ38: MH | AK38: =IF(U292="Ranged",MAX(AF33,AI33),IF(U292="Melee",MAX(AE33,AF33),0)) -> 0 | AN38: =AO36+AD42 -> 2 | AO38: =VLOOKUP(AN38,AC369:AD439,2,FALSE)+IF(AO37="Immune",0,AO37) -> 7 | AP38: mend | AQ38: =IF(J3="Tiny",AO38+8,IF(J3="Small",AO38+4,IF(J3="Medium",AO38,IF(J3="Large",AO38-4,IF(J3="Enormous",AO38-8,AO38))))) -> 7
H39: =H333 | I39: 0 | M39: Standard | Y39: =COUNTIF($AP$5:$AQ$27,X39) -> 0 | Z39: =IF(Y39<1,"0d6",IF(Y39<3,"1d6",IF(Y39<6,"2d6",IF(Y39<10,"3d6",IF(Y39<15,"4d6",IF(Y39<21,"5d6",IF(Y39<28,"6d6",IF(Y39<36,"7d6","0d6")))))))) -> 0d6 | AA39: Ranged Defense | AE39: =AE38+AF38 -> 0 | AG39: chi | AJ39: iw1 | AK39: =IF(L105="Ranged",MAX(AF33,AI33),IF(U292="Melee",MAX(AE33,AF33),0)) -> 0 | AN39: Melee Defense DP | AO39: =VLOOKUP(P3,'Race Modification'!C2:AE55,27,FALSE)
H40: =H334 | I40: 0 | M40: Standard | Y40: =COUNTIF($AP$5:$AQ$27,X40) -> 0 | Z40: =IF(Y40<1,"0d6",IF(Y40<3,"1d6",IF(Y40<6,"2d6",IF(Y40<10,"3d6",IF(Y40<15,"4d6",IF(Y40<21,"5d6",IF(Y40<28,"6d6",IF(Y40<36,"7d6","0d6")))))))) -> 0d6 | AA40: =AO58 | AB40: =AN58 -> 0 | AC40: =IF(AB40<1,"0d6",IF(AB40<3,"1d6",IF(AB40<6,"2d6",IF(AB40<10,"3d6",IF(AB40<15,"4d6",IF(AB40<21,"5d6",IF(AB40<28,"6d6",IF(AB40<36,"7d6","0d6")))))))) -> 0d6 | AD40: =IF(AB40<1,0,IF(AB40<3,1,IF(AB40<6,2,IF(AB40<10,3,IF(AB40<15,4,IF(AB40<21,5,IF(AB40<28,6,IF(AB40<36,7,0)))))))) -> 0 | AE40: str | AF40: agi | AG40: end | AH40: wil | AI40: int | AJ40: iw2 | AK40: =IF(L107="Ranged",MAX(AF33,AI33),IF(U292="Melee",MAX(AE33,AF33),0)) -> 0 | AN40: =AL47+AO35+AD38 -> 2 | AO40: =VLOOKUP(AN40,AC369:AD439,2,FALSE)+AO39 -> 7 | AP40: meld | AQ40: =IF(J3="Tiny",AO40+8,IF(J3="Small",AO40+4,IF(J3="Medium",AO40,IF(J3="Large",AO40-4,IF(J3="Enormous",AO40-8,AO40))))) -> 7
H41: =H335 | I41: 0 | M41: Standard | Y41: =COUNTIF($AP$5:$AQ$27,X41) -> 0 | Z41: =IF(Y41<1,"0d6",IF(Y41<3,"1d6",IF(Y41<6,"2d6",IF(Y41<10,"3d6",IF(Y41<15,"4d6",IF(Y41<21,"5d6",IF(Y41<28,"6d6",IF(Y41<36,"7d6","0d6")))))))) -> 0d6 | AA41: Mental Defense | AE41: =VLOOKUP(C13,AH174:AI203,2)+C12+G140+AI255+AI258+AK97 -> 2 | AF41: =VLOOKUP(D13,AH174:AI203,2)+D12+F142+AI248+AI250+AI252+AI255+AI258+AK97 -> 2 | AG41: =VLOOKUP(E13,AH174:AI203,2)+E12+C151+AI241+AI246+AI254+AI255+AI258+AK97 -> 2 | AH41: =VLOOKUP(F13,AH174:AI203,2)+F12+F140+AI240+AI242+AI247+AI255+AI258 -> 2 | AI41: =VLOOKUP(G13,AH174:AI203,2)+G12+AI238+AI249+AI253+AI255+AI258 -> 2 | AJ41: mag | AN41: Ranged Defense DP | AO41: =VLOOKUP(P3,'Race Modification'!C2:AE55,28,FALSE)
H42: =H336 | I42: 0 | M42: Standard | Y42: =COUNTIF($AP$5:$AQ$27,X42) -> 0 | Z42: =IF(Y42<1,"0d6",IF(Y42<3,"1d6",IF(Y42<6,"2d6",IF(Y42<10,"3d6",IF(Y42<15,"4d6",IF(Y42<21,"5d6",IF(Y42<28,"6d6",IF(Y42<36,"7d6","0d6")))))))) -> 0d6 | AA42: =AO69 | AB42: =AN69 -> 0 | AC42: =IF(AB42<1,"0d6",IF(AB42<3,"1d6",IF(AB42<6,"2d6",IF(AB42<10,"3d6",IF(AB42<15,"4d6",IF(AB42<21,"5d6",IF(AB42<28,"6d6",IF(AB42<36,"7d6","0d6")))))))) -> 0d6 | AD42: =IF(AB42<1,0,IF(AB42<3,1,IF(AB42<6,2,IF(AB42<10,3,IF(AB42<15,4,IF(AB42<21,5,IF(AB42<28,6,IF(AB42<36,7,0)))))))) -> 0 | AE42: =VLOOKUP(C20,AH174:AI203,2)+C19+M136+AI244+AI250+AI251+AI255+AI258 -> 2 | AF42: =VLOOKUP(D20,AH174:AI203,2)+D19+AI239+AI255+AI258 -> 2 | AG42: =VLOOKUP(E20,AH174:AI203,2)+E19+AI255+AI258 -> 2 | AH42: =VLOOKUP(F20,AH174:AI203,2)+F19+AI255+AI258 -> 0 | AI42: =VLOOKUP(G20,AH174:AI203,2)+G19+AI255+AI258 -> 0 | AJ42: =VLOOKUP(H13,AH174:AI203,2)+H12+AI255+AI258 -> 0 | AN42: =AL49+AD40+AF33 -> 2 | AO42: =VLOOKUP(AN42,AC369:AD439,2,FALSE)+AO41 -> 7 | AP42: rd | AQ42: =IF(J3="Tiny",AO42+8,IF(J3="Small",AO42+4,IF(J3="Medium",AO42,IF(J3="Large",AO42-4,IF(J3="Enormous",AO42-8,AO42))))) -> 7
I43: 0 | M43: Standard | Y43: =COUNTIF($AP$5:$AQ$27,X43) -> 0 | Z43: =IF(Y43<1,"0d6",IF(Y43<3,"1d6",IF(Y43<6,"2d6",IF(Y43<10,"3d6",IF(Y43<15,"4d6",IF(Y43<21,"5d6",IF(Y43<28,"6d6",IF(Y43<36,"7d6","0d6")))))))) -> 0d6 | AA43: Zero-G | AE43: log | AF43: cha | AG43: luc | AH43: rep | AI43: psi | AJ43: =VLOOKUP(H20,AH174:AI203,2)+H19+AI255+AI258 -> 0 | AO43: Defense
I44: Status Tracker | P44: Environment | Y44: =COUNTIF($AP$5:$AQ$27,X44) -> 0 | Z44: =IF(Y44<1,"0d6",IF(Y44<3,"1d6",IF(Y44<6,"2d6",IF(Y44<10,"3d6",IF(Y44<15,"4d6",IF(Y44<21,"5d6",IF(Y44<28,"6d6",IF(Y44<36,"7d6","0d6")))))))) -> 0d6 | AA44: =IF(ISNA(VLOOKUP("Zero-G",X27:Y50,1,FALSE)),"-",VLOOKUP("Zero-G",X27:Y50,1,FALSE)) -> - | AB44: =IF(ISNA(VLOOKUP("Zero-G",X27:Y50,2,FALSE)),0,VLOOKUP("Zero-G",X27:Y50,2,FALSE)) -> 0 | AC44: =IF(AB44<1,"0d6",IF(AB44<3,"1d6",IF(AB44<6,"2d6",IF(AB44<10,"3d6",IF(AB44<15,"4d6",IF(AB44<21,"5d6",IF(AB44<28,"6d6",IF(AB44<36,"7d6","0d6")))))))) -> 0d6 | AD44: =IF(AB44<1,0,IF(AB44<3,1,IF(AB44<6,2,IF(AB44<10,3,IF(AB44<15,4,IF(AB44<21,5,IF(AB44<28,6,IF(AB44<36,7,0)))))))) -> 0 | AJ44: chi | AN44: acrobatics | AO44: =IF(ISNA(VLOOKUP("Acrobatics",X27:Y50,2,FALSE)),0,VLOOKUP("Acrobatics",X27:Y50,2,FALSE)) -> 0 | AP44: =IF(AO44=0,"","Acrobatics") | AQ44: =IF(AO44<1,0,IF(AO44<3,1,IF(AO44<6,2,IF(AO44<10,3,IF(AO44<15,4,IF(AO44<21,5,IF(AO44<28,6,IF(AO44<36,7,0)))))))) -> 0
C45: Skills | I45: =IFERROR(__xludf.DUMMYFUNCTION("IF(ISNA(FILTER(AN284:AN359,AN284:AN359<>"""")),"""",FILTER(AN284:AN359,AN284:AN359<>""""))"),"") | P45: Environment | R45: Select Severity | T45: Damage Type | U45: Difficult Terrain | Y45: 0 | Z45: =IF(Y45<1,"0d6",IF(Y45<3,"1d6",IF(Y45<6,"2d6",IF(Y45<10,"3d6",IF(Y45<15,"4d6",IF(Y45<21,"5d6",IF(Y45<28,"6d6",IF(Y45<36,"7d6","0d6")))))))) -> 0d6 | AA45: High-G | AI45: Mel or | AN45: dodging | AO45: =IF(ISNA(VLOOKUP("Dodging",X27:Y50,2,FALSE)),0,VLOOKUP("Dodging",X27:Y50,2,FALSE)) -> 0 | AP45: =IF(AO45=0,"","Dodging") | AQ45: =IF(AO45<1,0,IF(AO45<3,1,IF(AO45<6,2,IF(AO45<10,3,IF(AO45<15,4,IF(AO45<21,5,IF(AO45<28,6,IF(AO45<36,7,0)))))))) -> 0
C46: =X27 -> Select Skill | D46: =X28 | E46: =X29 | F46: =X30 | G46: =X31 | P46: Select Environment | R46: =VLOOKUP(P46,'Stat Modification'!L3:R50,IF(R45="Select Severity",7,IF(R45="Normal",3,IF(R45="Extreme",4,))),FALSE) | T46: =VLOOKUP(P46,'Stat Modification'!L3:R50,5,FALSE) | U46: =VLOOKUP(P46,'Stat Modification'!L3:R50,6,FALSE) | Y46: 0 | Z46: =IF(Y46<1,"0d6",IF(Y46<3,"1d6",IF(Y46<6,"2d6",IF(Y46<10,"3d6",IF(Y46<15,"4d6",IF(Y46<21,"5d6",IF(Y46<28,"6d6",IF(Y46<36,"7d6","0d6")))))))) -> 0d6 | AA46: =IF(ISNA(VLOOKUP("High-G",X27:Y50,1,FALSE)),"-",VLOOKUP("High-G",X27:Y50,1,FALSE)) -> - | AB46: =IF(ISNA(VLOOKUP("High-G",X27:Y50,2,FALSE)),0,VLOOKUP("High-G",X27:Y50,2,FALSE)) -> 0 | AC46: =IF(AB46<1,"0d6",IF(AB46<3,"1d6",IF(AB46<6,"2d6",IF(AB46<10,"3d6",IF(AB46<15,"4d6",IF(AB46<21,"5d6",IF(AB46<28,"6d6",IF(AB46<36,"7d6","0d6")))))))) -> 0d6 | AD46: =IF(AB46<1,0,IF(AB46<3,1,IF(AB46<6,2,IF(AB46<10,3,IF(AB46<15,4,IF(AB46<21,5,IF(AB46<28,6,IF(AB46<36,7,0)))))))) -> 0 | AG46: Qlty | AH46: Skill | AI46: Rng | AN46: foresight | AO46: =IF(ISNA(VLOOKUP("Foresight",X27:Y50,2,FALSE)),0,VLOOKUP("Foresight",X27:Y50,2,FALSE)) -> 0 | AP46: =IF(AO46=0,"","Foresight") | AQ46: =IF(AO46<1,0,IF(AO46<3,1,IF(AO46<6,2,IF(AO46<10,3,IF(AO46<15,4,IF(AO46<21,5,IF(AO46<28,6,IF(AO46<36,7,0)))))))) -> 0
C47: =IF(Z27="0d6","",Z27) -> 1d6 | D47: =IF(Z28="0d6","",Z28) | E47: =IF(Z29="0d6","",Z29) | F47: =IF(Z30="0d6","",Z30) | G47: =IF(Z31="0d6","",Z31) | R47: Select Severity | Y47: 0 | Z47: =IF(Y47<1,"0d6",IF(Y47<3,"1d6",IF(Y47<6,"2d6",IF(Y47<10,"3d6",IF(Y47<15,"4d6",IF(Y47<21,"5d6",IF(Y47<28,"6d6",IF(Y47<36,"7d6","0d6")))))))) -> 0d6 | AA47: Flying | AD47: =IF(AB47<1,0,IF(AB47<3,1,IF(AB47<6,2,IF(AB47<10,3,IF(AB47<15,4,IF(AB47<21,5,IF(AB47<28,6,IF(AB47<36,7,0)))))))) -> 0 | AF47: MH | AG47: =AH81 -> 0 | AH47: =IF(ISNA(VLOOKUP(N292,AO79:AQ104,3,FALSE)),0,VLOOKUP(N292,AO79:AQ104,3,FALSE)) -> 0 | AI47: =IF(U292="Ranged",0,IF(U292="Melee",AH47,0)) -> 0 | AJ47: =IF(AG47>AI47,"Quality Higher","Fine") -> Fine | AK47: =IF(AJ47="Fine",AG47,AI47) -> 0 | AL47: =MAX(AK47:AK49) -> 0 | AN47: axes | AO47: =IF(ISNA(VLOOKUP("Axes",X27:Y50,2,FALSE)),0,VLOOKUP("Axes",X27:Y50,2,FALSE)) -> 0 | AP47: =IF(AO47=0,"","Axes") | AQ47: =IF(AO47<1,0,IF(AO47<3,1,IF(AO47<6,2,IF(AO47<10,3,IF(AO47<15,4,IF(AO47<21,5,IF(AO47<28,6,IF(AO47<36,7,0)))))))) -> 0
...

Sheet Weapons & Gear
B1: Weapons | O1: Gear/Misc Primary
B2: Qty | C2: Name | D2: Quality | E2: Skill | F2: Damage | G2: Damage Type | H2: Range | I2: Size | J2: Weight | K2: Cost | L2: Special | M2: Weapon Type | O2: Qty | P2: Name | Q2: Quality | R2: Skill | S2: Cost | T2: Weight | U2: Description
B3: 0 | D3: Standard | E3: Untrained | G3: - | M3: - | O3: 0 | Q3: Standard | R3: Untrained
B4: 0 | D4: Standard | E4: Untrained | G4: - | M4: - | O4: 0 | Q4: Standard | R4: Untrained
B5: 0 | D5: Standard | E5: Untrained | G5: - | M5: - | O5: 0 | Q5: Standard | R5: Untrained
B6: 0 | D6: Standard | E6: Untrained | G6: - | M6: - | O6: 0 | Q6: Standard | R6: Untrained
B7: 0 | D7: Standard | E7: Untrained | G7: - | M7: - | O7: 0 | Q7: Standard | R7: Untrained
B8: 0 | D8: Standard | E8: Untrained | G8: - | M8: - | O8: 0 | Q8: Standard | R8: Untrained
B9: 0 | D9: Standard | E9: Untrained | G9: - | M9: - | O9: 0 | Q9: Standard | R9: Untrained
B10: 0 | D10: Standard | E10: Untrained | G10: - | M10: - | O10: 0 | Q10: Standard | R10: Untrained
B11: 0 | D11: Standard | E11: Untrained | G11: - | M11: - | O11: 0 | Q11: Standard | R11: Untrained
B12: 0 | D12: Standard | E12: Untrained | G12: - | M12: - | O12: 0 | Q12: Standard | R12: Untrained
B13: 0 | D13: Standard | E13: Untrained | G13: - | M13: - | O13: 0 | Q13: Standard | R13: Untrained
B14: 0 | D14: Standard | E14: Untrained | G14: - | M14: - | O14: 0 | Q14: Standard | R14: Untrained
... B40: 0 | D40: Standard | E40: Untrained | G40: - | M40: - | O40: 0 | Q40: Standard | R40: Untrained

Sheet Armour & Shields
B1: Armour
B2: Qty | C2: Name | D2: Quality | E2: Skill | F2: Cost | G2: SOAK | H2: Resistance 1 | I2: SOAK | J2: Resistance 2 | K2: SOAK | L2: Resistance 3 | N2: SOAK | O2: Type | P2: Weight | R2: Ineffective 1 | S2: Ineffective 2 | T2: Powered
B3: 0 | D3: Standard | E3: Untrained | H3: - | J3: - | L3: - | O3: - | R3: - | S3: - | T3: -
B4: 0 | D4: Standard | E4: Untrained | H4: - | J4: - | L4: - | O4: - | R4: - | S4: - | T4: -
B5: 0 | D5: Standard | E5: Untrained | H5: - | J5: - | L5: - | O5: - | R5: - | S5: - | T5: -
B6: 0 | D6: Standard | E6: Untrained | H6: - | J6: - | L6: - | O6: - | R6: - | S6: - | T6: -
B7: 0 | D7: Standard | E7: Untrained | H7: - | J7: - | L7: - | O7: - | R7: - | S7: - | T7: -
B8: 0 | D8: Standard | E8: Untrained | H8: - | J8: - | L8: - | O8: - | R8: - | S8: - | T8: -
B9: 0 | D9: Standard | E9: Untrained | H9: - | J9: - | L9: - | O9: - | R9: - | S9: - | T9: -
B10: 0 | D10: Standard | E10: Untrained | H10: - | J10: - | L10: - | O10: - | R10: - | S10: - | T10: -
B11: 0 | D11: Standard | E11: Untrained | H11: - | J11: - | L11: - | O11: - | R11: - | S11: - | T11: -
B12: 0 | D12: Standard | E12: Untrained | H12: - | J12: - | L12: - | O12: - | R12: - | S12: - | T12: -
B13: 0 | D13: Standard | E13: Untrained | H13: - | J13: - | L13: - | O13: - | R13: - | S13: - | T13: -
B14: 0 | D14: Standard | E14: Untrained | H14: - | J14: - | L14: - | O14: - | R14: - | S14: - | T14: -
... B21: 0 | D21: Standard | E21: Untrained | H21: - | J21: - | L21: - | O21: - | R21: - | S21: - | T21: -
B22: Shields | L22: Gauntlets | U22: Unarmed Modification
B23: Qty | C23: Name | D23: Quality | E23: Skill | F23: DEF | G23: Cost | H23: Type | I23: Weight | J23: Damage | L23: Qty | M23: Name | O23: Quality | P23: Cost | Q23: Weight | R23: Damage
B24: 0 | D24: Standard | E24: Untrained | H24: - | L24: 0 | O24: Standard | U24: Name
B25: 0 | D25: Standard | E25: Untrained | H25: - | L25: 0 | O25: Standard
B26: 0 | D26: Standard | E26: Untrained | H26: - | L26: 0 | O26: Standard | U26: Damage Type
B27: 0 | D27: Standard | E27: Untrained | H27: - | L27: 0 | O27: Standard
B28: 0 | D28: Standard | E28: Untrained | H28: - | L28: 0 | O28: Standard
B29: 0 | D29: Standard | E29: Untrained | H29: - | L29: 0 | O29: Standard | U29: Extra Dicepool
B30: 0 | D30: Standard | E30: Untrained | H30: - | L30: 0 | O30: Standard
B31: 0 | D31: Standard | E31: Untrained | H31: - | L31: 0 | O31: Standard
B32: 0 | D32: Standard | E32: Untrained | H32: - | L32: 0 | O32: Standard | U32: Extra Damage
B33: 0 | D33: Standard | E33: Untrained | H33: - | L33: 0 | O33: Standard
B34: 0 | D34: Standard | E34: Untrained | H34: - | L34: 0 | O34: Standard
B35: 0 | D35: Standard | E35: Untrained | H35: - | L35: 0 | O35: Standard | U35: Range
B36: 0 | D36: Standard | E36: Untrained | H36: - | L36: 0 | O36: Standard
B37: 0 | D37: Standard | E37: Untrained | H37: - | L37: 0 | O37: Standard
B38: Helmets | L38: Gear Secondary/Other
B39: Qty | C39: Name | D39: Quality | E39: Skill | F39: SOAK | G39: Cost | H39: Defense | I39: Weight | J39: Type | L39: Qty | M39: Name | O39: Quality | P39: Cost | Q39: Weight | R39: Description
B40: 0 | D40: Standard | E40: Untrained | J40: - | L40: 0 | O40: Standard
B41: 0 | D41: Standard | E41: Untrained | J41: - | L41: 0 | O41: Standard
B42: 0 | D42: Standard | E42: Untrained | J42: - | L42: 0 | O42: Standard
B43: 0 | D43: Standard | E43: Untrained | J43: - | L43: 0 | O43: Standard
B44: 0 | D44: Standard | E44: Untrained | J44: - | L44: 0 | O44: Standard
B45: 0 | D45: Standard | E45: Untrained | J45: - | L45: 0 | O45: Standard
B46: 0 | D46: Standard | E46: Untrained | J46: - | L46: 0 | O46: Standard
...

Sheet Skills & Exploits
B2: Skill | C2: Rank | D2: Dicepool | F2: Skill | G2: Rank | H2: Dicepool | J2: Exploit | K2: Description | V2: Untrained
D3: =IF(ISBLANK(C3),"",VLOOKUP(C3,$S$497:$T$527,2)&"d6") | H3: =IF(ISBLANK(G3),"",VLOOKUP(G3,$S$497:$T$527,2)&"d6") | V3: =IFERROR(__xludf.DUMMYFUNCTION("FILTER({J497:J611;M497:M611;P497:P611},{J497:J611;M497:M611;P497:P611}<>"""")"),"Select Skill") -> Select Skill | W3: =IFERROR(__xludf.DUMMYFUNCTION("FILTER({K497:K611;N497:N611;Q497:Q611},{K497:K611;N497:N611;Q497:Q611}<>"""",{K497:K611;N497:N611;Q497:Q611}<>0)"),"1") -> 1 | X3: =IF(ISBLANK(W3),"",VLOOKUP(W3,$S$497:$T$527,2)) -> 1
D4: =IF(ISBLANK(C4),"",VLOOKUP(C4,$S$497:$T$527,2)&"d6") | H4: =IF(ISBLANK(G4),"",VLOOKUP(G4,$S$497:$T$527,2)&"d6") | X4: =IF(ISBLANK(W4),"",VLOOKUP(W4,$S$497:$T$527,2))
D5: =IF(ISBLANK(C5),"",VLOOKUP(C5,$S$497:$T$527,2)&"d6") | H5: =IF(ISBLANK(G5),"",VLOOKUP(G5,$S$497:$T$527,2)&"d6") | X5: =IF(ISBLANK(W5),"",VLOOKUP(W5,$S$497:$T$527,2))
D6: =IF(ISBLANK(C6),"",VLOOKUP(C6,$S$497:$T$527,2)&"d6") | H6: =IF(ISBLANK(G6),"",VLOOKUP(G6,$S$497:$T$527,2)&"d6") | X6: =IF(ISBLANK(W6),"",VLOOKUP(W6,$S$497:$T$527,2))
D7: =IF(ISBLANK(C7),"",VLOOKUP(C7,$S$497:$T$527,2)&"d6") | H7: =IF(ISBLANK(G7),"",VLOOKUP(G7,$S$497:$T$527,2)&"d6") | X7: =IF(ISBLANK(W7),"",VLOOKUP(W7,$S$497:$T$527,2))
D8: =IF(ISBLANK(C8),"",VLOOKUP(C8,$S$497:$T$527,2)&"d6") | H8: =IF(ISBLANK(G8),"",VLOOKUP(G8,$S$497:$T$527,2)&"d6") | X8: =IF(ISBLANK(W8),"",VLOOKUP(W8,$S$497:$T$527,2))
D9: =IF(ISBLANK(C9),"",VLOOKUP(C9,$S$497:$T$527,2)&"d6") | H9: =IF(ISBLANK(G9),"",VLOOKUP(G9,$S$497:$T$527,2)&"d6") | X9: =IF(ISBLANK(W9),"",VLOOKUP(W9,$S$497:$T$527,2))
D10: =IF(ISBLANK(C10),"",VLOOKUP(C10,$S$497:$T$527,2)&"d6") | H10: =IF(ISBLANK(G10),"",VLOOKUP(G10,$S$497:$T$527,2)&"d6") | X10: =IF(ISBLANK(W10),"",VLOOKUP(W10,$S$497:$T$527,2))
D11: =IF(ISBLANK(C11),"",VLOOKUP(C11,$S$497:$T$527,2)&"d6") | H11: =IF(ISBLANK(G11),"",VLOOKUP(G11,$S$497:$T$527,2)&"d6") | X11: =IF(ISBLANK(W11),"",VLOOKUP(W11,$S$497:$T$527,2))
D12: =IF(ISBLANK(C12),"",VLOOKUP(C12,$S$497:$T$527,2)&"d6") | H12: =IF(ISBLANK(G12),"",VLOOKUP(G12,$S$497:$T$527,2)&"d6") | X12: =IF(ISBLANK(W12),"",VLOOKUP(W12,$S$497:$T$527,2))
D13: =IF(ISBLANK(C13),"",VLOOKUP(C13,$S$497:$T$527,2)&"d6") | H13: =IF(ISBLANK(G13),"",VLOOKUP(G13,$S$497:$T$527,2)&"d6") | X13: =IF(ISBLANK(W13),"",VLOOKUP(W13,$S$497:$T$527,2))
D14: =IF(ISBLANK(C14),"",VLOOKUP(C14,$S$497:$T$527,2)&"d6") | H14: =IF(ISBLANK(G14),"",VLOOKUP(G14,$S$497:$T$527,2)&"d6") | X14: =IF(ISBLANK(W14),"",VLOOKUP(W14,$S$497:$T$527,2))
D15: =IF(ISBLANK(C15),"",VLOOKUP(C15,$S$497:$T$527,2)&"d6") | H15: =IF(ISBLANK(G15),"",VLOOKUP(G15,$S$497:$T$527,2)&"d6") | X15: =IF(ISBLANK(W15),"",VLOOKUP(W15,$S$497:$T$527,2))
... D495: =IF(ISBLANK(C495),"",VLOOKUP(C495,$S$497:$T$527,2)&"d6") | H495: =IF(ISBLANK(G495),"",VLOOKUP(G495,$S$497:$T$527,2)&"d6") | X495: =IF(ISBLANK(W495),"",VLOOKUP(W495,$S$497:$T$527,2))
D496: =IF(ISBLANK(C496),"",VLOOKUP(C496,$S$497:$T$527,2)&"d6") | H496: =IF(ISBLANK(G496),"",VLOOKUP(G496,$S$497:$T$527,2)&"d6") | J496: Skill | K496: Rank | L496: Dice Pool | M496: Skill | N496: Rank | O496: Dice Pool | P496: Skill | Q496: Rank | R496: Dice Pool | S496: Reference Data | X496: =IF(ISBLANK(W496),"",VLOOKUP(W496,$S$497:$T$527,2))
D497: =IF(ISBLANK(C497),"",VLOOKUP(C497,$S$497:$T$527,2)&"d6") | H497: =IF(ISBLANK(G497),"",VLOOKUP(G497,$S$497:$T$527,2)&"d6") | J497: =IFERROR(__xludf.DUMMYFUNCTION("FILTER('Character Sheet'!X27:X49,'Character Sheet'!X27:X49<>"""")"),"Select Skill") -> Select Skill | K497: =IFERROR(__xludf.DUMMYFUNCTION("FILTER('Character Sheet'!Y27:Y49,'Character Sheet'!Y27:Y49<>"""",'Character Sheet'!Y27:Y49<>0)"),"1") -> 1 | L497: =VLOOKUP(K497,$S$497:$T$527,2,TRUE) -> 1 | M497: =IFERROR(__xludf.DUMMYFUNCTION("FILTER(B3:B1000,B3:B1000<>"""")"),"#N/A") -> #N/A | N497: =IFERROR(__xludf.DUMMYFUNCTION("FILTER(B3:B1000,B3:B1000<>"""")"),"#N/A") -> #N/A | O497: =VLOOKUP(N497,$S$497:$T$527,2,TRUE) -> #N/A | P497: =IFERROR(__xludf.DUMMYFUNCTION("FILTER(F3:F1000,F3:F1000<>"""")"),"#N/A") -> #N/A | Q497: =IFERROR(__xludf.DUMMYFUNCTION("FILTER(F3:F1000,F3:F1000<>"""")"),"#N/A") -> #N/A | R497: =VLOOKUP(Q497,$S$497:$T$527,2,TRUE) -> #N/A | S497: -36 | T497: -8 | X497: =IF(ISBLANK(W497),"",VLOOKUP(W497,$S$497:$T$527,2))
D498: =IF(ISBLANK(C498),"",VLOOKUP(C498,$S$497:$T$527,2)&"d6") | H498: =IF(ISBLANK(G498),"",VLOOKUP(G498,$S$497:$T$527,2)&"d6") | L498: =VLOOKUP(K498,$S$497:$T$527,2,TRUE) -> 0 | O498: =VLOOKUP(N498,$S$497:$T$527,2,TRUE) -> 0 | R498: =VLOOKUP(Q498,$S$497:$T$527,2,TRUE) -> 0 | S498: -28 | T498: -7 | X498: =IF(ISBLANK(W498),"",VLOOKUP(W498,$S$497:$T$527,2))
D499: =IF(ISBLANK(C499),"",VLOOKUP(C499,$S$497:$T$527,2)&"d6") | H499: =IF(ISBLANK(G499),"",VLOOKUP(G499,$S$497:$T$527,2)&"d6") | L499: =VLOOKUP(K499,$S$497:$T$527,2,TRUE) -> 0 | O499: =VLOOKUP(N499,$S$497:$T$527,2,TRUE) -> 0 | R499: =VLOOKUP(Q499,$S$497:$T$527,2,TRUE) -> 0 | S499: -21 | T499: -6 | X499: =IF(ISBLANK(W499),"",VLOOKUP(W499,$S$497:$T$527,2))
D500: =IF(ISBLANK(C500),"",VLOOKUP(C500,$S$497:$T$527,2)&"d6") | H500: =IF(ISBLANK(G500),"",VLOOKUP(G500,$S$497:$T$527,2)&"d6") | L500: =VLOOKUP(K500,$S$497:$T$527,2,TRUE) -> 0 | O500: =VLOOKUP(N500,$S$497:$T$527,2,TRUE) -> 0 | R500: =VLOOKUP(Q500,$S$497:$T$527,2,TRUE) -> 0 | S500: -15 | T500: -5 | X500: =IF(ISBLANK(W500),"",VLOOKUP(W500,$S$497:$T$527,2))
D501: =IF(ISBLANK(C501),"",VLOOKUP(C501,$S$497:$T$527,2)&"d6") | H501: =IF(ISBLANK(G501),"",VLOOKUP(G501,$S$497:$T$527,2)&"d6") | L501: =VLOOKUP(K501,$S$497:$T$527,2,TRUE) -> 0 | O501: =VLOOKUP(N501,$S$497:$T$527,2,TRUE) -> 0 | R501: =VLOOKUP(Q501,$S$497:$T$527,2,TRUE) -> 0 | S501: -10 | T501: -4 | X501: =IF(ISBLANK(W501),"",VLOOKUP(W501,$S$497:$T$527,2))
D502: =IF(ISBLANK(C502),"",VLOOKUP(C502,$S$497:$T$527,2)&"d6") | H502: =IF(ISBLANK(G502),"",VLOOKUP(G502,$S$497:$T$527,2)&"d6") | L502: =VLOOKUP(K502,$S$497:$T$527,2,TRUE) -> 0 | O502: =VLOOKUP(N502,$S$497:$T$527,2,TRUE) -> 0 | R502: =VLOOKUP(Q502,$S$497:$T$527,2,TRUE) -> 0 | S502: -6 | T502: -3 | X502: =IF(ISBLANK(W502),"",VLOOKUP(W502,$S$497:$T$527,2))
D503: =IF(ISBLANK(C503),"",VLOOKUP(C503,$S$497:$T$527,2)&"d6") | H503: =IF(ISBLANK(G503),"",VLOOKUP(G503,$S$497:$T$527,2)&"d6") | L503: =VLOOKUP(K503,$S$497:$T$527,2,TRUE) -> 0 | O503: =VLOOKUP(N503,$S$497:$T$527,2,TRUE) -> 0 | R503: =VLOOKUP(Q503,$S$497:$T$527,2,TRUE) -> 0 | S503: -3 | T503: -2 | X503: =IF(ISBLANK(W503),"",VLOOKUP(W503,$S$497:$T$527,2))
D504: =IF(ISBLANK(C504),"",VLOOKUP(C504,$S$497:$T$527,2)&"d6") | H504: =IF(ISBLANK(G504),"",VLOOKUP(G504,$S$497:$T$527,2)&"d6") | L504: =VLOOKUP(K504,$S$497:$T$527,2,TRUE) -> 0 | O504: =VLOOKUP(N504,$S$497:$T$527,2,TRUE) -> 0 | R504: =VLOOKUP(Q504,$S$497:$T$527,2,TRUE) -> 0 | S504: -1 | T504: -1 | X504: =IF(ISBLANK(W504),"",VLOOKUP(W504,$S$497:$T$527,2))
D505: =IF(ISBLANK(C505),"",VLOOKUP(C505,$S$497:$T$527,2)&"d6") | H505: =IF(ISBLANK(G505),"",VLOOKUP(G505,$S$497:$T$527,2)&"d6") | L505: =VLOOKUP(K505,$S$497:$T$527,2,TRUE) -> 0 | O505: =VLOOKUP(N505,$S$497:$T$527,2,TRUE) -> 0 | R505: =VLOOKUP(Q505,$S$497:$T$527,2,TRUE) -> 0 | S505: 0 | T505: 0 | X505: =IF(ISBLANK(W505),"",VLOOKUP(W505,$S$497:$T$527,2))
D506: =IF(ISBLANK(C506),"",VLOOKUP(C506,$S$497:$T$527,2)&"d6") | H506: =IF(ISBLANK(G506),"",VLOOKUP(G506,$S$497:$T$527,2)&"d6") | L506: =VLOOKUP(K506,$S$497:$T$527,2,TRUE) -> 0 | O506: =VLOOKUP(N506,$S$497:$T$527,2,TRUE) -> 0 | R506: =VLOOKUP(Q506,$S$497:$T$527,2,TRUE) -> 0 | S506: 1 | T506: 1 | X506: =IF(ISBLANK(W506),"",VLOOKUP(W506,$S$497:$T$527,2))
D507: =IF(ISBLANK(C507),"",VLOOKUP(C507,$S$497:$T$527,2)&"d6") | H507: =IF(ISBLANK(G507),"",VLOOKUP(G507,$S$497:$T$527,2)&"d6") | L507: =VLOOKUP(K507,$S$497:$T$527,2,TRUE) -> 0 | O507: =VLOOKUP(N507,$S$497:$T$527,2,TRUE) -> 0 | R507: =VLOOKUP(Q507,$S$497:$T$527,2,TRUE) -> 0 | S507: 3 | T507: 2 | X507: =IF(ISBLANK(W507),"",VLOOKUP(W507,$S$497:$T$527,2))
D508: =IF(ISBLANK(C508),"",VLOOKUP(C508,$S$497:$T$527,2)&"d6") | H508: =IF(ISBLANK(G508),"",VLOOKUP(G508,$S$497:$T$527,2)&"d6") | L508: =VLOOKUP(K508,$S$497:$T$527,2,TRUE) -> 0 | O508: =VLOOKUP(N508,$S$497:$T$527,2,TRUE) -> 0 | R508: =VLOOKUP(Q508,$S$497:$T$527,2,TRUE) -> 0 | S508: 6 | T508: 3 | X508: =IF(ISBLANK(W508),"",VLOOKUP(W508,$S$497:$T$527,2))
D509: =IF(ISBLANK(C509),"",VLOOKUP(C509,$S$497:$T$527,2)&"d6") | H509: =IF(ISBLANK(G509),"",VLOOKUP(G509,$S$497:$T$527,2)&"d6") | L509: =VLOOKUP(K509,$S$497:$T$527,2,TRUE) -> 0 | O509: =VLOOKUP(N509,$S$497:$T$527,2,TRUE) -> 0 | R509: =VLOOKUP(Q509,$S$497:$T$527,2,TRUE) -> 0 | S509: 10 | T509: 4 | X509: =IF(ISBLANK(W509),"",VLOOKUP(W509,$S$497:$T$527,2))
... D519: =IF(ISBLANK(C519),"",VLOOKUP(C519,$S$497:$T$527,2)&"d6") | H519: =IF(ISBLANK(G519),"",VLOOKUP(G519,$S$497:$T$527,2)&"d6") | L519: =VLOOKUP(K519,$S$497:$T$527,2,TRUE) -> 0 | O519: =VLOOKUP(N519,$S$497:$T$527,2,TRUE) -> 0 | R519: =VLOOKUP(Q519,$S$497:$T$527,2,TRUE) -> 0 | S519: 105 | T519: 14 | X519: =IF(ISBLANK(W519),"",VLOOKUP(W519,$S$497:$T$527,2))
D520: =IF(ISBLANK(C520),"",VLOOKUP(C520,$S$497:$T$527,2)&"d6") | H520: =IF(ISBLANK(G520),"",VLOOKUP(G520,$S$497:$T$527,2)&"d6") | O520: =VLOOKUP(N520,$S$497:$T$527,2,TRUE) -> 0 | R520: =VLOOKUP(Q520,$S$497:$T$527,2,TRUE) -> 0 | S520: 120 | T520: 15 | X520: =IF(ISBLANK(W520),"",VLOOKUP(W520,$S$497:$T$527,2))
D521: =IF(ISBLANK(C521),"",VLOOKUP(C521,$S$497:$T$527,2)&"d6") | H521: =IF(ISBLANK(G521),"",VLOOKUP(G521,$S$497:$T$527,2)&"d6") | O521: =VLOOKUP(N521,$S$497:$T$527,2,TRUE) -> 0 | R521: =VLOOKUP(Q521,$S$497:$T$527,2,TRUE) -> 0 | S521: 136 | T521: 16 | X521: =IF(ISBLANK(W521),"",VLOOKUP(W521,$S$497:$T$527,2))
D522: =IF(ISBLANK(C522),"",VLOOKUP(C522,$S$497:$T$527,2)&"d6") | H522: =IF(ISBLANK(G522),"",VLOOKUP(G522,$S$497:$T$527,2)&"d6") | O522: =VLOOKUP(N522,$S$497:$T$527,2,TRUE) -> 0 | R522: =VLOOKUP(Q522,$S$497:$T$527,2,TRUE) -> 0 | S522: 153 | T522: 17 | X522: =IF(ISBLANK(W522),"",VLOOKUP(W522,$S$497:$T$527,2))
D523: =IF(ISBLANK(C523),"",VLOOKUP(C523,$S$497:$T$527,2)&"d6") | H523: =IF(ISBLANK(G523),"",VLOOKUP(G523,$S$497:$T$527,2)&"d6") | O523: =VLOOKUP(N523,$S$497:$T$527,2,TRUE) -> 0 | R523: =VLOOKUP(Q523,$S$497:$T$527,2,TRUE) -> 0 | S523: 171 | T523: 18 | X523: =IF(ISBLANK(W523),"",VLOOKUP(W523,$S$497:$T$527,2))
D524: =IF(ISBLANK(C524),"",VLOOKUP(C524,$S$497:$T$527,2)&"d6") | H524: =IF(ISBLANK(G524),"",VLOOKUP(G524,$S$497:$T$527,2)&"d6") | O524: =VLOOKUP(N524,$S$497:$T$527,2,TRUE) -> 0 | R524: =VLOOKUP(Q524,$S$497:$T$527,2,TRUE) -> 0 | S524: 190 | T524: 19 | X524: =IF(ISBLANK(W524),"",VLOOKUP(W524,$S$497:$T$527,2))
D525: =IF(ISBLANK(C525),"",VLOOKUP(C525,$S$497:$T$527,2)&"d6") | H525: =IF(ISBLANK(G525),"",VLOOKUP(G525,$S$497:$T$527,2)&"d6") | O525: =VLOOKUP(N525,$S$497:$T$527,2,TRUE) -> 0 | R525: =VLOOKUP(Q525,$S$497:$T$527,2,TRUE) -> 0 | S525: 210 | T525: 20 | X525: =IF(ISBLANK(W525),"",VLOOKUP(W525,$S$497:$T$527,2))
D526: =IF(ISBLANK(C526),"",VLOOKUP(C526,$S$497:$T$527,2)&"d6") | H526: =IF(ISBLANK(G526),"",VLOOKUP(G526,$S$497:$T$527,2)&"d6") | O526: =VLOOKUP(N526,$S$497:$T$527,2,TRUE) -> 0 | R526: =VLOOKUP(Q526,$S$497:$T$527,2,TRUE) -> 0 | S526: 231 | T526: 21 | X526: =IF(ISBLANK(W526),"",VLOOKUP(W526,$S$497:$T$527,2))
D527: =IF(ISBLANK(C527),"",VLOOKUP(C527,$S$497:$T$527,2)&"d6") | H527: =IF(ISBLANK(G527),"",VLOOKUP(G527,$S$497:$T$527,2)&"d6") | O527: =VLOOKUP(N527,$S$497:$T$527,2,TRUE) -> 0 | R527: =VLOOKUP(Q527,$S$497:$T$527,2,TRUE) -> 0 | T527: 0 | X527: =IF(ISBLANK(W527),"",VLOOKUP(W527,$S$497:$T$527,2))
D528: =IF(ISBLANK(C528),"",VLOOKUP(C528,$S$497:$T$527,2)&"d6") | H528: =IF(ISBLANK(G528),"",VLOOKUP(G528,$S$497:$T$527,2)&"d6") | O528: =VLOOKUP(N528,$S$497:$T$527,2,TRUE) -> 0 | R528: =VLOOKUP(Q528,$S$497:$T$527,2,TRUE) -> 0 | X528: =IF(ISBLANK(W528),"",VLOOKUP(W528,$S$497:$T$527,2))
D529: =IF(ISBLANK(C529),"",VLOOKUP(C529,$S$497:$T$527,2)&"d6") | H529: =IF(ISBLANK(G529),"",VLOOKUP(G529,$S$497:$T$527,2)&"d6") | O529: =VLOOKUP(N529,$S$497:$T$527,2,TRUE) -> 0 | R529: =VLOOKUP(Q529,$S$497:$T$527,2,TRUE) -> 0 | X529: =IF(ISBLANK(W529),"",VLOOKUP(W529,$S$497:$T$527,2))
...

Sheet Stat Block
A4: =CONCATENATE("STR"," ",'Character Sheet'!C13," ","(",'Character Sheet'!C10,")") -> STR 3 (2d6) | B4: =CONCATENATE("AGI"," ",'Character Sheet'!D13," ","(",'Character Sheet'!D10,")") -> AGI 3 (2d6) | C4: =CONCATENATE("END"," ",'Character Sheet'!E13," ","(",'Character Sheet'!E10,")") -> END 3 (2d6) | D4: =CONCATENATE("MAG"," ",'Character Sheet'!H13," ","(",'Character Sheet'!H10,")") -> MAG 0 (0d6)
A5: =CONCATENATE("WIL"," ",'Character Sheet'!F13," ","(",'Character Sheet'!F10,")") -> WIL 3 (2d6) | B5: =CONCATENATE("INT"," ",'Character Sheet'!G13," ","(",'Character Sheet'!G10,")") -> INT 3 (2d6) | C5: =CONCATENATE("LOG"," ",'Character Sheet'!C20," ","(",'Character Sheet'!C17,")") -> LOG 3 (2d6) | D5: =CONCATENATE("CHA"," ",'Character Sheet'!D20," ","(",'Character Sheet'!D17,")") -> CHA 3 (2d6) | E5: =IF('Character Sheet'!I302="Nothing",";",CONCATENATE(" (",'Character Sheet'!I302,")")) -> ; | F5: =IF('Character Sheet'!H2="None","-",'Character Sheet'!H2) -> - | G5: =CONCATENATE("REACH"," ",IF(E28="ACTIONS 0",5,IF(E28="ACTIONS 2",5,IF(E28="ACTIONS 3",10,IF(E28="ACTIONS 4",15,IF(E28="ACTIONS 5",20,IF(E28="ACTIONS 6",30,0))))))) -> REACH 5 | H5: =IF('Character Sheet'!C20<3,"semi-sentient",IF('Character Sheet'!C20<20,"sentient","super-sentient")) -> sentient
A6: =CONCATENATE("LUC"," ",'Character Sheet'!E20," ","(",'Character Sheet'!E17,")") -> LUC 3 (2d6) | B6: =CONCATENATE("REP"," ",'Character Sheet'!F20," ","(",'Character Sheet'!F17,")") -> REP 0 (0d6) | C6: =CONCATENATE("PSI"," ",'Character Sheet'!G20," ","(",'Character Sheet'!G17,")") -> PSI 0 (0d6) | D6: =IF('Character Sheet'!P74="-",";","") | E6: =IF(ISBLANK('Character Sheet'!P74),"-",CONCATENATE('Character Sheet'!P74,", ",'Character Sheet'!R74,", ",'Character Sheet'!S74,", ",'Character Sheet'!U74)) -> -
E9: ='Character Sheet'!D3
I10: =IFERROR(__xludf.DUMMYFUNCTION("IF(ISNA(FILTER(I30:I52,I30:I52<>"""")),"""",FILTER(I30:I52,I30:I52<>""""))"),"") | J10: =IFERROR(__xludf.DUMMYFUNCTION("IF(ISNA(FILTER(K30:K52,K30:K52<>"""")),"""",FILTER(K30:K52,K30:K52<>""""))"),"")
E11: =CONCATENATE('Character Sheet'!J3," ",H5," ",'Character Sheet'!D2," ","(",'Character Sheet'!C6,"d6",")") -> Select Size sentient Voidanoid (5d6)
A12: =IFERROR(__xludf.DUMMYFUNCTION("UNIQUE('Character Sheet'!L35:L59)"),"") | B12: =IF(A12="Nothing","",IF(A12="Name","",IF(ISTEXT(A12),CONCATENATE(A12,", "),""))) | C12: =IFERROR(__xludf.DUMMYFUNCTION("FILTER(B12:B31,B12:B31<>"""")"),"#N/A") -> #N/A | E12: =CONCATENATE("A"," ",'Character Sheet'!M3," ",'Character Sheet'!P3," ",'Character Sheet'!R3," ",'Character Sheet'!S3," ",'Character Sheet'!T3) -> A (trait) Select Race Career who (hook)
B13: =IF(A13="Nothing","",IF(A13="Name","",IF(ISTEXT(A13),CONCATENATE(A13,", "),"")))
B14: =IF(A14="Nothing","",IF(A14="Name","",IF(ISTEXT(A14),CONCATENATE(A14,", "),""))) | E14: =CONCATENATE(A4," ",B4," ",C4) -> STR 3 (2d6) AGI 3 (2d6) END 3 (2d6)
B15: =IF(A15="Nothing","",IF(A15="Name","",IF(ISTEXT(A15),CONCATENATE(A15,", "),""))) | E15: =CONCATENATE(B5," ",C5," ",A5," ",D5) -> INT 3 (2d6) LOG 3 (2d6) WIL 3 (2d6) CHA 3 (2d6)
B16: =IF(A16="Nothing","",IF(A16="Name","",IF(ISTEXT(A16),CONCATENATE(A16,", "),""))) | E16: =CONCATENATE(A6," ",B6," ",C6," ",D4) -> LUC 3 (2d6) REP 0 (0d6) PSI 0 (0d6) MAG 0 (0d6)
B17: =IF(A17="Nothing","",IF(A17="Name","",IF(ISTEXT(A17),CONCATENATE(A17,", "),""))) | E17: =CONCATENATE("HEALTH"," ",'Character Sheet'!C28) -> HEALTH 16
B18: =IF(A18="Nothing","",IF(A18="Name","",IF(ISTEXT(A18),CONCATENATE(A18,", "),"")))
B19: =IF(A19="Nothing","",IF(A19="Name","",IF(ISTEXT(A19),CONCATENATE(A19,", "),""))) | E19: =CONCATENATE("MELEE DEFENSE"," ",'Character Sheet'!C25,";"," ","RANGED DEFENSE"," ",'Character Sheet'!D25,";") -> MELEE DEFENSE 10; RANGED DEFENSE 10;
B20: =IF(A20="Nothing","",IF(A20="Name","",IF(ISTEXT(A20),CONCATENATE(A20,", "),""))) | E20: =CONCATENATE("MENTAL DEFENSE"," ",'Character Sheet'!E25) -> MENTAL DEFENSE 10
B21: =IF(A21="Nothing","",IF(A21="Name","",IF(ISTEXT(A21),CONCATENATE(A21,", "),""))) | E21: =CONCATENATE("SOAK"," ",'Character Sheet'!G25,E5," ","VULN"," ",F5,"; ","immune ",E6) -> SOAK 0; VULN -; immune -
B22: =IF(A22="Nothing","",IF(A22="Name","",IF(ISTEXT(A22),CONCATENATE(A22,", "),"")))
B23: =IF(A23="Nothing","",IF(A23="Name","",IF(ISTEXT(A23),CONCATENATE(A23,", "),""))) | E23: =CONCATENATE("STATUS IMMUNITIES"," ",'Character Sheet'!P76," ",'Character Sheet'!R76," ",'Character Sheet'!S76," ",'Character Sheet'!U76) -> STATUS IMMUNITIES
B24: =IF(A24="Nothing","",IF(A24="Name","",IF(ISTEXT(A24),CONCATENATE(A24,", "),""))) | E24: INITIATIVE | F24: ='Character Sheet'!D33 -> 2d6
B25: =IF(A25="Nothing","",IF(A25="Name","",IF(ISTEXT(A25),CONCATENATE(A25,", "),""))) | E25: PERCEPTION | F25: ='Character Sheet'!G33 -> -
B26: =IF(A26="Nothing","",IF(A26="Name","",IF(ISTEXT(A26),CONCATENATE(A26,", "),""))) | E26: =CONCATENATE("SPEED"," ",'Character Sheet'!E28) -> SPEED 4 | F26: =CONCATENATE("CLIMB"," ",'Character Sheet'!F28) -> CLIMB 2 | G26: =CONCATENATE("JUMP"," ",'Character Sheet'!C31) -> JUMP 6'/3'
B27: =IF(A27="Nothing","",IF(A27="Name","",IF(ISTEXT(A27),CONCATENATE(A27,", "),""))) | E27: =CONCATENATE("CARRY ",'Character Sheet'!AI96,"lb"," (max lift ",'Character Sheet'!AG98,"lb)") -> CARRY 60lb (max lift 150lb)
B28: =IF(A28="Nothing","",IF(A28="Name","",IF(ISTEXT(A28),CONCATENATE(A28,", "),""))) | E28: =CONCATENATE("ACTIONS"," ",IF(OR('Character Sheet'!J3="Tiny",'Character Sheet'!J3="Small",'Character Sheet'!J3="Medium",'Character Sheet'!J3="Large"),2,IF('Character Sheet'!J3="Enormous",3,IF('Character Sheet'!J3="Gigantic",4,IF('Character Sheet'!J3="Colossal",5,IF('Character Sheet'!J3="Titanic",6,0)))))) -> ACTIONS 0
B29: =IF(A29="Nothing","",IF(A29="Name","",IF(ISTEXT(A29),CONCATENATE(A29,", "),""))) | E29: =CONCATENATE("NATURAL DAMAGE"," ",'Character Sheet'!E329) -> NATURAL DAMAGE 0d6+2
B30: =IF(A30="Nothing","",IF(A30="Name","",IF(ISTEXT(A30),CONCATENATE(A30,", "),""))) | E30: =CONCATENATE(G5,"'") -> REACH 5' | I30: =IFERROR(__xludf.DUMMYFUNCTION("UNIQUE('Character Sheet'!I7:L25)"),"#REF!") -> #REF! | K30: =IFERROR(__xludf.DUMMYFUNCTION("UNIQUE('Character Sheet'!M7:U25)"),"")
B31: =IF(A31="Nothing","",IF(A31="Name","",IF(ISTEXT(A31),CONCATENATE(A31,", "),"")))
E32: =" "&'Character Sheet'!C36
B33: =CONCATENATE('Character Sheet'!X27," ",'Character Sheet'!Y27," ") -> Select Skill 1 | C33: =CONCATENATE("(",'Character Sheet'!Z27,"), ") -> (1d6),
B34: =CONCATENATE('Character Sheet'!X28," ",'Character Sheet'!Y28," ") -> 0 | C34: =CONCATENATE("(",'Character Sheet'!Z28,"), ") -> (0d6), | E34: =" "&'Character Sheet'!C37
B35: =CONCATENATE('Character Sheet'!X29," ",'Character Sheet'!Y29," ") -> 0 | C35: =CONCATENATE("(",'Character Sheet'!Z29,"), ") -> (0d6),
B36: =CONCATENATE('Character Sheet'!X30," ",'Character Sheet'!Y30," ") -> 0 | C36: =CONCATENATE("(",'Character Sheet'!Z30,"), ") -> (0d6), | E36: =" "&'Character Sheet'!C38
B37: =CONCATENATE('Character Sheet'!X31," ",'Character Sheet'!Y31," ") -> 0 | C37: =CONCATENATE("(",'Character Sheet'!Z31,"), ") -> (0d6),
B38: =CONCATENATE('Character Sheet'!X32," ",'Character Sheet'!Y32," ") -> 0 | C38: =CONCATENATE("(",'Character Sheet'!Z32,"), ") -> (0d6), | E38: =IF(B33="Select Skill 1 ","",CONCATENATE(" Skills - ",B58:C80))
B39: =CONCATENATE('Character Sheet'!X33," ",'Character Sheet'!Y33," ") -> 0 | C39: =CONCATENATE("(",'Character Sheet'!Z33,"), ") -> (0d6),
B40: =CONCATENATE('Character Sheet'!X34," ",'Character Sheet'!Y34," ") -> 0 | C40: =CONCATENATE("(",'Character Sheet'!Z34,"), ") -> (0d6),
B41: =CONCATENATE('Character Sheet'!X35," ",'Character Sheet'!Y35," ") -> 0 | C41: =CONCATENATE("(",'Character Sheet'!Z35,"), ") -> (0d6),
B42: =CONCATENATE('Character Sheet'!X36," ",'Character Sheet'!Y36," ") -> 0 | C42: =CONCATENATE("(",'Character Sheet'!Z36,"), ") -> (0d6),
B43: =CONCATENATE('Character Sheet'!X37," ",'Character Sheet'!Y37," ") -> 0 | C43: =CONCATENATE("(",'Character Sheet'!Z37,"), ") -> (0d6),
B44: =CONCATENATE('Character Sheet'!X38," ",'Character Sheet'!Y38," ") -> 0 | C44: =CONCATENATE("(",'Character Sheet'!Z38,"), ") -> (0d6),
B45: =CONCATENATE('Character Sheet'!X39," ",'Character Sheet'!Y39," ") -> 0 | C45: =CONCATENATE("(",'Character Sheet'!Z39,"), ") -> (0d6),
...

Sheet Race Modification
B1: Race Type | C1: Name | D1: STR | E1: AGI | F1: END | G1: INT | H1: WIL | I1: LOG | J1: CHA | K1: LUC | L1: REP | M1: PSI | N1: MAG | O1: CHI | P1: =VLOOKUP('Character Sheet'!P3,C2:S56,14,FALSE) | Q1: =VLOOKUP('Character Sheet'!P3,C2:S56,15,FALSE) | R1: =VLOOKUP('Character Sheet'!P3,C2:S56,16,FALSE) | S1: Select Size | T1: Adult | U1: Old | V1: n/a | W1: Jump Horizontal | X1: Jump Vertical | Y1: Resistance (SOAK) 1 | Z1: Val | AA1: Resistance (SOAK) 2 | AB1: Val | AC1: Melee Defense | AD1: Ranged Defense | AE1: Mental Defense | AF1: SPEED | AG1: Climb | AH1: Swim | AI1: High-g | AJ1: Low-g | AK1: Zero-g | AL1: Fly | AM1: Health | AN1: Actions | AO1: Perception | AP1: Initiative | AQ1: Unarmed Bonus | AR1: Unarmed Type | AS1: Range | AT1: Carry Percent | AU1: Initiative | AV1: Vulnerability 1 | AW1: Val | AX1: Vulnerability 2 | AY1: Val | AZ1: Immune 1 | BA1: Immune 2 | BB1: Natural Attack Name 1 | BC1: Damage Type 1 | BD1: Damage Type 2 | BE1: Damage | BF1: Range | BG1: Special | BH1: Melee or Ranged | BI1: Natural Attack Name 2 | BJ1: Damage Type 1 | BK1: Damage Type 2 | BL1: Damage | BM1: Range | BN1: Special | BO1: Melee or Ranged | BP1: Resolve
A2: 1 | B2: Voidanoid | C2: Select Race | S2: =B2 -> Voidanoid | Y2: - | AA2: - | AR2: - | AV2: - | AX2: - | AZ2: - | BA2: - | BC2: - | BD2: - | BH2: - | BJ2: - | BK2: - | BO2: -
A3: 2 | B3: Humanoid | C3: Human | K3: 2 | P3: Medium | S3: =B3 -> Humanoid | T3: 26 | U3: 60 | Y3: - | AA3: - | AR3: - | AV3: - | AX3: - | AZ3: - | BA3: - | BC3: - | BD3: - | BH3: - | BJ3: - | BK3: - | BO3: -
A4: 3 | B4: Humanoid | C4: Borian | F4: 1 | G4: 1 | J4: 1 | P4: Small | S4: =B4 -> Humanoid | T4: 90 | U4: 210 | Y4: - | AA4: - | AR4: - | AV4: - | AX4: - | AZ4: Poison | BA4: - | BC4: - | BD4: - | BH4: - | BJ4: - | BK4: - | BO4: -
A5: 4 | B5: Humanoid | C5: Ogron | D5: 2 | F5: 2 | P5: Large | S5: =B5 -> Humanoid | T5: 20 | U5: 40 | Y5: - | AA5: - | AE5: 4 | AR5: - | AT5: 50 | AV5: - | AX5: - | AZ5: - | BA5: - | BC5: - | BD5: - | BH5: - | BJ5: - | BK5: - | BO5: -
A6: 5 | B6: Humanoid | C6: Felan | E6: 2 | G6: 1 | J6: 1 | K6: 1 | P6: Medium | S6: =B6 -> Humanoid | T6: 12 | U6: 40 | W6: 5 | X6: 5 | Y6: - | AA6: - | AF6: 2 | AQ6: 1 | AR6: Slashing | AV6: - | AX6: - | AZ6: - | BA6: - | BC6: - | BD6: - | BH6: - | BJ6: - | BK6: - | BO6: -
A7: 6 | B7: Humanoid | C7: Spartan | D7: 1 | E7: 1 | F7: 1 | P7: Medium | S7: =B7 -> Humanoid | T7: 31 | U7: 70 | Y7: - | AA7: - | AR7: - | AV7: - | AX7: - | AZ7: - | BA7: - | BC7: - | BD7: - | BH7: - | BJ7: - | BK7: - | BO7: -
A8: 7 | B8: Mechanoid | C8: Android | D8: 2 | I8: 2 | K8: -3 | P8: Small | Q8: Medium | R8: Large | S8: =B8 -> Mechanoid | Y8: - | AA8: - | AE8: Immune | AR8: - | AV8: Electricity | AW8: 1 | AX8: Ion | AY8: 2 | AZ8: - | BA8: - | BC8: - | BD8: - | BH8: - | BJ8: - | BK8: - | BO8: -
A9: 8 | B9: Humanoid | C9: Venetian | E9: 1 | I9: 2 | K9: -2 | M9: 3 | P9: Medium | S9: =B9 -> Humanoid | T9: 190 | U9: 550 | Y9: - | AA9: - | AR9: - | AV9: - | AX9: - | AZ9: - | BA9: - | BC9: - | BD9: - | BH9: - | BJ9: - | BK9: - | BO9: -
A10: 9 | B10: Fey | C10: Grand Elf | E10: 2 | I10: 2 | K10: -2 | N10: 3 | P10: Medium | S10: =B10 -> Fey | T10: 190 | U10: 550 | Y10: - | AA10: - | AR10: - | AV10: - | AX10: - | AZ10: - | BA10: - | BC10: - | BD10: - | BH10: - | BJ10: - | BK10: - | BO10: -
A11: 10 | B11: Goblinoid | C11: Ogre | D11: 3 | F11: 3 | P11: Large | S11: =B11 -> Goblinoid | Y11: Natural | Z11: 2 | AA11: Acid | AB11: 5 | AR11: - | AV11: - | AX11: - | AZ11: - | BA11: - | BC11: - | BD11: - | BH11: - | BJ11: - | BK11: - | BO11: -
A12: 11 | B12: Fey | C12: Sylvan Elf | E12: 2 | F12: 2 | N12: 3 | P12: Medium | S12: =B12 -> Fey | Y12: - | AA12: - | AG12: Equal | AR12: - | AV12: - | AX12: - | AZ12: - | BA12: - | BC12: - | BD12: - | BH12: - | BJ12: - | BK12: - | BO12: -
A13: 12 | B13: Humanoid | C13: Smallfolk | E13: 2 | J13: 2 | K13: 2 | N13: 1 | P13: Small | S13: =B13 -> Humanoid | Y13: - | AA13: - | AC13: 5 | AD13: 5 | AE13: 5 | AR13: - | AV13: - | AX13: - | AZ13: - | BA13: - | BC13: - | BD13: - | BH13: - | BJ13: - | BK13: - | BO13: -
A14: 13 | B14: Humanoid | C14: Orc | D14: 2 | E14: 2 | G14: 3 | P14: Medium | S14: =B14 -> Humanoid | Y14: - | AA14: - | AC14: -2 | AD14: -2 | AR14: - | AV14: - | AX14: - | AZ14: - | BA14: - | BC14: - | BD14: - | BH14: - | BJ14: - | BK14: - | BO14: -
A15: 14 | B15: Humanoid | C15: Mountain Dwarf | F15: 2 | H15: 2 | P15: Small | S15: =B15 -> Humanoid | Y15: - | AA15: - | AR15: - | AV15: - | AX15: - | AZ15: Poison | BA15: - | BC15: - | BD15: - | BH15: - | BJ15: - | BK15: - | BO15: -
A16: 15 | B16: Plantoid | C16: Solurial | D16: 1 | E16: -1 | F16: 2 | H16: 1 | P16: Large | S16: =B16 -> Plantoid | T16: 120 | U16: 820 | Y16: Natural | Z16: 5 | AA16: Natural | AB16: 5 | AF16: -2 | AP16: -1 | AR16: - | AV16: Heat | AW16: 1 | AX16: - | AZ16: - | BA16: - | BB16: Lashing Vines | BC16: Slashing | BD16: - | BE16: 2 | BF16: 4 | BH16: Melee | BJ16: - | BK16: - | BO16: -
A17: 16 | B17: Humanoid | C17: Drahzik | D17: 1 | F17: 1 | G17: 2 | L17: 1 | P17: Medium | S17: =B17 -> Humanoid | T17: 25 | U17: 70 | Y17: - | AA17: - | AO17: 1 | AR17: - | AV17: Cold | AW17: 1 | AX17: - | AZ17: - | BA17: - | BC17: - | BD17: - | BH17: - | BJ17: - | BK17: - | BO17: -
A18: 17 | B18: Crystalline | C18: Houseki | D18: 2 | E18: -1 | H18: 1 | I18: 1 | M18: 1 | P18: Small | Q18: Medium | R18: Large | S18: =B18 -> Crystalline | T18: 40 | U18: 150 | Y18: Natural | Z18: 5 | AA18: - | AF18: -1 | AP18: -1 | AR18: Piercing | AV18: Sonic | AW18: 1 | AX18: - | AZ18: - | BA18: - | BC18: - | BD18: - | BH18: - | BJ18: - | BK18: - | BO18: -
A19: 18 | B19: Insectoid | C19: Pajak | E19: 2 | F19: -1 | G19: 2 | J19: -1 | P19: Medium | S19: =B19 -> Insectoid | T19: 15 | U19: 50 | Y19: - | AA19: - | AG19: Equal | AO19: 1 | AR19: - | AT19: -50 | AV19: - | AX19: - | AZ19: - | BA19: - | BB19: Poison Bite | BC19: Piercing | BD19: Poison | BE19: 2 | BF19: 1 | BH19: Melee | BJ19: - | BK19: - | BO19: -
A20: 19 | B20: Humanoid | C20: Jamila | G20: 2 | J20: 2 | M20: 1 | P20: Medium | S20: =B20 -> Humanoid | T20: 25 | U20: 75 | Y20: - | AA20: - | AR20: - | AV20: - | AX20: - | AZ20: - | BA20: - | BB20: Drain Life Force | BC20: Psionic | BD20: - | BE20: 1 | BF20: 1 | BG20: Heals self for damage done | BH20: Melee | BJ20: - | BK20: - | BO20: -
A21: 20 | B21: Humanoid | C21: Zetan | E21: 2 | G21: 2 | H21: -1 | K21: 1 | P21: Medium | S21: =B21 -> Humanoid | T21: 12 | U21: 40 | Y21: - | AA21: - | AC21: 4 | AD21: 4 | AE21: -4 | AN21: 1 | AR21: - | AV21: - | AX21: - | AZ21: - | BA21: - | BC21: - | BD21: - | BH21: - | BJ21: - | BK21: - | BO21: -
A22: 21 | B22: Crystalline | C22: Kryte | D22: -1 | H22: 2 | I22: 2 | M22: 3 | P22: Large | S22: =B22 -> Crystalline | T22: 26 | U22: 60 | Y22: Natural | Z22: 5 | AA22: - | AP22: -1 | AR22: - | AV22: Sonic | AW22: 1 | AX22: - | AZ22: - | BA22: - | BC22: - | BD22: - | BH22: - | BJ22: - | BK22: - | BO22: -
A23: 22 | B23: Crystalline | C23: Metallic Kryte | D23: -1 | H23: 2 | I23: 2 | M23: 3 | P23: Large | S23: =B23 -> Crystalline | T23: 26 | U23: 60 | Y23: Natural | Z23: 7 | AA23: - | AF23: -1 | AR23: - | AV23: Electricity | AW23: 1 | AX23: - | AZ23: - | BA23: - | BC23: - | BD23: - | BH23: - | BJ23: - | BK23: - | BO23: -
A24: 23 | B24: Crystalline | C24: Reflective Kryte | D24: -1 | H24: 2 | I24: 2 | M24: 3 | P24: Large | S24: =B24 -> Crystalline | T24: 26 | U24: 60 | Y24: - | AA24: - | AR24: - | AV24: Sonic | AW24: 1 | AX24: - | AZ24: - | BA24: - | BC24: - | BD24: - | BH24: - | BJ24: - | BK24: - | BO24: -
A25: 24 | B25: Humanoid | C25: Clone | D25: 1 | E25: 1 | F25: 1 | G25: 1 | H25: 1 | I25: 1 | P25: Medium | S25: =B25 -> Humanoid | T25: 52 | U25: 120 | Y25: - | AA25: - | AR25: - | AV25: - | AX25: - | AZ25: - | BA25: - | BC25: - | BD25: - | BH25: - | BJ25: - | BK25: - | BO25: -
A26: 25 | B26: Humanoid | C26: Belter | E26: 2 | G26: 2 | K26: 1 | P26: Medium | S26: =B26 -> Humanoid | T26: 26 | U26: 60 | Y26: - | AA26: - | AD26: 2 | AJ26: Equal | AK26: Equal | AR26: - | AV26: - | AX26: - | AZ26: - | BA26: - | BC26: - | BD26: - | BH26: - | BJ26: - | BK26: - | BO26: -
A27: 26 | B27: Humanoid | C27: Jovian | D27: 1 | F27: 2 | H27: 1 | P27: Medium | S27: =B27 -> Humanoid | T27: 26 | U27: 60 | Y27: Natural | Z27: 3 | AA27: - | AE27: 2 | AI27: Equal | AM27: 7 | AR27: - | AV27: - | AX27: - | AZ27: - | BA27: - | BC27: - | BD27: - | BH27: - | BJ27: - | BK27: - | BO27: -
A28: 27 | B28: Humanoid | C28: Warped | G28: 2 | H28: 2 | J28: -1 | M28: 2 | P28: Medium | S28: =B28 -> Humanoid | T28: 26 | U28: 60 | Y28: - | AA28: - | AE28: 4 | AR28: - | AV28: - | AX28: - | AZ28: - | BA28: - | BC28: - | BD28: - | BH28: - | BJ28: - | BK28: - | BO28: -
A29: 28 | B29: Humanoid | C29: Flint Dwarf | D29: 2 | H29: 1 | J29: 1 | P29: Small | S29: =B29 -> Humanoid | Y29: - | AA29: - | AR29: - | AV29: - | AX29: - | AZ29: - | BA29: - | BC29: - | BD29: - | BH29: - | BJ29: - | BK29: - | BO29: -
A30: 29 | B30: Humanoid | C30: Jade Dwarf | H30: 1 | I30: 1 | J30: 2 | P30: Small | S30: =B30 -> Humanoid | Y30: - | AA30: - | AR30: - | AV30: - | AX30: - | AZ30: - | BA30: - | BC30: - | BD30: - | BH30: - | BJ30: - | BK30: - | BO30: -
A31: 30 | B31: Humanoid | C31: Obsidian Dwarf | G31: 2 | I31: 2 | P31: Small | S31: =B31 -> Humanoid | Y31: Heat | Z31: 5 | AA31: Natural | AB31: 2 | AR31: - | AV31: Cold | AW31: 1 | AX31: - | AZ31: - | BA31: - | BC31: - | BD31: - | BH31: - | BJ31: - | BK31: - | BO31: -
A32: 31 | B32: Fey | C32: Night Elf | E32: 1 | G32: 1 | J32: 1 | N32: 1 | P32: Medium | S32: =B32 -> Fey | T32: 30 | U32: 100 | Y32: Poison | Z32: 10 | AA32: - | AR32: - | AV32: - | AX32: - | AZ32: - | BA32: - | BC32: - | BD32: - | BH32: - | BJ32: - | BK32: - | BO32: -
A33: 32 | B33: Fey | C33: Faun | E33: 1 | J33: 2 | N33: 2 | P33: Medium | S33: =B33 -> Fey | T33: 17 | U33: 70 | Y33: - | AA33: - | AF33: 2 | AR33: - | AV33: - | AX33: - | AZ33: - | BA33: - | BC33: - | BD33: - | BH33: - | BJ33: - | BK33: - | BO33: -
A34: 33 | B34: Fey | C34: Gremlin | E34: 1 | I34: 2 | N34: 3 | P34: Small | S34: =B34 -> Fey | T34: 10 | U34: 100 | Y34: - | AA34: - | AR34: - | AV34: - | AX34: - | AZ34: - | BA34: - | BC34: - | BD34: - | BH34: - | BJ34: - | BK34: - | BO34: -
