Workbook

Sheet Character Sheet
C2: Type | D2: =IF(F89<=0,"Mechanoid",VLOOKUP(P3,'Race Modification'!C2:S55,17,FALSE)) -> Voidanoid | F2: Vulnerabilities | H2: =IF(D2="Mechanoid","Electricity(1d6), Ion(2d6)",X121) -> - | N2: N.E.W. Character Sheet | Z2: Careers | AD2: Racial/Hook Attributes Under Dark Blue Box | AP2: Humans will have to keep track of their selected Attributes | AQ2: Always Capitalize.
C3: Name | I3: Is a | J3: Select Size | M3: (trait) | N3: (age) | O3: (gender) | P3: Select Race | R3: Career | S3: who | T3: (hook) | AD3: =IF(T4="Strength",1,AD108) | AE3: =IF(T4="Agility",1,AE108) | AF3: =IF(T4="Endurance",1,AF108) | AG3: =IF(T4="Willpower",1,AG108) | AH3: =IF(T4="Intuition",1,AH108) | AI3: =IF(T4="Logic",1,AI108) | AJ3: =IF(T4="Charisma",1,AJ108) | AK3: =IF(T4="Luck",1,AK108) | AL3: =IF(T4="Reputation",1,AL108) | AM3: =IF(T4="Psionics",1,AM108) | AN3: =IF(T4="Magic",1,AN108) | AO3: =IF(T4="Chi",1,AO108)
L4: =IF(P3="Select Race","",(CONCATENATE("Age Range - Adult (",VLOOKUP(P3,'Race Modification'!C2:U55,18,FALSE),"-",VLOOKUP(P3,'Race Modification'!C2:U55,19,FALSE),")"))) | M4: Exploits & Traits | T4: Hook Attribute | Z4: Career | AA4: Grade | AB4: Age | AC4: Exploit | AD4: STR | AE4: AGI | AF4: END | AG4: WIL | AH4: INT | AI4: LOG | AJ4: CHA | AK4: LUC | AL4: REP | AM4: PSI | AN4: MAG | AO4: CHI | AP4: Skill One | AQ4: Skill Two
C5: Grade | D5: Max Dice Pool | E5: Attributes | G5: Select HW Skill | I5: Sheet made by Arthreas | L5: Exploits | M5: Description
C6: 5 | D6: =IF(C6<2,"1d6",IF(C6<3,"2d6",IF(C6<4,"3d6",IF(C6<5,"4d6",IF(C6<6,"5d6",IF(C6<8,"6d6",IF(C6<11,"7d6",IF(C6<15,"8d6",IF(C6<20,"9d6",IF(C6<26,"10d6",IF(C6<33,"11d6",IF(C6<41,"12d6",0)))))))))))) -> 5d6 | E6: =IF(F7="Agricultural","END +1",IF(F7="Arctic","END +1",IF(F7="Asteroid","AGI +1",IF(F7="Barren","END +1",IF(F7="City","CHA +1",IF(F7="Desert","END +1",IF(F7="Jungle","AGI +1",IF(F7="Ocean","AGI +1",IF(F7="Volcanic","AGI +1",""))))))))) | F6: =IF(F7="Agricultural","LOG -1",IF(F7="Arctic","AGI -1",IF(F7="Asteroid","STR -1",IF(F7="Barren","CHA -1",IF(F7="City","END -1",IF(F7="Desert","AGI -1",IF(F7="Jungle","END -1",IF(F7="Ocean","INT -1",IF(F7="Volcanic","STR -1",""))))))))) | G6: Select Skill
E7: Homeworld | F7: Select Homeworld
C8: Attributes
C9: Strength | D9: Agility | E9: Endurance | F9: Willpower | G9: Intuition | H9: Magic
C10: =AE33&"d6" -> 2d6 | D10: =AF33&"d6" -> 2d6 | E10: =AG33&"d6" -> 2d6 | F10: =AH33&"d6" -> 2d6 | G10: =AI33&"d6" -> 2d6 | H10: =AG37&"d6" -> 0d6
C13: =3+C15+AD106+SUM(AD5:AD24) -> 3 | D13: =3+D15+AE106+SUM(AE5:AE24) -> 3 | E13: =3+E15+AF106+SUM(AF5:AF24) -> 3 | F13: =3+F15+AG106+SUM(AG5:AG24) -> 3 | G13: =3+G15+AH106+SUM(AH5:AH24) -> 3 | H13: =0+H15+AN106+SUM(AN5:AN24) -> 0
C16: Logic | D16: Charisma | E16: Luck | F16: Reputation | G16: Psionics | H16: Chi
C17: =AE35&"d6" -> 2d6 | D17: =AF35&"d6" -> 2d6 | E17: =AG35&"d6" -> 2d6 | F17: =AH35&"d6" -> 0d6 | G17: =AI35&"d6" -> 0d6 | H17: =AG38&"d6" -> 0d6
C20: =3+C22+AI106+G196+SUM(AI5:AI24) -> 3 | D20: =3+D22+AJ106+SUM(AJ5:AJ24) -> 3 | E20: =3+E22+AK106+SUM(AK5:AK24) -> 3 | F20: =F22+AL106+SUM(AL5:AL24) -> 0 | G20: =IF(N136>0,0,G22+AM106+SUM(AM5:AM24)) -> 0 | H20: =H22+AO106+SUM(AO5:AO24) -> 0
B21: =VLOOKUP(P3,'Race Modification'!C2:BP55,66,FALSE)
B22: =VLOOKUP(P3,'Race Modification'!C2:BO55,37,FALSE)
B23: N | C23: Statistics
C24: Melee Defense | D24: Ranged Defense | E24: Mental Defense | F24: Actions | G24: SOAK
C25: =AG88+Q304+Q302+Q298+Q300+C26 -> 10 | D25: =AH88+Q304+Q302+Q300+Q298+D26 -> 10 | E25: =IF(D2="Mechanoid","Immune",AI88+E26) -> 10 | F25: =2+VLOOKUP(P3,'Race Modification'!C2:BO55,38,FALSE)+F26 -> 2 | G25: =M61+G26 -> 0 | X25: Skills | AD25: =SUM(AD5:AD24) -> 0 | AE25: =SUM(AE5:AE24) -> 0 | AF25: =SUM(AF5:AF24) -> 0 | AG25: =SUM(AG5:AG24) -> 0 | AH25: =SUM(AH5:AH24) -> 0 | AI25: =SUM(AI5:AI24) -> 0 | AJ25: =SUM(AJ5:AJ24) -> 0 | AK25: =SUM(AK5:AK24) -> 0 | ... AO25: =SUM(AO5:AO24) -> 0 | AP25: =G6 -> Select Skill
B26: =IF(B23="N",((AF35+AH33+AQ58)*4)+B21,IF(B23="C",(((AF35+AH33+AQ58+AG35)*4)+B21),((AF35+AH33+AQ58)*4)+B21)) -> 16 | I26: Credits | L26: 0 Credits | M26: Experience | N26: 0 XP | O26: Luck Pool | Q26: 2 | R26: Species Weight | S26: 0 lb | T26: HmWorld Name | X26: Career Skills | Y26: Rank | Z26: Dice Pool | AA26: Derived Skills | AB26: Rank | AC26: Dice Pool | AD26: =SUM(AB5:AB24) -> 0
B27: =IF((AI33+AD36)<0,0,AI33+AD36) -> 2 | C27: Health | D27: Resolve | E27: Speed | F27: Climb | G27: Swim | I27: Equipped Items | Q27: Biography | X27: =IFERROR(__xludf.DUMMYFUNCTION("UNIQUE(transpose(split(arrayformula(concatenate(AP5:AQ27&"","")),"","")))"),"Select Skill") -> Select Skill | Y27: =IF(ISBLANK(X27),"",COUNTIF($AP$5:$AQ$27,X27)) -> 1 | Z27: =IF(Y27<1,"0d6",IF(Y27<3,"1d6",IF(Y27<6,"2d6",IF(Y27<10,"3d6",IF(Y27<15,"4d6",IF(Y27<21,"5d6",IF(Y27<28,"6d6",IF(Y27<36,"7d6","0d6")))))))) -> 1d6 | AA27: Health
B28: =IF(B23="N",((AG33+AH33+AD28)*4)+B22,IF(B23="C",(((AG33+AH33+AD28+AG35)*4)+B22),((AG33+AH33+AD28)*4)+B22)) -> 16 | C28: =IF(B28<0,0,B28) -> 16 | D28: =IF(B26<10,10,B26) -> 16 | E28: =B30 -> 4 | F28: =IF(M3="Nimble",E28+F29+VLOOKUP(P3,'Race Modification'!C2:BP55,31,FALSE),IF(F29="Equal",E28,B31+F29)) -> 2 | G28: =IF(G29="Equal",E28,B32+G29) -> 2 | I28: Main Hand | L28: Nothing | Y28: =COUNTIF($AP$5:$AQ$27,X28) -> 0 | Z28: =IF(Y28<1,"0d6",IF(Y28<3,"1d6",IF(Y28<6,"2d6",IF(Y28<10,"3d6",IF(Y28<15,"4d6",IF(Y28<21,"5d6",IF(Y28<28,"6d6",IF(Y28<36,"7d6","0d6")))))))) -> 0d6 | AA28: =IF(ISNA(VLOOKUP("Hardy",X27:Y50,1,FALSE)),"-",VLOOKUP("Hardy",X27:Y50,1,FALSE)) -> - | AB28: =IF(ISNA(VLOOKUP("Hardy",X27:Y50,2,FALSE)),0,VLOOKUP("Hardy",X27:Y50,2,FALSE)) -> 0 | AC28: =IF(AB28<1,"0d6",IF(AB28<3,"1d6",IF(AB28<6,"2d6",IF(AB28<10,"3d6",IF(AB28<15,"4d6",IF(AB28<21,"5d6",IF(AB28<28,"6d6",IF(AB28<36,"7d6","0d6")))))))) -> 0d6 | AD28: =IF(AB28<1,0,IF(AB28<3,1,IF(AB28<6,2,IF(AB28<10,3,IF(AB28<15,4,IF(AB28<21,5,IF(AB28<28,6,IF(AB28<36,7,0)))))))) -> 0 | AE28: Universal Exploits | AJ28: Age Exploit | AP28: Write your 3 or 4 Species Skills Here
B29: =IF(AO31<0,0,AO31) -> 2 | C29: 16 | D29: 16 | I29: Off Hand | L29: Nothing | Y29: =COUNTIF($AP$5:$AQ$27,X29) -> 0 | Z29: =IF(Y29<1,"0d6",IF(Y29<3,"1d6",IF(Y29<6,"2d6",IF(Y29<10,"3d6",IF(Y29<15,"4d6",IF(Y29<21,"5d6",IF(Y29<28,"6d6",IF(Y29<36,"7d6","0d6")))))))) -> 0d6 | AA29: Speed
B30: =IF(AND(P3="Solurial",AG30<2),2,IF(AG30<0,0,AG30)) -> 4 | C30: Jump | D30: Carry | E30: High-G | F30: Zero-G | G30: Fly | I30: Other Weapon | L30: Nothing | Y30: =COUNTIF($AP$5:$AQ$27,X30) -> 0 | Z30: =IF(Y30<1,"0d6",IF(Y30<3,"1d6",IF(Y30<6,"2d6",IF(Y30<10,"3d6",IF(Y30<15,"4d6",IF(Y30<21,"5d6",IF(Y30<28,"6d6",IF(Y30<36,"7d6","0d6")))))))) -> 0d6 | AA30: =IF(ISNA(VLOOKUP("Running",X27:Y50,1,FALSE)),"-",VLOOKUP("Running",X27:Y50,1,FALSE)) -> - | AB30: =IF(ISNA(VLOOKUP("Running",X27:Y50,2,FALSE)),0,VLOOKUP("Running",X27:Y50,2,FALSE)) -> 0 | AC30: =IF(AB30<1,"0d6",IF(AB30<3,"1d6",IF(AB30<6,"2d6",IF(AB30<10,"3d6",IF(AB30<15,"4d6",IF(AB30<21,"5d6",IF(AB30<28,"6d6",IF(AB30<36,"7d6","0d6")))))))) -> 0d6 | AD30: =IF(AB30<1,0,IF(AB30<3,1,IF(AB30<6,2,IF(AB30<10,3,IF(AB30<15,4,IF(AB30<21,5,IF(AB30<28,6,IF(AB30<36,7,0)))))))) -> 0 | AE30: =AE33+AF33+AD30+E29+AK97 -> 4 | AF30: =AE30+AF31 -> 4 | AG30: =IF(J3="Small",AF30-1,AF30) -> 4 | AH30: run | AI30: spd | AJ30: clm | AK30: swm | AL30: zg | AM30: hg | AN30: fly | AO30: =MAX(AQ48,AQ49,AQ52,AQ55) -> 0 | AP30: meld | AQ30: =IF(E172="Light",AQ33,IF(E172="Medium",AQ33-2,IF(E172="Heavy",AQ33-4,AQ33))) -> 10
B31: =IF(AJ31<0,0,AJ31) -> 2 | C31: =CONCATENATE(AK33+C32,"'/",AL33+C32,"'") -> 6'/3' | D31: =CONCATENATE(AJ36+D32,"lb ","(",(AJ36+D32)*2.5,"lb)") -> 60lb (150lb) | E31: =IF(E32="Equal",E28,B33+E32) -> 2 | F31: =IF(F32="Equal",E28,B34+F32) -> 2 | G31: =IF(G32="Equal",E28,B35+G32) -> 2 | I31: Shield | L31: Nothing | Y31: =COUNTIF($AP$5:$AQ$27,X31) -> 0 | Z31: =IF(Y31<1,"0d6",IF(Y31<3,"1d6",IF(Y31<6,"2d6",IF(Y31<10,"3d6",IF(Y31<15,"4d6",IF(Y31<21,"5d6",IF(Y31<28,"6d6",IF(Y31<36,"7d6","0d6")))))))) -> 0d6 | AA31: =IF(ISNA(VLOOKUP("Climbing",X27:Y50,1,FALSE)),"-",VLOOKUP("Climbing",X27:Y50,1,FALSE)) -> - | AB31: =IF(ISNA(VLOOKUP("Climbing",X27:Y50,2,FALSE)),0,VLOOKUP("Climbing",X27:Y50,2,FALSE)) -> 0 | AC31: =IF(AB31<1,"0d6",IF(AB31<3,"1d6",IF(AB31<6,"2d6",IF(AB31<10,"3d6",IF(AB31<15,"4d6",IF(AB31<21,"5d6",IF(AB31<28,"6d6",IF(AB31<36,"7d6","0d6")))))))) -> 0d6 | AD31: =IF(AB31<1,0,IF(AB31<3,1,IF(AB31<6,2,IF(AB31<10,3,IF(AB31<15,4,IF(AB31<21,5,IF(AB31<28,6,IF(AB31<36,7,0)))))))) -> 0 | AF31: =VLOOKUP(P3,'Race Modification'!C2:AL55,30,FALSE) | AG31: =IF(J3="Small",AH31-1,AH31) -> 4 | AH31: =AI31+AF31 -> 4 | AI31: =AE33+AF33+E29+AK97 -> 4 | AJ31: =IF(VLOOKUP(P3,'Race Modification'!C2:BP55,31,FALSE)="Equal",(AG31+AD31), (AG31+AD31+VLOOKUP(P3,'Race Modification'!C2:BP55,31,FALSE))/2) -> 2 | AK31: =IF(VLOOKUP(P3,'Race Modification'!C2:BP55,32,FALSE)="Equal",(AG31+AD32), (AG31+AD32+VLOOKUP(P3,'Race Modification'!C2:BP55,32,FALSE))/2) -> 2 | AL31: =IF(VLOOKUP(P3,'Race Modification'!C2:BP55,35,FALSE)="Equal",(AG31+AD44), (AG31+AD44+VLOOKUP(P3,'Race Modification'!C2:BP55,35,FALSE))/2) -> 2 | AM31: =IF(VLOOKUP(P3,'Race Modification'!C2:BP55,33,FALSE)="Equal",(AG31+AD46), (AG31+AD46+VLOOKUP(P3,'Race Modification'!C2:BP55,33,FALSE))/2) -> 2 | AN31: =IF(VLOOKUP(P3,'Race Modification'!C2:BP55,36,FALSE)="Equal",(AG31+AD48), (AG31+AD48+VLOOKUP(P3,'Race Modification'!C2:BP55,36,FALSE))/2) -> 2 | AO31: =AO35+AO30 -> 2 | AP31: rd | AQ31: =IF(E172="Light",AQ34,IF(E172="Medium",AQ34-2,IF(E172="Heavy",AQ34-4,AQ34))) -> 10
B32: =IF(AK31<0,0,AK31) -> 2 | I32: Helmet | L32: Nothing | P32: - | Y32: =COUNTIF($AP$5:$AQ$27,X32) -> 0 | Z32: =IF(Y32<1,"0d6",IF(Y32<3,"1d6",IF(Y32<6,"2d6",IF(Y32<10,"3d6",IF(Y32<15,"4d6",IF(Y32<21,"5d6",IF(Y32<28,"6d6",IF(Y32<36,"7d6","0d6")))))))) -> 0d6 | AA32: =IF(ISNA(VLOOKUP("Swimming",X27:Y50,1,FALSE)),"-",VLOOKUP("Swimming",X27:Y50,1,FALSE)) -> - | AB32: =IF(ISNA(VLOOKUP("Swimming",X27:Y50,2,FALSE)),0,VLOOKUP("Swimming",X27:Y50,2,FALSE)) -> 0 | AC32: =IF(AB32<1,"0d6",IF(AB32<3,"1d6",IF(AB32<6,"2d6",IF(AB32<10,"3d6",IF(AB32<15,"4d6",IF(AB32<21,"5d6",IF(AB32<28,"6d6",IF(AB32<36,"7d6","0d6")))))))) -> 0d6 | AD32: =IF(AB32<1,0,IF(AB32<3,1,IF(AB32<6,2,IF(AB32<10,3,IF(AB32<15,4,IF(AB32<21,5,IF(AB32<28,6,IF(AB32<36,7,0)))))))) -> 0 | AE32: str | AF32: agi | AG32: end | AH32: wil | AI32: int | AJ32: agi or int | AN32: str | AO32: =AE33 -> 2 | AP32: mend | AQ32: =IF(P3="Orgron",AQ35+4,AQ35) -> 10
B33: =IF(AM31<0,0,AM31) -> 2 | C33: Initiative | D33: =CONCATENATE(B27+E33+VLOOKUP(P3,'Race Modification'!C2:BO55,40,FALSE),"d6") -> 2d6 | F33: Perception | G33: =IF(ISNA(VLOOKUP("Perception",AO105:AQ105,3,FALSE)+AI33+VLOOKUP(P3,'Race Modification'!C2:BO55,40,FALSE)&"d6"),"-",VLOOKUP("Perception",AO105:AQ105,3,FALSE)+AI33+VLOOKUP(P3,'Race Modification'!C2:BO55,40,FALSE)&"d6") -> - | I33: Armour | L33: Nothing | Y33: =COUNTIF($AP$5:$AQ$27,X33) -> 0 | Z33: =IF(Y33<1,"0d6",IF(Y33<3,"1d6",IF(Y33<6,"2d6",IF(Y33<10,"3d6",IF(Y33<15,"4d6",IF(Y33<21,"5d6",IF(Y33<28,"6d6",IF(Y33<36,"7d6","0d6")))))))) -> 0d6 | AA33: =IF(ISNA(VLOOKUP("Jumping",X27:Y50,1,FALSE)),"-",VLOOKUP("Jumping",X27:Y50,1,FALSE)) -> - | AB33: =IF(ISNA(VLOOKUP("Jumping",X27:Y50,2,FALSE)),0,VLOOKUP("Jumping",X27:Y50,2,FALSE)) -> 0 | AC33: =IF(AB33<1,"0d6",IF(AB33<3,"1d6",IF(AB33<6,"2d6",IF(AB33<10,"3d6",IF(AB33<15,"4d6",IF(AB33<21,"5d6",IF(AB33<28,"6d6",IF(AB33<36,"7d6","0d6")))))))) -> 0d6 | AD33: =IF(AB33<1,0,IF(AB33<3,1,IF(AB33<6,2,IF(AB33<10,3,IF(AB33<15,4,IF(AB33<21,5,IF(AB33<28,6,IF(AB33<36,7,0)))))))) -> 0 | AE33: =IF(AE41<=0,1,AE41) -> 2 | AF33: =IF(AF41<=0,1,AF41) -> 2 | AG33: =IF(AG41<=0,1,AG41) -> 2 | AH33: =IF(AH41<=0,1,AH41) -> 2 | AI33: =IF(AI41<=0,1,AI41) -> 2 | AJ33: =MAX(AI33,AF33) -> 2 | AK33: =AK34+AM33 -> 6 | AL33: =AL34+AM34 -> 3 | AM33: =VLOOKUP(P3,'Race Modification'!C2:AL55,21,FALSE) | AN33: agi | AO33: =AF33 -> 2 | AP33: meld | AQ33: =IF(B174="Small",AQ36+2,IF(B174="Medium",AQ36+4,IF(B174="Large",AQ36+6,AQ36))) -> 10
B34: =IF(AL31<0,0,AL31) -> 2 | C34: Attacks | I34: Gauntlet | L34: Nothing | Y34: =COUNTIF($AP$5:$AQ$27,X34) -> 0 | Z34: =IF(Y34<1,"0d6",IF(Y34<3,"1d6",IF(Y34<6,"2d6",IF(Y34<10,"3d6",IF(Y34<15,"4d6",IF(Y34<21,"5d6",IF(Y34<28,"6d6",IF(Y34<36,"7d6","0d6")))))))) -> 0d6 | AA34: =IF(ISNA(VLOOKUP("Carrying",X27:Y50,1,FALSE)),"-",VLOOKUP("Carrying",X27:Y50,1,FALSE)) -> - | AB34: =IF(ISNA(VLOOKUP("Carrying",X27:Y50,2,FALSE)),0,VLOOKUP("Carrying",X27:Y50,2,FALSE)) -> 0 | AC34: =IF(AB34<1,"0d6",IF(AB34<3,"1d6",IF(AB34<6,"2d6",IF(AB34<10,"3d6",IF(AB34<15,"4d6",IF(AB34<21,"5d6",IF(AB34<28,"6d6",IF(AB34<36,"7d6","0d6")))))))) -> 0d6 | AD34: =IF(AB34<1,0,IF(AB34<3,1,IF(AB34<6,2,IF(AB34<10,3,IF(AB34<15,4,IF(AB34<21,5,IF(AB34<28,6,IF(AB34<36,7,0)))))))) -> 0 | AE34: log | AF34: cha | AG34: luc | AH34: rep | AI34: psi | AJ34: =AF33 -> 2 | AK34: =D13*2+AD33 -> 6 | AL34: =C13+AD33 -> 3 | AM34: =VLOOKUP(P3,'Race Modification'!C2:AL55,22,FALSE) | AP34: rd | AQ34: =IF(B174="Small",AQ37+2,IF(B174="Medium",AQ37+4,IF(B174="Large",AQ37+6,AQ37))) -> 10
B35: =IF(AN31<0,0,AN31) -> 2 | C35: =IFERROR(__xludf.DUMMYFUNCTION("IF(ISNA(FILTER(E338:E347,E338:E347<>"""")),"""",FILTER(E338:E347,E338:E347<>""""))"),"Unarmed 2d6 (0d6+2 Unarmed damage; range 1)") -> Unarmed 2d6 (0d6+2 Unarmed damage; range 1) | H35: =H329 -> 2 | J35: Quick Gear | O35: Total Weight | R35: Other Exploits | Y35: =COUNTIF($AP$5:$AQ$27,X35) -> 0 | Z35: =IF(Y35<1,"0d6",IF(Y35<3,"1d6",IF(Y35<6,"2d6",IF(Y35<10,"3d6",IF(Y35<15,"4d6",IF(Y35<21,"5d6",IF(Y35<28,"6d6",IF(Y35<36,"7d6","0d6")))))))) -> 0d6 | AA35: Initiative | AE35: =IF(AE42<=0,1,AE42) -> 2 | AF35: =IF(AF42<=0,1,AF42) -> 2 | AG35: =IF(AG42<=0,1,AG42) -> 2 | AH35: =IF(AH42<0,0,AH42) -> 0 | AI35: =IF(AI42<0,0,AI42) -> 0 | AJ35: agi | AL35: lg | AM35: mel | AN35: =VLOOKUP(AO35,AH174:AI203,2) -> 1 | AO35: =MAX(AO33,AO32) -> 2 | AP35: mend | AQ35: =IF(AQ38<10,10,AQ38) -> 10
H36: =H330 | I36: Qty | J36: Name | M36: Quality | N36: Cost | O36: Weight | P36: =IF(P37="-",AB109&"lb",CONCATENATE(AB110,"lb")) -> 0lb | Q36: Name | R36: Description | Y36: =COUNTIF($AP$5:$AQ$27,X36) -> 0 | Z36: =IF(Y36<1,"0d6",IF(Y36<3,"1d6",IF(Y36<6,"2d6",IF(Y36<10,"3d6",IF(Y36<15,"4d6",IF(Y36<21,"5d6",IF(Y36<28,"6d6",IF(Y36<36,"7d6","0d6")))))))) -> 0d6 | AA36: =AO73 | AB36: =AO74 -> 0 | AC36: =IF(AB36<1,"0d6",IF(AB36<3,"1d6",IF(AB36<6,"2d6",IF(AB36<10,"3d6",IF(AB36<15,"4d6",IF(AB36<21,"5d6",IF(AB36<28,"6d6",IF(AB36<36,"7d6","0d6")))))))) -> 0d6 | AD36: =IF(AB36<1,0,IF(AB36<3,1,IF(AB36<6,2,IF(AB36<10,3,IF(AB36<15,4,IF(AB36<21,5,IF(AB36<28,6,IF(AB36<36,7,0)))))))) -> 0 | AG36: mag | AI36: =(C13+E13+AB34)*10 -> 60 | AJ36: =AI36*AK36 -> 60 | AK36: =IF((VLOOKUP(P3,'Race Modification'!C2:BP55,44,FALSE)%)="",1,VLOOKUP(P3,'Race Modification'!C2:BP55,44,FALSE)%+1) -> 1 | AL36: =IF(VLOOKUP(P3,'Race Modification'!C2:BP55,34,FALSE)="Equal",(AG31+AH50), (AG31+AH50+VLOOKUP(P3,'Race Modification'!C2:BP55,34,FALSE))/2) -> 2 | AM36: mnt | AN36: =VLOOKUP(AO36,AH174:AI203,2) -> 1 | AO36: =MAX(AI33,AH33,AE35) -> 2 | AP36: meld | AQ36: =IF(AQ40<10,10,AQ40) -> 10
H37: =H331 | I37: 0 | M37: Standard | P37: Active | Y37: =COUNTIF($AP$5:$AQ$27,X37) -> 0 | Z37: =IF(Y37<1,"0d6",IF(Y37<3,"1d6",IF(Y37<6,"2d6",IF(Y37<10,"3d6",IF(Y37<15,"4d6",IF(Y37<21,"5d6",IF(Y37<28,"6d6",IF(Y37<36,"7d6","0d6")))))))) -> 0d6 | AA37: Melee Defense | AE37: d6 | AG37: =IF(AJ42<0,0,AJ42) -> 0 | AI37: =(AE33+AG33+AB34)*10 -> 40 | AJ37: OW | AK37: =IF(U296="Ranged",MAX(AF33,AI33),IF(U296="Melee",MAX(AE33,AF33),0)) -> 0 | AN37: Mental Defense DP | AO37: =VLOOKUP(P3,'Race Modification'!C2:AE55,29,FALSE) | AP37: rd | AQ37: =IF(AQ42<10,10,AQ42) -> 10
H38: =H332 | I38: 0 | M38: Standard | Y38: =COUNTIF($AP$5:$AQ$27,X38) -> 0 | Z38: =IF(Y38<1,"0d6",IF(Y38<3,"1d6",IF(Y38<6,"2d6",IF(Y38<10,"3d6",IF(Y38<15,"4d6",IF(Y38<21,"5d6",IF(Y38<28,"6d6",IF(Y38<36,"7d6","0d6")))))))) -> 0d6 | AA38: =AO57 | AB38: =AN57 -> 0 | AC38: =IF(AB38<1,"0d6",IF(AB38<3,"1d6",IF(AB38<6,"2d6",IF(AB38<10,"3d6",IF(AB38<15,"4d6",IF(AB38<21,"5d6",IF(AB38<28,"6d6",IF(AB38<36,"7d6","0d6")))))))) -> 0d6 | AD38: =IF(AB38<1,0,IF(AB38<3,1,IF(AB38<6,2,IF(AB38<10,3,IF(AB38<15,4,IF(AB38<21,5,IF(AB38<28,6,IF(AB38<36,7,0)))))))) -> 0 | AE38: =IF(J3="Small",1,IF(J3="Medium",1,IF(J3="Large",2,IF(J3="Enormous",3,0)))) -> 0 | AF38: =VLOOKUP(P3,'Race Modification'!C2:BP55,41,FALSE) | AG38: =IF(AJ43<0,0,AJ43) -> 0 | AJ38: MH | AK38: =IF(U292="Ranged",MAX(AF33,AI33),IF(U292="Melee",MAX(AE33,AF33),0)) -> 0 | AN38: =AO36+AD42 -> 2 | AO38: =VLOOKUP(AN38,AC369:AD439,2,FALSE)+IF(AO37="Immune",0,AO37) -> 7 | AP38: mend | AQ38: =IF(J3="Tiny",AO38+8,IF(J3="Small",AO38+4,IF(J3="Medium",AO38,IF(J3="Large",AO38-4,IF(J3="Enormous",AO38-8,AO38))))) -> 7
H39: =H333 | I39: 0 | M39: Standard | Y39: =COUNTIF($AP$5:$AQ$27,X39) -> 0 | Z39: =IF(Y39<1,"0d6",IF(Y39<3,"1d6",IF(Y39<6,"2d6",IF(Y39<10,"3d6",IF(Y39<15,"4d6",IF(Y39<21,"5d6",IF(Y39<28,"6d6",IF(Y39<36,"7d6","0d6")))))))) -> 0d6 | AA39: Ranged Defense | AE39: =AE38+AF38 -> 0 | AG39: chi | AJ39: iw1 | AK39: =IF(L105="Ranged",MAX(AF33,AI33),IF(U292="Melee",MAX(AE33,AF33),0)) -> 0 | AN39: Melee Defense DP | AO39: =VLOOKUP(P3,'Race Modification'!C2:AE55,27,FALSE)
H40: =H334 | I40: 0 | M40: Standard | Y40: =COUNTIF($AP$5:$AQ$27,X40) -> 0 | Z40: =IF(Y40<1,"0d6",IF(Y40<3,"1d6",IF(Y40<6,"2d6",IF(Y40<10,"3d6",IF(Y40<15,"4d6",IF(Y40<21,"5d6",IF(Y40<28,"6d6",IF(Y40<36,"7d6","0d6")))))))) -> 0d6 | AA40: =AO58 | AB40: =AN58 -> 0 | AC40: =IF(AB40<1,"0d6",IF(AB40<3,"1d6",IF(AB40<6,"2d6",IF(AB40<10,"3d6",IF(AB40<15,"4d6",IF(AB40<21,"5d6",IF(AB40<28,"6d6",IF(AB40<36,"7d6","0d6")))))))) -> 0d6 | AD40: =IF(AB40<1,0,IF(AB40<3,1,IF(AB40<6,2,IF(AB40<10,3,IF(AB40<15,4,IF(AB40<21,5,IF(AB40<28,6,IF(AB40<36,7,0)))))))) -> 0 | AE40: str | AF40: agi | AG40: end | AH40: wil | AI40: int | AJ40: iw2 | AK40: =IF(L107="Ranged",MAX(AF33,AI33),IF(U292="Melee",MAX(AE33,AF33),0)) -> 0 | AN40: =AL47+AO35+AD38 -> 2 | AO40: =VLOOKUP(AN40,AC369:AD439,2,FALSE)+AO39 -> 7 | AP40: meld | AQ40: =IF(J3="Tiny",AO40+8,IF(J3="Small",AO40+4,IF(J3="Medium",AO40,IF(J3="Large",AO40-4,IF(J3="Enormous",AO40-8,AO40))))) -> 7
H41: =H335 | I41: 0 | M41: Standard | Y41: =COUNTIF($AP$5:$AQ$27,X41) -> 0 | Z41: =IF(Y41<1,"0d6",IF(Y41<3,"1d6",IF(Y41<6,"2d6",IF(Y41<10,"3d6",IF(Y41<15,"4d6",IF(Y41<21,"5d6",IF(Y41<28,"6d6",IF(Y41<36,"7d6","0d6")))))))) -> 0d6 | AA41: Mental Defense | AE41: =VLOOKUP(C13,AH174:AI203,2)+C12+G140+AI255+AI258+AK97 -> 2 | AF41: =VLOOKUP(D13,AH174:AI203,2)+D12+F142+AI248+AI250+AI252+AI255+AI258+AK97 -> 2 | AG41: =VLOOKUP(E13,AH174:AI203,2)+E12+C151+AI241+AI246+AI254+AI255+AI258+AK97 -> 2 | AH41: =VLOOKUP(F13,AH174:AI203,2)+F12+F140+AI240+AI242+AI247+AI255+AI258 -> 2 | AI41: =VLOOKUP(G13,AH174:AI203,2)+G12+AI238+AI249+AI253+AI255+AI258 -> 2 | AJ41: mag | AN41: Ranged Defense DP | AO41: =VLOOKUP(P3,'Race Modification'!C2:AE55,28,FALSE)
H42: =H336 | I42: 0 | M42: Standard | Y42: =COUNTIF($AP$5:$AQ$27,X42) -> 0 | Z42: =IF(Y42<1,"0d6",IF(Y42<3,"1d6",IF(Y42<6,"2d6",IF(Y42<10,"3d6",IF(Y42<15,"4d6",IF(Y42<21,"5d6",IF(Y42<28,"6d6",IF(Y42<36,"7d6","0d6")))))))) -> 0d6 | AA42: =AO69 | AB42: =AN69 -> 0 | AC42: =IF(AB42<1,"0d6",IF(AB42<3,"1d6",IF(AB42<6,"2d6",IF(AB42<10,"3d6",IF(AB42<15,"4d6",IF(AB42<21,"5d6",IF(AB42<28,"6d6",IF(AB42<36,"7d6","0d6")))))))) -> 0d6 | AD42: =IF(AB42<1,0,IF(AB42<3,1,IF(AB42<6,2,IF(AB42<10,3,IF(AB42<15,4,IF(AB42<21,5,IF(AB42<28,6,IF(AB42<36,7,0)))))))) -> 0 | AE42: =VLOOKUP(C20,AH174:AI203,2)+C19+M136+AI244+AI250+AI251+AI255+AI258 -> 2 | AF42: =VLOOKUP(D20,AH174:AI203,2)+D19+AI239+AI255+AI258 -> 2 | AG42: =VLOOKUP(E20,AH174:AI203,2)+E19+AI255+AI258 -> 2 | AH42: =VLOOKUP(F20,AH174:AI203,2)+F19+AI255+AI258 -> 0 | AI42: =VLOOKUP(G20,AH174:AI203,2)+G19+AI255+AI258 -> 0 | AJ42: =VLOOKUP(H13,AH174:AI203,2)+H12+AI255+AI258 -> 0 | AN42: =AL49+AD40+AF33 -> 2 | AO42: =VLOOKUP(AN42,AC369:AD439,2,FALSE)+AO41 -> 7 | AP42: rd | AQ42: =IF(J3="Tiny",AO42+8,IF(J3="Small",AO42+4,IF(J3="Medium",AO42,IF(J3="Large",AO42-4,IF(J3="Enormous",AO42-8,AO42))))) -> 7
I43: 0 | M43: Standard | Y43: =COUNTIF($AP$5:$AQ$27,X43) -> 0 | Z43: =IF(Y43<1,"0d6",IF(Y43<3,"1d6",IF(Y43<6,"2d6",IF(Y43<10,"3d6",IF(Y43<15,"4d6",IF(Y43<21,"5d6",IF(Y43<28,"6d6",IF(Y43<36,"7d6","0d6")))))))) -> 0d6 | AA43: Zero-G | AE43: log | AF43: cha | AG43: luc | AH43: rep | AI43: psi | AJ43: =VLOOKUP(H20,AH174:AI203,2)+H19+AI255+AI258 -> 0 | AO43: Defense
I44: Status Tracker | P44: Environment | Y44: =COUNTIF($AP$5:$AQ$27,X44) -> 0 | Z44: =IF(Y44<1,"0d6",IF(Y44<3,"1d6",IF(Y44<6,"2d6",IF(Y44<10,"3d6",IF(Y44<15,"4d6",IF(Y44<21,"5d6",IF(Y44<28,"6d6",IF(Y44<36,"7d6","0d6")))))))) -> 0d6 | AA44: =IF(ISNA(VLOOKUP("Zero-G",X27:Y50,1,FALSE)),"-",VLOOKUP("Zero-G",X27:Y50,1,FALSE)) -> - | AB44: =IF(ISNA(VLOOKUP("Zero-G",X27:Y50,2,FALSE)),0,VLOOKUP("Zero-G",X27:Y50,2,FALSE)) -> 0 | AC44: =IF(AB44<1,"0d6",IF(AB44<3,"1d6",IF(AB44<6,"2d6",IF(AB44<10,"3d6",IF(AB44<15,"4d6",IF(AB44<21,"5d6",IF(AB44<28,"6d6",IF(AB44<36,"7d6","0d6")))))))) -> 0d6 | AD44: =IF(AB44<1,0,IF(AB44<3,1,IF(AB44<6,2,IF(AB44<10,3,IF(AB44<15,4,IF(AB44<21,5,IF(AB44<28,6,IF(AB44<36,7,0)))))))) -> 0 | AJ44: chi | AN44: acrobatics | AO44: =IF(ISNA(VLOOKUP("Acrobatics",X27:Y50,2,FALSE)),0,VLOOKUP("Acrobatics",X27:Y50,2,FALSE)) -> 0 | AP44: =IF(AO44=0,"","Acrobatics") | AQ44: =IF(AO44<1,0,IF(AO44<3,1,IF(AO44<6,2,IF(AO44<10,3,IF(AO44<15,4,IF(AO44<21,5,IF(AO44<28,6,IF(AO44<36,7,0)))))))) -> 0
C45: Skills | I45: =IFERROR(__xludf.DUMMYFUNCTION("IF(ISNA(FILTER(AN284:AN359,AN284:AN359<>"""")),"""",FILTER(AN284:AN359,AN284:AN359<>""""))"),"") | P45: Environment | R45: Select Severity | T45: Damage Type | U45: Difficult Terrain | Y45: 0 | Z45: =IF(Y45<1,"0d6",IF(Y45<3,"1d6",IF(Y45<6,"2d6",IF(Y45<10,"3d6",IF(Y45<15,"4d6",IF(Y45<21,"5d6",IF(Y45<28,"6d6",IF(Y45<36,"7d6","0d6")))))))) -> 0d6 | AA45: High-G | AI45: Mel or | AN45: dodging | AO45: =IF(ISNA(VLOOKUP("Dodging",X27:Y50,2,FALSE)),0,VLOOKUP("Dodging",X27:Y50,2,FALSE)) -> 0 | AP45: =IF(AO45=0,"","Dodging") | AQ45: =IF(AO45<1,0,IF(AO45<3,1,IF(AO45<6,2,IF(AO45<10,3,IF(AO45<15,4,IF(AO45<21,5,IF(AO45<28,6,IF(AO45<36,7,0)))))))) -> 0
C46: =X27 -> Select Skill | D46: =X28 | E46: =X29 | F46: =X30 | G46: =X31 | P46: Select Environment | R46: =VLOOKUP(P46,'Stat Modification'!L3:R50,IF(R45="Select Severity",7,IF(R45="Normal",3,IF(R45="Extreme",4,))),FALSE) | T46: =VLOOKUP(P46,'Stat Modification'!L3:R50,5,FALSE) | U46: =VLOOKUP(P46,'Stat Modification'!L3:R50,6,FALSE) | Y46: 0 | Z46: =IF(Y46<1,"0d6",IF(Y46<3,"1d6",IF(Y46<6,"2d6",IF(Y46<10,"3d6",IF(Y46<15,"4d6",IF(Y46<21,"5d6",IF(Y46<28,"6d6",IF(Y46<36,"7d6","0d6")))))))) -> 0d6 | AA46: =IF(ISNA(VLOOKUP("High-G",X27:Y50,1,FALSE)),"-",VLOOKUP("High-G",X27:Y50,1,FALSE)) -> - | AB46: =IF(ISNA(VLOOKUP("High-G",X27:Y50,2,FALSE)),0,VLOOKUP("High-G",X27:Y50,2,FALSE)) -> 0 | AC46: =IF(AB46<1,"0d6",IF(AB46<3,"1d6",IF(AB46<6,"2d6",IF(AB46<10,"3d6",IF(AB46<15,"4d6",IF(AB46<21,"5d6",IF(AB46<28,"6d6",IF(AB46<36,"7d6","0d6")))))))) -> 0d6 | AD46: =IF(AB46<1,0,IF(AB46<3,1,IF(AB46<6,2,IF(AB46<10,3,IF(AB46<15,4,IF(AB46<21,5,IF(AB46<28,6,IF(AB46<36,7,0)))))))) -> 0 | AG46: Qlty | AH46: Skill | AI46: Rng | AN46: foresight | AO46: =IF(ISNA(VLOOKUP("Foresight",X27:Y50,2,FALSE)),0,VLOOKUP("Foresight",X27:Y50,2,FALSE)) -> 0 | AP46: =IF(AO46=0,"","Foresight") | AQ46: =IF(AO46<1,0,IF(AO46<3,1,IF(AO46<6,2,IF(AO46<10,3,IF(AO46<15,4,IF(AO46<21,5,IF(AO46<28,6,IF(AO46<36,7,0)))))))) -> 0
C47: =IF(Z27="0d6","",Z27) -> 1d6 | D47: =IF(Z28="0d6","",Z28) | E47: =IF(Z29="0d6","",Z29) | F47: =IF(Z30="0d6","",Z30) | G47: =IF(Z31="0d6","",Z31) | R47: Select Severity | Y47: 0 | Z47: =IF(Y47<1,"0d6",IF(Y47<3,"1d6",IF(Y47<6,"2d6",IF(Y47<10,"3d6",IF(Y47<15,"4d6",IF(Y47<21,"5d6",IF(Y47<28,"6d6",IF(Y47<36,"7d6","0d6")))))))) -> 0d6 | AA47: Flying | AD47: =IF(AB47<1,0,IF(AB47<3,1,IF(AB47<6,2,IF(AB47<10,3,IF(AB47<15,4,IF(AB47<21,5,IF(AB47<28,6,IF(AB47<36,7,0)))))))) -> 0 | AF47: MH | AG47: =AH81 -> 0 | AH47: =IF(ISNA(VLOOKUP(N292,AO79:AQ104,3,FALSE)),0,VLOOKUP(N292,AO79:AQ104,3,FALSE)) -> 0 | AI47: =IF(U292="Ranged",0,IF(U292="Melee",AH47,0)) -> 0 | AJ47: =IF(AG47>AI47,"Quality Higher","Fine") -> Fine | AK47: =IF(AJ47="Fine",AG47,AI47) -> 0 | AL47: =MAX(AK47:AK49) -> 0 | AN47: axes | AO47: =IF(ISNA(VLOOKUP("Axes",X27:Y50,2,FALSE)),0,VLOOKUP("Axes",X27:Y50,2,FALSE)) -> 0 | AP47: =IF(AO47=0,"","Axes") | AQ47: =IF(AO47<1,0,IF(AO47<3,1,IF(AO47<6,2,IF(AO47<10,3,IF(AO47<15,4,IF(AO47<21,5,IF(AO47<28,6,IF(AO47<36,7,0)))))))) -> 0
C48: =X32 | D48: =X33 | E48: =X34 | F48: =X35 | G48: =X36 | P48: Select Environment | R48: =VLOOKUP(P48,'Stat Modification'!L3:R50,IF(R47="Select Severity",7,IF(R47="Normal",3,IF(R47="Extreme",4,))),FALSE) | T48: =VLOOKUP(P48,'Stat Modification'!L3:R50,5,FALSE) | U48: =VLOOKUP(P48,'Stat Modification'!L3:R50,6,FALSE) | Y48: 0 | Z48: =IF(Y48<1,"0d6",IF(Y48<3,"1d6",IF(Y48<6,"2d6",IF(Y48<10,"3d6",IF(Y48<15,"4d6",IF(Y48<21,"5d6",IF(Y48<28,"6d6",IF(Y48<36,"7d6","0d6")))))))) -> 0d6 | AA48: =IF(ISNA(VLOOKUP("Flying",X27:Y50,1,FALSE)),"-",VLOOKUP("Flying",X27:Y50,1,FALSE)) -> - | AB48: =IF(ISNA(VLOOKUP("Flying",X27:Y50,2,FALSE)),0,VLOOKUP("Flying",X27:Y50,2,FALSE)) -> 0 | AC48: =IF(AB48<1,"0d6",IF(AB48<3,"1d6",IF(AB48<6,"2d6",IF(AB48<10,"3d6",IF(AB48<15,"4d6",IF(AB48<21,"5d6",IF(AB48<28,"6d6",IF(AB48<36,"7d6","0d6")))))))) -> 0d6 | AD48: =IF(AB48<1,0,IF(AB48<3,1,IF(AB48<6,2,IF(AB48<10,3,IF(AB48<15,4,IF(AB48<21,5,IF(AB48<28,6,IF(AB48<36,7,0)))))))) -> 0 | AF48: OH | AG48: =AH83 -> 0 | AH48: =IF(ISNA(VLOOKUP(N294,AO79:AQ104,3,FALSE)),0,VLOOKUP(N294,AO79:AQ104,3,FALSE)) -> 0 | AI48: =IF(U294="Ranged",0,IF(U294="Melee",AH48,0)) -> 0 | AJ48: =IF(AG48>AI48,"Quality Higher","Fine") -> Fine | AK48: =IF(AJ48="Fine",AG48,AI48) -> 0 | AN48: boxing | AO48: =IF(ISNA(VLOOKUP("Boxing",X27:Y50,2,FALSE)),0,VLOOKUP("Boxing",X27:Y50,2,FALSE)) -> 0 | AP48: =IF(AO48=0,"","Boxing") | AQ48: =IF(AO48<1,0,IF(AO48<3,1,IF(AO48<6,2,IF(AO48<10,3,IF(AO48<15,4,IF(AO48<21,5,IF(AO48<28,6,IF(AO48<36,7,0)))))))) -> 0
C49: =IF(Z32="0d6","",Z32) | D49: =IF(Z33="0d6","",Z33) | E49: =IF(Z34="0d6","",Z34) | F49: =IF(Z35="0d6","",Z35) | G49: =IF(Z36="0d6","",Z36) | R49: Select Severity | Y49: 0 | Z49: =IF(Y49<1,"0d6",IF(Y49<3,"1d6",IF(Y49<6,"2d6",IF(Y49<10,"3d6",IF(Y49<15,"4d6",IF(Y49<21,"5d6",IF(Y49<28,"6d6",IF(Y49<36,"7d6","0d6")))))))) -> 0d6 | AA49: Linguistics | AD49: =IF(AB49<1,0,IF(AB49<3,1,IF(AB49<6,2,IF(AB49<10,3,IF(AB49<15,4,IF(AB49<21,5,IF(AB49<28,6,IF(AB49<36,7,0)))))))) -> 0 | AF49: SHD | AG49: =IF(M298="Improvised",-2,IF(M298="Standard",0,IF(M298="High",1,IF(M298="Exceptional",2,IF(M298="Mastercraft",3,IF(M298="Artisanal",4,IF(M298="Legendary",5,0))))))) -> 0 | AH49: =IF(ISNA(VLOOKUP(N298,AO79:AQ104,3,FALSE)),0,VLOOKUP(N298,AO79:AQ104,3,FALSE)) -> 0 | AJ49: =IF(AG49>AH49,"Quality Higher","Fine") -> Fine | AK49: =IF(AJ49="Fine",AG49,AH49) -> 0 | AL49: =AK49 -> 0 | AN49: brawling | AO49: =IF(ISNA(VLOOKUP("Brawling",X27:Y50,2,FALSE)),0,VLOOKUP("Brawling",X27:Y50,2,FALSE)) -> 0 | AP49: =IF(AO49=0,"","Brawling") | AQ49: =IF(AO49<1,0,IF(AO49<3,1,IF(AO49<6,2,IF(AO49<10,3,IF(AO49<15,4,IF(AO49<21,5,IF(AO49<28,6,IF(AO49<36,7,0)))))))) -> 0
C50: =X37 | D50: =X38 | E50: =X39 | F50: =X40 | G50: =X41 | P50: Select Environment | R50: =VLOOKUP(P50,'Stat Modification'!L3:R50,IF(R49="Select Severity",7,IF(R49="Normal",3,IF(R49="Extreme",4,))),FALSE) | T50: =VLOOKUP(P50,'Stat Modification'!L3:R50,5,FALSE) | U50: =VLOOKUP(P50,'Stat Modification'!L3:R50,6,FALSE) | X50: Untrained | AA50: =IF(ISNA(VLOOKUP("Linguistics",X27:Y50,1,FALSE)),"-",VLOOKUP("Linguistics",X27:Y50,1,FALSE)) -> - | AB50: =IF(ISNA(VLOOKUP("Linguistics",X27:Y50,2,FALSE)),0,VLOOKUP("Linguistics",X27:Y50,2,FALSE)) -> 0 | AC50: =IF(AB50<1,"0d6",IF(AB50<3,"1d6",IF(AB50<6,"2d6",IF(AB50<10,"3d6",IF(AB50<15,"4d6",IF(AB50<21,"5d6",IF(AB50<28,"6d6",IF(AB50<36,"7d6","0d6")))))))) -> 0d6 | AD50: =IF(AB50<1,0,IF(AB50<3,1,IF(AB50<6,2,IF(AB50<10,3,IF(AB50<15,4,IF(AB50<21,5,IF(AB50<28,6,IF(AB50<36,7,0)))))))) -> 0 | AF50: =IF(ISNA(VLOOKUP("Low-g",X27:Y50,1,FALSE)),"-",VLOOKUP("Low-g",X27:Y50,1,FALSE)) -> - | AG50: =IF(ISNA(VLOOKUP("Low-g",X27:Y50,2,FALSE)),0,VLOOKUP("Low-g",X27:Y50,2,FALSE)) -> 0 | AH50: =IF(AG50<1,0,IF(AG50<3,1,IF(AG50<6,2,IF(AG50<10,3,IF(AG50<15,4,IF(AG50<21,5,IF(AG50<28,6,IF(AG50<36,7,0)))))))) -> 0 | AN50: clubs | AO50: =IF(ISNA(VLOOKUP("Clubs",X27:Y50,2,FALSE)),0,VLOOKUP("Clubs",X27:Y50,2,FALSE)) -> 0 | AP50: =IF(AO50=0,"","Clubs") | AQ50: =IF(AO50<1,0,IF(AO50<3,1,IF(AO50<6,2,IF(AO50<10,3,IF(AO50<15,4,IF(AO50<21,5,IF(AO50<28,6,IF(AO50<36,7,0)))))))) -> 0
C51: =IF(Z37="0d6","",Z37) | D51: =IF(Z38="0d6","",Z38) | E51: =IF(Z39="0d6","",Z39) | F51: =IF(Z40="0d6","",Z40) | G51: =IF(Z41="0d6","",Z41) | R51: Select Severity | X51: Psionic Points | AN51: knives | AO51: =IF(ISNA(VLOOKUP("Knives",X27:Y50,2,FALSE)),0,VLOOKUP("Knives",X27:Y50,2,FALSE)) -> 0 | AP51: =IF(AO51=0,"","Knives") | AQ51: =IF(AO51<1,0,IF(AO51<3,1,IF(AO51<6,2,IF(AO51<10,3,IF(AO51<15,4,IF(AO51<21,5,IF(AO51<28,6,IF(AO51<36,7,0)))))))) -> 0
C52: =X42 | D52: =X43 | E52: =X44 | F52: =X45 | G52: =X46 | P52: Select Environment | R52: =VLOOKUP(P52,'Stat Modification'!L3:R50,IF(R51="Select Severity",7,IF(R51="Normal",3,IF(R51="Extreme",4,))),FALSE) | T52: =VLOOKUP(P52,'Stat Modification'!L3:R50,5,FALSE) | U52: =VLOOKUP(P52,'Stat Modification'!L3:R50,6,FALSE) | X52: Total Psi Points | AA52: Current Psi Points | AN52: martial arts | AO52: =IF(ISNA(VLOOKUP("Martial Arts",X27:Y50,2,FALSE)),0,VLOOKUP("Martial Arts",X27:Y50,2,FALSE)) -> 0 | AP52: =IF(AO52=0,"","Martial Arts") | AQ52: =IF(AO52<1,0,IF(AO52<3,1,IF(AO52<6,2,IF(AO52<10,3,IF(AO52<15,4,IF(AO52<21,5,IF(AO52<28,6,IF(AO52<36,7,0)))))))) -> 0
C53: =IF(Z42="0d6","",Z42) | D53: =IF(Z43="0d6","",Z43) | E53: =IF(Z44="0d6","",Z44) | F53: =IF(Z45="0d6","",Z45) | G53: =IF(Z46="0d6","",Z46) | R53: Select Severity | X53: =G20*10 -> 0 | AA53: 0 | AG53: Quality | AN53: polearms | AO53: =IF(ISNA(VLOOKUP("Polearms",X27:Y50,2,FALSE)),0,VLOOKUP("Polearms",X27:Y50,2,FALSE)) -> 0 | AP53: =IF(AO53=0,"","Polearms") | AQ53: =IF(AO53<1,0,IF(AO53<3,1,IF(AO53<6,2,IF(AO53<10,3,IF(AO53<15,4,IF(AO53<21,5,IF(AO53<28,6,IF(AO53<36,7,0)))))))) -> 0
C54: =X47 | D54: =X48 | E54: =X49 | P54: Select Environment | R54: =VLOOKUP(P54,'Stat Modification'!L3:R50,IF(R53="Select Severity",7,IF(R53="Normal",3,IF(R53="Extreme",4,))),FALSE) | T54: =VLOOKUP(P54,'Stat Modification'!L3:R50,5,FALSE) | U54: =VLOOKUP(P54,'Stat Modification'!L3:R50,6,FALSE) | AG54: =IF(C176="Improvised",-2,IF(C176="Standard",0,IF(C176="High",1,IF(C176="Exceptional",2,IF(C176="Mastercraft",3,IF(C176="Artisanal",4,IF(C176="Legendary",5))))))) -> FALSE | AH54: rng | AJ54: =IF(ISNA(VLOOKUP("Shields",X27:Y50,2,FALSE)),0,VLOOKUP("Shields",X27:Y50,2,FALSE)) -> 0 | AN54: swords | AO54: =IF(ISNA(VLOOKUP("Swords",X27:Y50,2,FALSE)),0,VLOOKUP("Swords",X27:Y50,2,FALSE)) -> 0 | AP54: =IF(AO54=0,"","Swords") | AQ54: =IF(AO54<1,0,IF(AO54<3,1,IF(AO54<6,2,IF(AO54<10,3,IF(AO54<15,4,IF(AO54<21,5,IF(AO54<28,6,IF(AO54<36,7,0)))))))) -> 0
C55: =IF(Z47="0d6","",Z47) | D55: =IF(Z48="0d6","",Z48) | E55: =IF(Z49="0d6","",Z49) | P55: Contacts | W55: Magic Pool | AG55: =IF(M292="Improvised",-2,IF(M292="Standard",0,IF(M292="High",1,IF(M292="Exceptional",2,IF(M292="Mastercraft",3,IF(M292="Artisanal",4,IF(M292="Legendary",5,0))))))) -> 0 | AH55: rng | AN55: wrestling | AO55: =IF(ISNA(VLOOKUP("Wrestling",X27:Y50,2,FALSE)),0,VLOOKUP("Wrestling",X27:Y50,2,FALSE)) -> 0 | AP55: =IF(AO55=0,"","Wrestling") | AQ55: =IF(AO55<1,0,IF(AO55<3,1,IF(AO55<6,2,IF(AO55<10,3,IF(AO55<15,4,IF(AO55<21,5,IF(AO55<28,6,IF(AO55<36,7,0)))))))) -> 0
C56: Status Tracks | P56: Contacts Known | S56: =AH42+V56 -> 0 | X56: Total Magic Points | AA56: Current Magic Points | AG56: =IF(M298="Improvised",-2,IF(M298="Standard",0,IF(M298="High",1,IF(M298="Exceptional",2,IF(M298="Mastercraft",3,IF(M298="Artisanal",4,IF(M298="Legendary",5,0))))))) -> 0 | AH56: shd | AN56: =MAX(AO47,AO50,AO51,AO53,AO54) -> 0 | AP56: Choose Skill
C57: Status | D57: Mild | E57: Moderate | F57: Severe | G57: Extreme | P57: Name | R57: Location | S57: Relationship | U57: Expertise | X57: =H13*3 -> 0 | AA57: 0 | AH57: mel | AN57: =MAX(AO43:AO55) -> 0 | AO57: =(VLOOKUP(AN57,AO44:AP55,2,FALSE))
C58: Alertness (INT) | D58: - | E58: - | F58: - | G58: - | H58: WIL | AH58: mel | AN58: =MAX(AO44:AO46) -> 0 | AO58: =(VLOOKUP(AN58,AO44:AP46,2,FALSE)) | AQ58: =IF(AQ59=AO69,0,AR58) -> 0 | AR58: =IF(AR59<1,0,IF(AR59<3,1,IF(AR59<6,2,IF(AR59<10,3,IF(AR59<15,4,IF(AR59<21,5,IF(AR59<28,6,IF(AR59<36,7,0)))))))) -> 0
C59: Anger (CHA) | D59: - | E59: - | F59: - | G59: - | H59: WIL | I59: SOAK | X59: Languages | AF59: rht | AI59: =MAX(AG56,AG57,AG58) -> 0 | AJ59: =(VLOOKUP(AI59,AG56:AH58,2,FALSE)) -> shd | AK59: =MAX(AG57:AG58) -> 0 | AO59: Mental Defense | AQ59: =VLOOKUP(LARGE(AQ60:AR68,2),AQ60:AR68,2,FALSE) | AR59: =IF(ISNA(VLOOKUP(AQ59,$X$27:$Y$49,2,FALSE)),0,VLOOKUP(AQ59,$X$27:$Y$49,2,FALSE)) -> 0
C60: Autonomy(WIL) | D60: - | E60: - | F60: - | G60: - | H60: WIL | I60: Damage Type | M60: SOAK | N60: Manual SOAK | X60: Total Languages Known | AA60: =IF(C20<1,0,IF(C20<3,"1 (Only understands basic phrases)",IF(C20<6,2+AD50,IF(C20<10,3+AD50,IF(C20<13,4+AD50,IF(C20<20,5,"All")))))) -> 2 | AF60: lft | AK60: =MAX(AG54,AG55) -> 0 | AO60: =IF(ISNA(VLOOKUP("Concentration",X27:Y50,2,FALSE)),0,VLOOKUP("Concentration",X27:Y50,2,FALSE)) -> 0 | AP60: =IF(AO60=0,"","Concentration") | AQ60: =IF(ISNA(VLOOKUP(AR60,$X$27:$Y$49,2,FALSE)),0,VLOOKUP(AR60,$X$27:$Y$49,2,FALSE)) -> 0 | AR60: =IFERROR(__xludf.DUMMYFUNCTION("IF(ISNA(FILTER(AP60:AP68,AP60:AP68<>"""")),"""",FILTER(AP60:AP68,AP60:AP68<>""""))"),"")
C61: Bleeding (END) | D61: - | E61: - | F61: - | G61: - | H61: END | I61: Armor SOAK | M61: =P304+P302+P300+N61 -> 0 | X61: Language Example | AJ61: =IF(ISNA(VLOOKUP("Shields",X27:Y50,2,FALSE)),0,VLOOKUP("Shields",X27:Y50,2,FALSE)) -> 0 | AK61: Checks to see if have shields, if not, use melee | AO61: =IF(ISNA(VLOOKUP("Meditation",X27:Y50,2,FALSE)),0,VLOOKUP("Meditation",X27:Y50,2,FALSE)) -> 0 | AP61: =IF(AO61=0,"","Meditation") | AQ61: =IF(ISNA(VLOOKUP(AR61,$X$27:$Y$49,2,FALSE)),0,VLOOKUP(AR61,$X$27:$Y$49,2,FALSE)) -> 0
C62: Charm (WIL) | D62: - | E62: - | F62: - | G62: - | H62: WIL | X62: Common | AG62: rng | AH62: dp | AJ62: =IF(AJ61>0,AI59,AK59) -> 0 | AO62: =IF(ISNA(VLOOKUP("Bravery",X27:Y50,2,FALSE)),0,VLOOKUP("Bravery",X27:Y50,2,FALSE)) -> 0 | AP62: =IF(AO62=0,"","Bravery") | AQ62: =IF(ISNA(VLOOKUP(AR62,$X$27:$Y$49,2,FALSE)),0,VLOOKUP(AR62,$X$27:$Y$49,2,FALSE)) -> 0
C63: Cheer (-) | D63: - | E63: - | F63: - | G63: - | H63: WIL | I63: =IFERROR(__xludf.DUMMYFUNCTION("IF(ISNA(FILTER(S126:S203,S126:S203<>"""")),"""",FILTER(S126:S203,S126:S203<>""""))"),"Natural") -> Natural | M63: =IF(I63="","",IF(I63=S126,T126+(U126+V126)+N63+G142+H142)) -> 0 | X63: Galactic Basic | AG63: =IF(ISNA(VLOOKUP(B176,X27:Y50,2,FALSE)),0,VLOOKUP(B176,X27:Y50,2,FALSE)) -> 0 | AH63: =IF(AG63<1,0,IF(AG63<3,1,IF(AG63<6,2,IF(AG63<10,3,IF(AG63<15,4,IF(AG63<21,5,IF(AG63<28,6,IF(AG63<36,7,0)))))))) -> 0 | AO63: =IF(ISNA(VLOOKUP("Discipline",X27:Y50,2,FALSE)),0,VLOOKUP("Discipline",X27:Y50,2,FALSE)) -> 0 | AP63: =IF(AO63=0,"","Discipline") | AQ63: =IF(ISNA(VLOOKUP(AR63,$X$27:$Y$49,2,FALSE)),0,VLOOKUP(AR63,$X$27:$Y$49,2,FALSE)) -> 0
C64: Cognizance(LOG) | D64: - | E64: - | F64: - | G64: - | H64: WIL | I64: Blunt | M64: =IF(I64="","",IF($M$61>$M$63,IF(I64=S127,$M$61+T127+(U127+V127)+N64+IF(I64="Heat",$L$136,0)+IF(I64="Sonic",$M$63-$M$61,0)),IF(I64=S127,$M$63+T127+N64+IF(I64="Heat",$L$136,0)))) -> 0 | X64: Intelligence Equivalent | AA64: =IF(C20=0,"Braindead",IF(C20=1,"Dumb Animal",IF(C20=2,"Bright Animal",IF(C20=3,"Human Child",IF(C20=4,"Average Adult Human",IF(C20=5,"Smart Human",IF(C20<9,"Bright Human",IF(C20=9,"Brilliant Human",IF(C20=10,"Academic Leader",IF(C20=11,"Gifted",IF(C20=12,"Genius",IF(C20=13,"Notable Genius",IF(C20=14,"Extraordinary Genius",IF(C20=15,"Savant",IF(C20<20,"Savant","Supra-genius"))))))))))))))) -> Human Child | AG64: mel | AO64: =IF(ISNA(VLOOKUP("Religion",X27:Y50,2,FALSE)),0,VLOOKUP("Religion",X27:Y50,2,FALSE)) -> 0 | AP64: =IF(AO64=0,"","Religion") | AQ64: =IF(ISNA(VLOOKUP(AR64,$X$27:$Y$49,2,FALSE)),0,VLOOKUP(AR64,$X$27:$Y$49,2,FALSE)) -> 0
C65: Courage (-) | D65: - | E65: - | F65: - | G65: - | H65: WIL | I65: Crushing | M65: =IF(I65="","",IF($M$61>$M$63,IF(I65=S128,$M$61+T128+(U128+V128)+N65+IF(I65="Heat",$L$136,0)+IF(I65="Sonic",$M$63-$M$61,0)),IF(I65=S128,$M$63+T128+N65+IF(I65="Heat",$L$136,0)))) -> 0 | X65: General Notes | AL65: md | AO65: =IF(ISNA(VLOOKUP("Conviction",X27:Y50,2,FALSE)),0,VLOOKUP("",X27:Y50,2,FALSE)) -> 0 | AP65: =IF(AO65=0,"","Conviction") | AQ65: =IF(ISNA(VLOOKUP(AR65,$X$27:$Y$49,2,FALSE)),0,VLOOKUP(AR65,$X$27:$Y$49,2,FALSE)) -> 0
C66: Drowsiness(END) | D66: - | E66: - | F66: - | G66: - | H66: END | I66: Ballistic | M66: =IF(I66="","",IF($M$61>$M$63,IF(I66=S129,$M$61+T129+(U129+V129)+N66+IF(I66="Heat",$L$136,0)+IF(I66="Sonic",$M$63-$M$61,0)),IF(I66=S129,$M$63+T129+N66+IF(I66="Heat",$L$136,0)))) -> 0 | AG66: rng | AO66: =IF(ISNA(VLOOKUP("Leadership",X27:Y50,2,FALSE)),0,VLOOKUP("Leadership",X27:Y50,2,FALSE)) -> 0 | AP66: =IF(AO66=0,"","Leadership") | AQ66: =IF(ISNA(VLOOKUP(AR66,$X$27:$Y$49,2,FALSE)),0,VLOOKUP(AR66,$X$27:$Y$49,2,FALSE)) -> 0
C67: Fear (WIL) | D67: - | E67: - | F67: - | G67: - | H67: WIL | I67: Cold | M67: =IF(I67="","",IF($M$61>$M$63,IF(I67=S130,$M$61+T130+(U130+V130)+N67+IF(I67="Heat",$L$136,0)+IF(I67="Sonic",$M$63-$M$61,0)),IF(I67=S130,$M$63+T130+N67+IF(I67="Heat",$L$136,0)))) -> 0 | AL67: rd | AO67: =IF(ISNA(VLOOKUP("Psychology",X27:Y50,2,FALSE)),0,VLOOKUP("Psychology",X27:Y50,2,FALSE)) -> 0 | AP67: =IF(AO67=0,"","Psychology") | AQ67: =IF(ISNA(VLOOKUP(AR67,$X$27:$Y$49,2,FALSE)),0,VLOOKUP(AR67,$X$27:$Y$49,2,FALSE)) -> 0
C68: Fire (AGI) | D68: - | E68: - | F68: - | G68: - | H68: AGI | I68: Electricity | M68: =IF(I68="","",IF($M$61>$M$63,IF(I68=S131,$M$61+T131+(U131+V131)+N68+IF(I68="Heat",$L$136,0)+IF(I68="Sonic",$M$63-$M$61,0)),IF(I68=S131,$M$63+T131+N68+IF(I68="Heat",$L$136,0)))) -> 0 | AG68: mel | AL68: =IF(AJ70=1,AG56,0) -> 0 | AO68: =IF(ISNA(VLOOKUP("Rulership",X27:Y50,2,FALSE)),0,VLOOKUP("Rulership",X27:Y50,2,FALSE)) -> 0 | AP68: =IF(AO68=0,"","Rulership") | AQ68: =IF(ISNA(VLOOKUP(AR68,$X$27:$Y$49,2,FALSE)),0,VLOOKUP(AR68,$X$27:$Y$49,2,FALSE)) -> 0
C69: Hearing (INT) | D69: - | E69: - | F69: - | G69: - | H69: END | I69: Force | M69: =IF(I69="","",IF($M$61>$M$63,IF(I69=S132,$M$61+T132+(U132+V132)+N69+IF(I69="Heat",$L$136,0)+IF(I69="Sonic",$M$63-$M$61,0)),IF(I69=S132,$M$63+T132+N69+IF(I69="Heat",$L$136,0)))) -> 0 | AN69: =MAX(AO60:AO68) -> 0 | AO69: =(VLOOKUP(AN69,AO60:AP68,2,FALSE)) | AR69: =IFERROR(__xludf.DUMMYFUNCTION("IF(ISNA(FILTER(AR60:AR68,AR60:AR68<>"""")),"""",FILTER(AR60:AR68,AR60:AR68<>""""))"),"")
C70: Intoxication | D70: - | E70: - | F70: - | G70: - | H70: END | I70: Heat | M70: =IF(I70="","",IF($M$61>$M$63,IF(I70=S133,$M$61+T133+(U133+V133)+N70+IF(I70="Heat",$L$136,0)+IF(I70="Sonic",$M$63-$M$61,0)),IF(I70=S133,$M$63+T133+N70+IF(I70="Heat",$L$136,0)))) -> 0 | AG70: shd | AJ70: =IF(AH71<AG56,0,1) -> 1 | AO70: Initiative | AQ70: =IF(ISNA(VLOOKUP(AR70,$X$27:$Y$49,2,FALSE)),0,VLOOKUP(AR70,$X$27:$Y$49,2,FALSE)) -> 0
C71: Memory (LOG) | D71: - | E71: - | F71: - | G71: - | H71: WIL | I71: Ion | M71: =IF(I71="","",IF($M$61>$M$63,IF(I71=S134,$M$61+T134+(U134+V134)+N71+IF(I71="Heat",$L$136,0)+IF(I71="Sonic",$M$63-$M$61,0)),IF(I71=S134,$M$63+T134+N71+IF(I71="Heat",$L$136,0)))) -> 0 | AH71: =IF(AG71<1,0,IF(AG71<3,1,IF(AG71<6,2,IF(AG71<10,3,IF(AG71<15,4,IF(AG71<21,5,IF(AG71<28,6,IF(AG71<36,7,0)))))))) -> 0 | AO71: =IF(ISNA(VLOOKUP("Tactics",X27:Y50,2,FALSE)),0,VLOOKUP("Tactics",X27:Y50,2,FALSE)) -> 0 | AP71: =IF(AO71=0,"","Tactics") | AQ71: =IF(ISNA(VLOOKUP(AR71,$X$27:$Y$49,2,FALSE)),0,VLOOKUP(AR71,$X$27:$Y$49,2,FALSE)) -> 0
C72: Mobility (AGI) | D72: - | E72: - | F72: - | G72: - | H72: END | I72: Piercing | M72: =IF(I72="","",IF($M$61>$M$63,IF(I72=S135,$M$61+T135+(U135+V135)+N72+IF(I72="Heat",$L$136,0)+IF(I72="Sonic",$M$63-$M$61,0)),IF(I72=S135,$M$63+T135+N72+IF(I72="Heat",$L$136,0)))) -> 0 | AK72: =MID(O296,5,2) | AL72: =VALUE(AK72) -> 0 | AM72: =MID(O296,1,3) | AN72: ow | AO72: =IF(ISNA(VLOOKUP("Reactions",X27:Y50,2,FALSE)),0,VLOOKUP("Reactions",X27:Y50,2,FALSE)) -> 0 | AP72: =IF(AO72=0,"","Reactions") | AQ72: =IF(ISNA(VLOOKUP(AR72,$X$27:$Y$49,2,FALSE)),0,VLOOKUP(AR72,$X$27:$Y$49,2,FALSE)) -> 0
C73: Sight (INT) | D73: - | E73: - | F73: - | G73: - | H73: END | I73: Poison | M73: =IF(I73="","",IF($M$61>$M$63,IF(I73=S136,$M$61+T136+(U136+V136)+N73+IF(I73="Heat",$L$136,0)+IF(I73="Sonic",$M$63-$M$61,0)),IF(I73=S136,$M$63+T136+N73+IF(I73="Heat",$L$136,0)))) -> 0 | P73: Natural Immunities | AF73: qlty | AG73: =IF(D105="Improvised",-2,IF(D105="Standard",0,IF(D105="High",1,IF(D105="Exceptional",2,IF(D105="Mastercraft",3,IF(D105="Artisanal",4,IF(D105="Legendary",5,0))))))) -> 0 | AI73: rng | AL73: mid | AN73: =IF(O292="","",IF(ISNA(CONCATENATE(AM74,"+",AL74+VLOOKUP(N292,AH92:AI95,2,FALSE))),"",CONCATENATE(AM74,"+",AL74+VLOOKUP(N292,AH92:AI95,2,FALSE)))) | AO73: =(VLOOKUP(AO74,AO71:AP72,2,FALSE)) | AQ73: =IF(ISNA(VLOOKUP(AR73,$X$27:$Y$49,2,FALSE)),0,VLOOKUP(AR73,$X$27:$Y$49,2,FALSE)) -> 0
C74: Pain (END) | D74: - | E74: - | F74: - | G74: - | H74: WIL | I74: Psionic | M74: =IF(I74="","",IF($M$61>$M$63,IF(I74=S137,$M$61+T137+(U137+V137)+N74+IF(I74="Heat",$L$136,0)+IF(I74="Sonic",$M$63-$M$61,0)),IF(I74=S137,$M$63+T137+N74+IF(I74="Heat",$L$136,0)))) -> 0 | AF74: iw1 | AG74: =AK39+AG73+IF(ISNA(VLOOKUP(E105,AO79:AQ104,3,FALSE)),0,VLOOKUP(E105,AO79:AQ104,3,FALSE)) -> 0 | AI74: mel | AK74: =MID(O292,5,2) | AL74: =VALUE(AK74) -> 0 | AM74: =MID(O292,1,3) | AN74: mh | AO74: =MAX(AO71:AO72) -> 0 | AQ74: =IF(ISNA(VLOOKUP(AR74,$X$27:$Y$49,2,FALSE)),0,VLOOKUP(AR74,$X$27:$Y$49,2,FALSE)) -> 0
C75: Nausea (ALL) | D75: - | E75: - | F75: - | G75: - | H75: END | I75: Slashing | M75: =IF(I75="","",IF($M$61>$M$63,IF(I75=S138,$M$61+T138+(U138+V138)+N75+IF(I75="Heat",$L$136,0)+IF(I75="Sonic",$M$63-$M$61,0)),IF(I75=S138,$M$63+T138+N75+IF(I75="Heat",$L$136,0)))) -> 0 | P75: Status Immunities | AF75: qlty | AG75: =IF(D107="Improvised",-2,IF(D107="Standard",0,IF(D107="High",1,IF(D107="Exceptional",2,IF(D107="Mastercraft",3,IF(D107="Artisanal",4,IF(D107="Legendary",5,0))))))) -> 0 | AI75: rng | AK75: =MID(O294,5,2) | AL75: =VALUE(AK75) -> 0 | AM75: =MID(O294,1,3) | AN75: oh | AQ75: =IF(ISNA(VLOOKUP(AR75,$X$27:$Y$49,2,FALSE)),0,VLOOKUP(AR75,$X$27:$Y$49,2,FALSE)) -> 0
C76: Tiredness (ALL) | D76: - | E76: - | F76: - | G76: - | H76: END | I76: Sonic | M76: =IF(I76="","",IF($M$61>$M$63,IF(I76=S139,$M$61+T139+(U139+V139)+N76+IF(I76="Heat",$L$136,0)+IF(I76="Sonic",$M$63-$M$61,0)),IF(I76=S139,$M$63+T139+N76+IF(I76="Heat",$L$136,0)))) -> 0 | AF76: iw2 | AG76: =AK40+AG75+IF(ISNA(VLOOKUP(E107,AO79:AQ104,3,FALSE)),0,VLOOKUP(E107,AO79:AQ104,3,FALSE)) -> 0 | AI76: mel | AK76: =MID(O298,5,2) | AL76: =VALUE(AK76) -> 0 | AM76: =MID(O298,1,3) | AN76: shd | AQ76: =IF(ISNA(VLOOKUP(AR76,$X$27:$Y$49,2,FALSE)),0,VLOOKUP(AR76,$X$27:$Y$49,2,FALSE)) -> 0
C77: Attribute Penalty | E77: -1d6 | F77: -2d6 | G77: -3d6 | I77: Acid | M77: =IF(I77="","",IF($M$61>$M$63,IF(I77=S140,$M$61+T140+(U140+V140)+N77+IF(I77="Heat",$L$136,0)+IF(I77="Sonic",$M$63-$M$61,0)),IF(I77=S140,$M$63+T140+N77+IF(I77="Heat",$L$136,0)))) -> 0 | P77: Character Creation Checklist | AH77: mel | AI77: rht | AK77: =MID(F105,5,2) | AL77: =VALUE(AK77) -> 0 | AM77: =MID(F105,1,3) | AN77: iw1 | AO77: Index
C78: Disease & Illness | I78: Radiation | M78: =IF(I78="","",IF($M$61>$M$63,IF(I78=S141,$M$61+T141+(U141+V141)+N78+IF(I78="Heat",$L$136,0)+IF(I78="Sonic",$M$63-$M$61,0)),IF(I78=S141,$M$63+T141+N78+IF(I78="Heat",$L$136,0)))) -> 0 | P78: Steps to Character Creation | T78: Checklist Grade 5 | AI78: lft | AK78: =MID(F107,5,2) | AL78: =VALUE(AK78) -> 0 | AM78: =MID(F107,1,3) | AN78: iw2 | AO78: Choose Skill | AQ78: =IF(AP78<1,0,IF(AP78<3,1,IF(AP78<6,2,IF(AP78<10,3,IF(AP78<15,4,IF(AP78<21,5,IF(AP78<28,6,IF(AP78<36,7,0)))))))) -> 0 | AR78: =IF(ISNA(CONCATENATE(#REF!,"+",IF(#REF!="Ranged",AL78+VLOOKUP(#REF!,$AH$92:$AI$95,2,FALSE),IF(#REF!="Melee",AL78+VLOOKUP(#REF!,AP44:AQ55,2,FALSE))))),CONCATENATE(#REF!,"+",IF(#REF!="Ranged",AL78+VLOOKUP(#REF!,$AH$92:$AI$95,2,FALSE),IF(#REF!="Melee",AL78+VLOOKUP(#REF!,AP44:AQ55,2,FALSE)))),"")
C79: Illness | E79: Transmission | F79: Pool | G79: Interval | I79: Stun | M79: =IF(I79="","",IF($M$61>$M$63,IF(I79=S142,$M$61+T142+(U142+V142)+N79+IF(I79="Heat",$L$136,0)+IF(I79="Sonic",$M$63-$M$61,0)),IF(I79=S142,$M$63+T142+N79+IF(I79="Heat",$L$136,0)))) -> 0 | P79: 1 Note your starting attributes (3 for each attribute, except for PSI and REP which start at 0). | T79: Career Exploits | U79: 5 | V79: =AF103 -> 0 | AF79: qlty | AG79: =IF(ISNA(M298=VLOOKUP(M298,'Stat Modification'!Y3:Z38,1,FALSE)),0,IF(M298=VLOOKUP(M298,'Stat Modification'!Y3:Z38,1,FALSE),VLOOKUP(M298,'Stat Modification'!Y3:Z38,2,FALSE),0)) -> 0 | AH79: rng | AI79: rht | AL79: =VALUE(AK79) -> 0 | AO79: {=INDEX(AP47:AP55,0,0)} | AP79: =IF(ISNA(VLOOKUP(AO79,$X$27:$Y$49,2,FALSE)),0,VLOOKUP(AO79,$X$27:$Y$49,2,FALSE)) -> 0 | AQ79: =IF(AP79<1,0,IF(AP79<3,1,IF(AP79<6,2,IF(AP79<10,3,IF(AP79<15,4,IF(AP79<21,5,IF(AP79<28,6,IF(AP79<36,7,0)))))))) -> 0
C80: Choose Illness | E80: =VLOOKUP(C80,'Stat Modification'!D3:J100,2,FALSE) | F80: =VLOOKUP(C80,'Stat Modification'!D3:J100,3,FALSE) | G80: =VLOOKUP(C80,'Stat Modification'!D3:J100,4,FALSE) | I80: Magical | M80: =IF(I80="","",IF($M$61>$M$63,IF(I80=S143,$M$61+T143+(U143+V143)+N80+IF(I80="Heat",$L$136,0)+IF(I80="Sonic",$M$63-$M$61,0)),IF(I80=S143,$M$63+T143+N80+IF(I80="Heat",$L$136,0)))) -> 0 | T80: Career Skills | U80: 10 | V80: =AN95 -> 0 | AF80: shd | AG80: =AJ34+AG79+IF(ISNA(VLOOKUP(N298,AO79:AQ104,3,FALSE)),0,VLOOKUP(N298,AO79:AQ104,3,FALSE)) -> 2 | AI80: lft | AK80: 1 | AL80: 4 | AP80: =IF(ISNA(VLOOKUP(AO80,$X$27:$Y$49,2,FALSE)),0,VLOOKUP(AO80,$X$27:$Y$49,2,FALSE)) -> 0 | AQ80: =IF(AP80<1,0,IF(AP80<3,1,IF(AP80<6,2,IF(AP80<10,3,IF(AP80<15,4,IF(AP80<21,5,IF(AP80<28,6,IF(AP80<36,7,0)))))))) -> 0
C81: Difficulty | E81: Status Track | F81: Effect | I81: Disease | M81: =IF(I81="","",IF($M$61>$M$63,IF(I81=S144,$M$61+T144+(U144+V144)+N81+IF(I81="Heat",$L$136,0)+IF(I81="Sonic",$M$63-$M$61,0)),IF(I81=S144,$M$63+T144+N81+IF(I81="Heat",$L$136,0)))) -> 0 | P81: 2 Choose a species. 2.1 Apply species attribute adjustments. 2. 2 Note your SIZE. 2. 3 Choose three species skills. 2. 4 Note all the listed species exploits. | T81: Species Skills | U81: =IF(P3="Venetian",4,IF(P3="Spartans",4,3)) -> 3 | V81: =AN98 -> 0 | AG81: qlty | AH81: =IF(ISNA(M292=VLOOKUP(M292,'Stat Modification'!Y3:Z38,1,FALSE)),0,IF(M292=VLOOKUP(M292,'Stat Modification'!Y3:Z38,1,FALSE),VLOOKUP(M292,'Stat Modification'!Y3:Z38,2,FALSE),0)) -> 0 | AK81: 2 | AL81: 7 | AP81: =IF(ISNA(VLOOKUP(AO81,$X$27:$Y$49,2,FALSE)),0,VLOOKUP(AO81,$X$27:$Y$49,2,FALSE)) -> 0 | AQ81: =IF(AP81<1,0,IF(AP81<3,1,IF(AP81<6,2,IF(AP81<10,3,IF(AP81<15,4,IF(AP81<21,5,IF(AP81<28,6,IF(AP81<36,7,0)))))))) -> 0
C82: =VLOOKUP(C80,'Stat Modification'!D3:J100,5,FALSE) | E82: =VLOOKUP(C80,'Stat Modification'!D3:J100,6,FALSE) | F82: =VLOOKUP(C80,'Stat Modification'!D3:J100,7,FALSE) | I82: Holy | M82: =IF(I82="","",IF($M$61>$M$63,IF(I82=S145,$M$61+T145+(U145+V145)+N82+IF(I82="Heat",$L$136,0)+IF(I82="Sonic",$M$63-$M$61,0)),IF(I82=S145,$M$63+T145+N82+IF(I82="Heat",$L$136,0)))) -> 0 | T82: Homeworld Skill | U82: 1 | V82: =AN99 -> 0 | AG82: MH | AH82: =AK38+AH81+IF(ISNA(VLOOKUP(N292,AO79:AQ104,3,FALSE)),0,VLOOKUP(N292,AO79:AQ104,3,FALSE)) -> 0 | AK82: 3 | AL82: 11 | AP82: =IF(ISNA(VLOOKUP(AO82,$X$27:$Y$49,2,FALSE)),0,VLOOKUP(AO82,$X$27:$Y$49,2,FALSE)) -> 0 | AQ82: =IF(AP82<1,0,IF(AP82<3,1,IF(AP82<6,2,IF(AP82<10,3,IF(AP82<15,4,IF(AP82<21,5,IF(AP82<28,6,IF(AP82<36,7,0)))))))) -> 0
C83: Illness | E83: Transmission | F83: Pool | G83: Interval | I83: Unholy | M83: =IF(I83="","",IF($M$61>$M$63,IF(I83=S146,$M$61+T146+(U146+V146)+N83+IF(I83="Heat",$L$136,0)+IF(I83="Sonic",$M$63-$M$61,0)),IF(I83=S146,$M$63+T146+N83+IF(I83="Heat",$L$136,0)))) -> 0 | T83: Career Attributes | U83: 20 | V83: =SUM(AD5:AM9) -> 0 | AG83: qlty | AH83: =IF(ISNA(M294=VLOOKUP(M294,'Stat Modification'!Y3:Z38,1,FALSE)),0,IF(M294=VLOOKUP(M294,'Stat Modification'!Y3:Z38,1,FALSE),VLOOKUP(M294,'Stat Modification'!Y3:Z38,2,FALSE),0)) -> 0 | AI83: qlty | AJ83: =IF(ISNA(M296=VLOOKUP(M296,'Stat Modification'!Y3:Z38,1,FALSE)),0,IF(M296=VLOOKUP(M296,'Stat Modification'!Y3:Z38,1,FALSE),VLOOKUP(M296,'Stat Modification'!Y3:Z38,2,FALSE),0)) -> 0 | AK83: 4 | AL83: 14 | AP83: =IF(ISNA(VLOOKUP(AO83,$X$27:$Y$49,2,FALSE)),0,VLOOKUP(AO83,$X$27:$Y$49,2,FALSE)) -> 0 | AQ83: =IF(AP83<1,0,IF(AP83<3,1,IF(AP83<6,2,IF(AP83<10,3,IF(AP83<15,4,IF(AP83<21,5,IF(AP83<28,6,IF(AP83<36,7,0)))))))) -> 0
C84: Choose Illness | E84: =VLOOKUP(C84,'Stat Modification'!D3:J100,2,FALSE) | F84: =VLOOKUP(C84,'Stat Modification'!D3:J100,3,FALSE) | G84: =VLOOKUP(C84,'Stat Modification'!D3:J100,4,FALSE) | I84: Burst | M84: =IF(I84="","",IF($M$61>$M$63,IF(I84=S147,$M$61+T147+(U147+V147)+N84+IF(I84="Heat",$L$136,0)+IF(I84="Sonic",$M$63-$M$61,0)),IF(I84=S147,$M$63+T147+N84+IF(I84="Heat",$L$136,0)))) -> 0 | T84: Universal Exploits | U84: 2 | V84: =AN101 -> 0 | AG84: OF | AH84: =AJ34+AH83+IF(ISNA(VLOOKUP(N294,AO79:AQ104,3,FALSE)),0,VLOOKUP(N294,AO79:AQ104,3,FALSE)) -> 2 | AI84: OW | AJ84: =AK37+AJ83+IF(ISNA(VLOOKUP(N296,AO79:AQ104,3,FALSE)),0,VLOOKUP(N296,AO79:AQ104,3,FALSE)) -> 0 | AK84: 5 | AL84: 18 | AP84: =IF(ISNA(VLOOKUP(AO84,$X$27:$Y$49,2,FALSE)),0,VLOOKUP(AO84,$X$27:$Y$49,2,FALSE)) -> 0 | AQ84: =IF(AP84<1,0,IF(AP84<3,1,IF(AP84<6,2,IF(AP84<10,3,IF(AP84<15,4,IF(AP84<21,5,IF(AP84<28,6,IF(AP84<36,7,0)))))))) -> 0
B85: =3+E15+AF106+SUM(AF5:AF21) -> 3 | C85: Difficulty | E85: Status Track | F85: Effect | M85: =IF(I85="","",IF($M$61>$M$63,IF(I85=S148,$M$61+T148+(U148+V148)+N85+IF(I85="Heat",$L$136,0)+IF(I85="Sonic",$M$63-$M$61,0)),IF(I85=S148,$M$63+T148+N85+IF(I85="Heat",$L$136,0)))) | P85: 3 Choose a homeworld type, apply attribute adjustments, and note any bonus skills. | T85: Trait | U85: 1 | AK85: 6 | AL85: 21 | AP85: =IF(ISNA(VLOOKUP(AO85,$X$27:$Y$49,2,FALSE)),0,VLOOKUP(AO85,$X$27:$Y$49,2,FALSE)) -> 0 | AQ85: =IF(AP85<1,0,IF(AP85<3,1,IF(AP85<6,2,IF(AP85<10,3,IF(AP85<15,4,IF(AP85<21,5,IF(AP85<28,6,IF(AP85<36,7,0)))))))) -> 0
C86: =VLOOKUP(C84,'Stat Modification'!D3:J100,5,FALSE) | E86: =VLOOKUP(C84,'Stat Modification'!D3:J100,6,FALSE) | F86: =VLOOKUP(C84,'Stat Modification'!D3:J100,7,FALSE) | M86: =IF(I86="","",IF($M$61>$M$63,IF(I86=S149,$M$61+T149+(U149+V149)+N86+IF(I86="Heat",$L$136,0)+IF(I86="Sonic",$M$63-$M$61,0)),IF(I86=S149,$M$63+T149+N86+IF(I86="Heat",$L$136,0)))) | T86: Hook | U86: 1 | AG86: meld | AH86: rd | AI86: mend | AK86: 7 | AL86: 25 | AP86: =IF(ISNA(VLOOKUP(AO86,$X$27:$Y$49,2,FALSE)),0,VLOOKUP(AO86,$X$27:$Y$49,2,FALSE)) -> 0 | AQ86: =IF(AP86<1,0,IF(AP86<3,1,IF(AP86<6,2,IF(AP86<10,3,IF(AP86<15,4,IF(AP86<21,5,IF(AP86<28,6,IF(AP86<36,7,0)))))))) -> 0
C87: Cybernetics | M87: =IF(I87="","",IF($M$61>$M$63,IF(I87=S150,$M$61+T150+(U150+V150)+N87+IF(I87="Heat",$L$136,0)+IF(I87="Sonic",$M$63-$M$61,0)),IF(I87=S150,$M$63+T150+N87+IF(I87="Heat",$L$136,0)))) | P87: 4 Choose a hook, note it in your descriptor. | T87: Possible Age Exploit | U87: 1 | V87: =AN100 -> 0 | AG87: =AQ36 -> 10 | AH87: =AQ37 -> 10 | AI87: =AQ35+N136 -> 10 | AK87: 8 | AL87: 28 | AP87: =IF(ISNA(VLOOKUP(AO87,$X$27:$Y$49,2,FALSE)),0,VLOOKUP(AO87,$X$27:$Y$49,2,FALSE)) -> 0 | AQ87: =IF(AP87<1,0,IF(AP87<3,1,IF(AP87<6,2,IF(AP87<10,3,IF(AP87<15,4,IF(AP87<21,5,IF(AP87<28,6,IF(AP87<36,7,0)))))))) -> 0
C88: Cybernetic Alterations Allowed | E88: =B85 -> 3 | F88: Alterations Left | M88: =IF(I88="","",IF($M$61>$M$63,IF(I88=S151,$M$61+T151+(U151+V151)+N88+IF(I88="Heat",$L$136,0)+IF(I88="Sonic",$M$63-$M$61,0)),IF(I88=S151,$M$63+T151+N88+IF(I88="Heat",$L$136,0)))) | P88: 4.1 Choose one attribute related to that hook; this is called your hook attribute. | AG88: =IF(AG87>=AG89,AG89,AG87) -> 10 | AH88: =IF(AH87>=AH89,AH89,AH87) -> 10 | AI88: =IF(AI87>=AI89,AI89,AI87) -> 10 | AK88: 9 | AL88: 32 | AP88: =IF(ISNA(VLOOKUP(AO88,$X$27:$Y$49,2,FALSE)),0,VLOOKUP(AO88,$X$27:$Y$49,2,FALSE)) -> 0 | AQ88: =IF(AP88<1,0,IF(AP88<3,1,IF(AP88<6,2,IF(AP88<10,3,IF(AP88<15,4,IF(AP88<21,5,IF(AP88<28,6,IF(AP88<36,7,0)))))))) -> 0
F89: =E88+VLOOKUP(C92,'Stat Modification'!AB3:AE100,4,FALSE)+VLOOKUP(C94,'Stat Modification'!AB3:AE100,4,FALSE)+VLOOKUP(C96,'Stat Modification'!AB3:AE100,4,FALSE)+VLOOKUP(C98,'Stat Modification'!AB3:AE100,4,FALSE)+VLOOKUP(C100,'Stat Modification'!AB3:AE100,4,FALSE)+VLOOKUP(C102,'Stat Modification'!AB3:AE100,4,FALSE)+E138+F138 -> 3 | M89: =IF(I89="","",IF($M$61>$M$63,IF(I89=S152,$M$61+T152+(U152+V152)+N89+IF(I89="Heat",$L$136,0)+IF(I89="Sonic",$M$63-$M$61,0)),IF(I89=S152,$M$63+T152+N89+IF(I89="Heat",$L$136,0)))) | AG89: =VLOOKUP(C6,AC376:AD439,2,0) -> 18 | AH89: =VLOOKUP(C6,AC376:AD439,2,0) -> 18 | AI89: =VLOOKUP($C$6,AC376:AD439,2,0) -> 18 | AK89: 10 | AL89: 35 | AO89: {=INDEX(AJ92:AJ95)} | AP89: =IF(ISNA(VLOOKUP(AO89,$X$27:$Y$49,2,FALSE)),0,VLOOKUP(AO89,$X$27:$Y$49,2,FALSE)) -> 0 | AQ89: =IF(AP89<1,0,IF(AP89<3,1,IF(AP89<6,2,IF(AP89<10,3,IF(AP89<15,4,IF(AP89<21,5,IF(AP89<28,6,IF(AP89<36,7,0)))))))) -> 0
C90: =IF(F89<0,"Too many alterations. Can not have that many implants","") | M90: =IF(I90="","",IF($M$61>$M$63,IF(I90=S153,$M$61+T153+(U153+V153)+N90+IF(I90="Heat",$L$136,0)+IF(I90="Sonic",$M$63-$M$61,0)),IF(I90=S153,$M$63+T153+N90+IF(I90="Heat",$L$136,0)))) | P90: 5 Choose five careers. Start with an origin, and then select four further careers. For each career grade, do the following: | T90: 6 Select aim or feint (free universal exploits) plus one other universal exploit of your choice for which you qualify. | AL90: 39 | AM90: =IF(ISTEXT(AP5),1,0) -> 0 | AN90: =IF(ISTEXT(AQ5),1,0) -> 0 | AP90: =IF(ISNA(VLOOKUP(AO90,$X$27:$Y$49,2,FALSE)),0,VLOOKUP(AO90,$X$27:$Y$49,2,FALSE)) -> 0 | AQ90: =IF(AP90<1,0,IF(AP90<3,1,IF(AP90<6,2,IF(AP90<10,3,IF(AP90<15,4,IF(AP90<21,5,IF(AP90<28,6,IF(AP90<36,7,0)))))))) -> 0
B91: Qty | C91: Enhancement | E91: Type | F91: Effect | M91: =IF(I91="","",IF($M$61>$M$63,IF(I91=S154,$M$61+T154+(U154+V154)+N91+IF(I91="Heat",$L$136,0)+IF(I91="Sonic",$M$63-$M$61,0)),IF(I91=S154,$M$63+T154+N91+IF(I91="Heat",$L$136,0)))) | AL91: 42 | AM91: =IF(ISTEXT(AP6),1,0) -> 0 | AN91: =IF(ISTEXT(AQ6),1,0) -> 0 | AP91: =IF(ISNA(VLOOKUP(AO91,$X$27:$Y$49,2,FALSE)),0,VLOOKUP(AO91,$X$27:$Y$49,2,FALSE)) -> 0 | AQ91: =IF(AP91<1,0,IF(AP91<3,1,IF(AP91<6,2,IF(AP91<10,3,IF(AP91<15,4,IF(AP91<21,5,IF(AP91<28,6,IF(AP91<36,7,0)))))))) -> 0
B92: 1 | C92: Select Enhancement | E92: =VLOOKUP(C92,'Stat Modification'!AB3:AE100,2,FALSE) | F92: =VLOOKUP(C92,'Stat Modification'!AB3:AE100,3,FALSE) | J92: Retinal Implants | AG92: =IF(ISNA(VLOOKUP("Rifles",X27:Y50,2,FALSE)),0,VLOOKUP("Rifles",X27:Y50,2,FALSE)) -> 0 | AH92: =IF(ISNA(VLOOKUP("Rifles",X27:Y50,1,FALSE)),0,VLOOKUP("Rifles",X27:Y50,1,FALSE)) -> 0 | AI92: =IF(AG92<1,0,IF(AG92<3,1,IF(AG92<6,2,IF(AG92<10,3,IF(AG92<15,4,IF(AG92<21,5,IF(AG92<28,6,IF(AG92<36,7,0)))))))) -> 0 | AJ92: =IF(AH92=0,"",AH92) | AL92: 46 | AM92: =IF(ISTEXT(AP7),1,0) -> 0 | AN92: =IF(ISTEXT(AQ7),1,0) -> 0 | AP92: =IF(ISNA(VLOOKUP(AO92,$X$27:$Y$49,2,FALSE)),0,VLOOKUP(AO92,$X$27:$Y$49,2,FALSE)) -> 0 | AQ92: =IF(AP92<1,0,IF(AP92<3,1,IF(AP92<6,2,IF(AP92<10,3,IF(AP92<15,4,IF(AP92<21,5,IF(AP92<28,6,IF(AP92<36,7,0)))))))) -> 0
C93: Enhancement | E93: Type | F93: Effect | J93: Retinal Implant Left | P93: 5.1 Apply all of the listed attribute adjustments. Note that you may optionally substitute either one of your species attributes or your hook attribute for one of the listed attributes. | T93: 7 Choose one trait based on your highest or lowest attribute and note that in your descriptor. | AG93: =IF(ISNA(VLOOKUP("Pistols",X27:Y50,2,FALSE)),0,VLOOKUP("Pistols",X27:Y50,2,FALSE)) -> 0 | AH93: =IF(ISNA(VLOOKUP("Pistols",X27:Y50,1,FALSE)),0,VLOOKUP("Pistols",X27:Y50,1,FALSE)) -> 0 | AI93: =IF(AG93<1,0,IF(AG93<3,1,IF(AG93<6,2,IF(AG93<10,3,IF(AG93<15,4,IF(AG93<21,5,IF(AG93<28,6,IF(AG93<36,7,0)))))))) -> 0 | AJ93: =IF(AH93=0,"",AH93) | AM93: =IF(ISTEXT(AP8),1,0) -> 0 | AN93: =IF(ISTEXT(AQ8),1,0) -> 0 | AP93: =IF(ISNA(VLOOKUP(AO93,$X$27:$Y$49,2,FALSE)),0,VLOOKUP(AO93,$X$27:$Y$49,2,FALSE)) -> 0 | AQ93: =IF(AP93<1,0,IF(AP93<3,1,IF(AP93<6,2,IF(AP93<10,3,IF(AP93<15,4,IF(AP93<21,5,IF(AP93<28,6,IF(AP93<36,7,0)))))))) -> 0
B94: 1 | C94: Select Enhancement | E94: =VLOOKUP(C94,'Stat Modification'!AB3:AE100,2,FALSE) | F94: =VLOOKUP(C94,'Stat Modification'!AB3:AE100,3,FALSE) | J94: Night vision | M94: - | AG94: =IF(ISNA(VLOOKUP("Heavy Weapons",X27:Y50,2,FALSE)),0,VLOOKUP("Heavy Weapons",X27:Y50,2,FALSE)) -> 0 | AH94: =IF(ISNA(VLOOKUP("Heavy Weapons",X27:Y50,1,FALSE)),0,VLOOKUP("Heavy Weapons",X27:Y50,1,FALSE)) -> 0 | AI94: =IF(AG94<1,0,IF(AG94<3,1,IF(AG94<6,2,IF(AG94<10,3,IF(AG94<15,4,IF(AG94<21,5,IF(AG94<28,6,IF(AG94<36,7,0)))))))) -> 0 | AJ94: =IF(AH94=0,"",AH94) | AM94: =IF(ISTEXT(AP9),1,0) -> 0 | AN94: =IF(ISTEXT(AQ9),1,0) -> 0 | AP94: =IF(ISNA(VLOOKUP(AO94,$X$27:$Y$49,2,FALSE)),0,VLOOKUP(AO94,$X$27:$Y$49,2,FALSE)) -> 0 | AQ94: =IF(AP94<1,0,IF(AP94<3,1,IF(AP94<6,2,IF(AP94<10,3,IF(AP94<15,4,IF(AP94<21,5,IF(AP94<28,6,IF(AP94<36,7,0)))))))) -> 0
C95: Enhancement | E95: Type | F95: Effect | J95: Telescopic | M95: - | T95: 8 Determine your age and apply any age exploits. | AG95: =IF(ISNA(VLOOKUP("Bows",X28:Y51,2,FALSE)),0,VLOOKUP("Bows",X28:Y51,2,FALSE)) -> 0 | AH95: =IF(ISNA(VLOOKUP("Bows",X28:Y51,1,FALSE)),0,VLOOKUP("Bows",X28:Y51,1,FALSE)) -> 0 | AI95: =IF(AG95<1,0,IF(AG95<3,1,IF(AG95<6,2,IF(AG95<10,3,IF(AG95<15,4,IF(AG95<21,5,IF(AG95<28,6,IF(AG95<36,7,0)))))))) -> 0 | AJ95: =IF(AH95=0,"",AH95) | AN95: =SUM(AM90:AN94) -> 0 | AP95: =IF(ISNA(VLOOKUP(AO95,$X$27:$Y$49,2,FALSE)),0,VLOOKUP(AO95,$X$27:$Y$49,2,FALSE)) -> 0 | AQ95: =IF(AP95<1,0,IF(AP95<3,1,IF(AP95<6,2,IF(AP95<10,3,IF(AP95<15,4,IF(AP95<21,5,IF(AP95<28,6,IF(AP95<36,7,0)))))))) -> 0
B96: 1 | C96: Select Enhancement | E96: =VLOOKUP(C96,'Stat Modification'!AB3:AE100,2,FALSE) | F96: =VLOOKUP(C96,'Stat Modification'!AB3:AE100,3,FALSE) | J96: Magnifying | M96: - | AI96: =AJ36 -> 60 | AJ96: 1 | AM96: =IF(ISTEXT(AP26),1,0) -> 0 | AN96: =IF(ISTEXT(AQ26),1,0) -> 0 | AP96: =IF(ISNA(VLOOKUP(AO96,$X$27:$Y$49,2,FALSE)),0,VLOOKUP(AO96,$X$27:$Y$49,2,FALSE)) -> 0 | AQ96: =IF(AP96<1,0,IF(AP96<3,1,IF(AP96<6,2,IF(AP96<10,3,IF(AP96<15,4,IF(AP96<21,5,IF(AP96<28,6,IF(AP96<36,7,0)))))))) -> 0
C97: Enhancement | E97: Type | F97: Effect | J97: Infra-red | M97: - | P97: 5. 2 Choose two of the listed skills and advance each by one point. Note that characters may optionally always select a defensive skill instead of a listed skill. | T97: 9 Calculate your derived statistics. | AI97: =$AI$96*AJ97 -> 120 | AJ97: 2 | AK97: =IF(AB110<=AI96,0,IF(AB110<=AI97,-1,IF(AB110<=AI98,-2,IF(AB110<=AI99,-3,IF(AB110<=AI100,-4,IF(AB110<=AI101,-5,IF(AB110<=AI102,-6,IF(AB110<=AI103,-7,IF(AB110<=AI104,-8,0))))))))) -> 0 | AM97: =IF(ISTEXT(AP27),1,0) -> 0 | AN97: =IF(ISTEXT(AQ27),1,0) -> 0 | AP97: =IF(ISNA(VLOOKUP(AO97,$X$27:$Y$49,2,FALSE)),0,VLOOKUP(AO97,$X$27:$Y$49,2,FALSE)) -> 0 | AQ97: =IF(AP97<1,0,IF(AP97<3,1,IF(AP97<6,2,IF(AP97<10,3,IF(AP97<15,4,IF(AP97<21,5,IF(AP97<28,6,IF(AP97<36,7,0)))))))) -> 0
B98: 1 | C98: Select Enhancement | E98: =VLOOKUP(C98,'Stat Modification'!AB3:AE100,2,FALSE) | F98: =VLOOKUP(C98,'Stat Modification'!AB3:AE100,3,FALSE) | J98: Retinal Implant Right | T98: 10 Spend money to equip your character with armor, weapons, and equipment. | AF98: =IF(ISTEXT(AC5),1,0) -> 0 | AG98: =(AJ36+D32)*2.5 -> 150 | AI98: =$AI$96*AJ98 -> 180 | AJ98: 3 | AN98: =SUM(AM96:AN97) -> 0 | AP98: =IF(ISNA(VLOOKUP(AO98,$X$27:$Y$49,2,FALSE)),0,VLOOKUP(AO98,$X$27:$Y$49,2,FALSE)) -> 0 | AQ98: =IF(AP98<1,0,IF(AP98<3,1,IF(AP98<6,2,IF(AP98<10,3,IF(AP98<15,4,IF(AP98<21,5,IF(AP98<28,6,IF(AP98<36,7,0)))))))) -> 0
C99: Enhancement | E99: Type | F99: Effect | J99: Night vision | M99: - | AF99: =IF(ISTEXT(AC6),1,0) -> 0 | AI99: =$AI$96*AJ99 -> 240 | AJ99: 4 | AN99: =IF(NOT(G6="Select Skill"),1,0) -> 0 | AP99: =IF(ISNA(VLOOKUP(AO99,$X$27:$Y$49,2,FALSE)),0,VLOOKUP(AO99,$X$27:$Y$49,2,FALSE)) -> 0 | AQ99: =IF(AP99<1,0,IF(AP99<3,1,IF(AP99<6,2,IF(AP99<10,3,IF(AP99<15,4,IF(AP99<21,5,IF(AP99<28,6,IF(AP99<36,7,0)))))))) -> 0
B100: 1 | C100: Select Enhancement | E100: =VLOOKUP(C100,'Stat Modification'!AB3:AE100,2,FALSE) | F100: =VLOOKUP(C100,'Stat Modification'!AB3:AE100,3,FALSE) | J100: Telescopic | M100: - | P100: 5. 3 Choose one new career exploit from the list shown or choose one universal exploit. | AF100: =IF(ISTEXT(AC7),1,0) -> 0 | AI100: =$AI$96*AJ100 -> 300 | AJ100: 5 | AM100: =IF(ISTEXT(AE26),1,0) -> 0 | AN100: =IF(ISTEXT(AJ27),1,0) -> 0 | AP100: =IF(ISNA(VLOOKUP(AO100,$X$27:$Y$49,2,FALSE)),0,VLOOKUP(AO100,$X$27:$Y$49,2,FALSE)) -> 0 | AQ100: =IF(AP100<1,0,IF(AP100<3,1,IF(AP100<6,2,IF(AP100<10,3,IF(AP100<15,4,IF(AP100<21,5,IF(AP100<28,6,IF(AP100<36,7,0)))))))) -> 0
C101: Enhancement | E101: Type | F101: Effect | J101: Magnifying | M101: - | AF101: =IF(ISTEXT(AC8),1,0) -> 0 | AI101: =$AI$96*AJ101 -> 360 | AJ101: 6 | AM101: =IF(ISTEXT(AE27),1,0) -> 0 | AN101: =SUM(AM100:AM101) -> 0 | AP101: =IF(ISNA(VLOOKUP(AO101,$X$27:$Y$49,2,FALSE)),0,VLOOKUP(AO101,$X$27:$Y$49,2,FALSE)) -> 0 | AQ101: =IF(AP101<1,0,IF(AP101<3,1,IF(AP101<6,2,IF(AP101<10,3,IF(AP101<15,4,IF(AP101<21,5,IF(AP101<28,6,IF(AP101<36,7,0)))))))) -> 0
B102: 1 | C102: Select Enhancement | E102: =VLOOKUP(C102,'Stat Modification'!AB3:AE100,2,FALSE) | F102: =VLOOKUP(C102,'Stat Modification'!AB3:AE100,3,FALSE) | J102: Infra-red | M102: - | P102: 5. 4 Roll for the years spent at that career grade and increase your age (your age starts at zero). | AF102: =IF(ISTEXT(AC9),1,0) -> 0 | AI102: =$AI$96*AJ102 -> 420 | AJ102: 7 | AP102: =IF(ISNA(VLOOKUP(AO102,$X$27:$Y$49,2,FALSE)),0,VLOOKUP(AO102,$X$27:$Y$49,2,FALSE)) -> 0 | AQ102: =IF(AP102<1,0,IF(AP102<3,1,IF(AP102<6,2,IF(AP102<10,3,IF(AP102<15,4,IF(AP102<21,5,IF(AP102<28,6,IF(AP102<36,7,0)))))))) -> 0
C103: Integrated Weapons | T103: v2.0.3 | U103: sheet by Arthreas | AF103: =SUM(AF98:AF102) -> 0 | AI103: =$AI$96*AJ103 -> 480 | AJ103: 8 | AO103: =IF(ISNA(VLOOKUP(N298,X27:X49,1,FALSE)),"",VLOOKUP(N298,X27:X49,1,FALSE)) | AP103: =IF(ISNA(VLOOKUP(AO103,$X$27:$Y$49,2,FALSE)),0,VLOOKUP(AO103,$X$27:$Y$49,2,FALSE)) -> 0 | AQ103: =IF(AP103<1,0,IF(AP103<3,1,IF(AP103<6,2,IF(AP103<10,3,IF(AP103<15,4,IF(AP103<21,5,IF(AP103<28,6,IF(AP103<36,7,0)))))))) -> 0
C104: Weapon One | D104: Quality | E104: Skill | F104: Damage | G104: Type | H104: Range | J104: Special | L104: Weapon Type | AI104: =$AI$96*AJ104 -> 540 | AJ104: 9 | AP104: =IF(ISNA(VLOOKUP(AO104,$X$27:$Y$49,2,FALSE)),0,VLOOKUP(AO104,$X$27:$Y$49,2,FALSE)) -> 0 | AQ104: =IF(AP104<1,0,IF(AP104<3,1,IF(AP104<6,2,IF(AP104<10,3,IF(AP104<15,4,IF(AP104<21,5,IF(AP104<28,6,IF(AP104<36,7,0)))))))) -> 0
D105: Standard | E105: Untrained | L105: - | AO105: =IF(ISNA(VLOOKUP("Perception",X27:Y49,1,FALSE)),0,VLOOKUP("Perception",X27:Y49,1,FALSE)) -> 0 | AP105: =IF(ISNA(VLOOKUP(AO105,$X$27:$Y$49,2,FALSE)),0,VLOOKUP(AO105,$X$27:$Y$49,2,FALSE)) -> 0 | AQ105: =IF(AP105<1,0,IF(AP105<3,1,IF(AP105<6,2,IF(AP105<10,3,IF(AP105<15,4,IF(AP105<21,5,IF(AP105<28,6,IF(AP105<36,7,0)))))))) -> 0
C106: Weapon Two | D106: Quality | E106: Skill | F106: Damage | G106: Type | H106: Range | J106: Special | L106: Weapon Type | AD106: =SUM(AD107:AD108) -> 0 | AE106: =SUM(AE107:AE108) -> 0 | AF106: =SUM(AF107:AF108) -> 0 | AG106: =SUM(AG107:AG108) -> 0 | AH106: =SUM(AH107:AH108) -> 0 | AI106: =SUM(AI107:AI108) -> 0 | AJ106: =SUM(AJ107:AJ108) -> 0 | AK106: =SUM(AK107:AK108) -> 0 | ... AO106: =SUM(AO107:AO108) -> 0
D107: Standard | E107: Untrained | L107: - | AD107: =VLOOKUP($F$7,'Stat Modification'!AG3:AS100,2,FALSE) | AE107: =VLOOKUP($F$7,'Stat Modification'!AG3:AS100,3,FALSE) | AF107: =VLOOKUP($F$7,'Stat Modification'!AG3:AS100,4,FALSE) | AG107: =VLOOKUP($F$7,'Stat Modification'!AG3:AS100,5,FALSE) | AH107: =VLOOKUP($F$7,'Stat Modification'!AG3:AS100,6,FALSE) | AI107: =VLOOKUP($F$7,'Stat Modification'!AG3:AS100,7,FALSE) | AJ107: =VLOOKUP($F$7,'Stat Modification'!AG3:AS100,8,FALSE) | AK107: =VLOOKUP($F$7,'Stat Modification'!AG3:AS100,9,FALSE) | AL107: =VLOOKUP($F$7,'Stat Modification'!AG3:AS100,10,FALSE) | AM107: =VLOOKUP($F$7,'Stat Modification'!AG3:AS100,11,FALSE) | AN107: =VLOOKUP($F$7,'Stat Modification'!AG3:AS100,12,FALSE) | AO107: =VLOOKUP($F$7,'Stat Modification'!AG3:AS100,13,FALSE)
...

Sheet Weapons & Gear
B1: Weapons | O1: Gear/Misc Primary
B2: Qty | C2: Name | D2: Quality | E2: Skill | F2: Damage | G2: Damage Type | H2: Range | I2: Size | J2: Weight | K2: Cost | L2: Special | M2: Weapon Type | O2: Qty | P2: Name | Q2: Quality | R2: Skill | S2: Cost | T2: Weight | U2: Description
B3: 0 | D3: Standard | E3: Untrained | G3: - | M3: - | O3: 0 | Q3: Standard | R3: Untrained
B4: 0 | D4: Standard | E4: Untrained | G4: - | M4: - | O4: 0 | Q4: Standard | R4: Untrained
B5: 0 | D5: Standard | E5: Untrained | G5: - | M5: - | O5: 0 | Q5: Standard | R5: Untrained
B6: 0 | D6: Standard | E6: Untrained | G6: - | M6: - | O6: 0 | Q6: Standard | R6: Untrained
B7: 0 | D7: Standard | E7: Untrained | G7: - | M7: - | O7: 0 | Q7: Standard | R7: Untrained
B8: 0 | D8: Standard | E8: Untrained | G8: - | M8: - | O8: 0 | Q8: Standard | R8: Untrained
B9: 0 | D9: Standard | E9: Untrained | G9: - | M9: - | O9: 0 | Q9: Standard | R9: Untrained
B10: 0 | D10: Standard | E10: Untrained | G10: - | M10: - | O10: 0 | Q10: Standard | R10: Untrained
B11: 0 | D11: Standard | E11: Untrained | G11: - | M11: - | O11: 0 | Q11: Standard | R11: Untrained
B12: 0 | D12: Standard | E12: Untrained | G12: - | M12: - | O12: 0 | Q12: Standard | R12: Untrained
B13: 0 | D13: Standard | E13: Untrained | G13: - | M13: - | O13: 0 | Q13: Standard | R13: Untrained
B14: 0 | D14: Standard | E14: Untrained | G14: - | M14: - | O14: 0 | Q14: Standard | R14: Untrained
... B40: 0 | D40: Standard | E40: Untrained | G40: - | M40: - | O40: 0 | Q40: Standard | R40: Untrained

Sheet Armour & Shields
B1: Armour
B2: Qty | C2: Name | D2: Quality | E2: Skill | F2: Cost | G2: SOAK | H2: Resistance 1 | I2: SOAK | J2: Resistance 2 | K2: SOAK | L2: Resistance 3 | N2: SOAK | O2: Type | P2: Weight | R2: Ineffective 1 | S2: Ineffective 2 | T2: Powered
B3: 0 | D3: Standard | E3: Untrained | H3: - | J3: - | L3: - | O3: - | R3: - | S3: - | T3: -
B4: 0 | D4: Standard | E4: Untrained | H4: - | J4: - | L4: - | O4: - | R4: - | S4: - | T4: -
B5: 0 | D5: Standard | E5: Untrained | H5: - | J5: - | L5: - | O5: - | R5: - | S5: - | T5: -
B6: 0 | D6: Standard | E6: Untrained | H6: - | J6: - | L6: - | O6: - | R6: - | S6: - | T6: -
B7: 0 | D7: Standard | E7: Untrained | H7: - | J7: - | L7: - | O7: - | R7: - | S7: - | T7: -
B8: 0 | D8: Standard | E8: Untrained | H8: - | J8: - | L8: - | O8: - | R8: - | S8: - | T8: -
B9: 0 | D9: Standard | E9: Untrained | H9: - | J9: - | L9: - | O9: - | R9: - | S9: - | T9: -
B10: 0 | D10: Standard | E10: Untrained | H10: - | J10: - | L10: - | O10: - | R10: - | S10: - | T10: -
B11: 0 | D11: Standard | E11: Untrained | H11: - | J11: - | L11: - | O11: - | R11: - | S11: - | T11: -
B12: 0 | D12: Standard | E12: Untrained | H12: - | J12: - | L12: - | O12: - | R12: - | S12: - | T12: -
B13: 0 | D13: Standard | E13: Untrained | H13: - | J13: - | L13: - | O13: - | R13: - | S13: - | T13: -
B14: 0 | D14: Standard | E14: Untrained | H14: - | J14: - | L14: - | O14: - | R14: - | S14: - | T14: -
... B21: 0 | D21: Standard | E21: Untrained | H21: - | J21: - | L21: - | O21: - | R21: - | S21: - | T21: -
B22: Shields | L22: Gauntlets | U22: Unarmed Modification
B23: Qty | C23: Name | D23: Quality | E23: Skill | F23: DEF | G23: Cost | H23: Type | I23: Weight | J23: Damage | L23: Qty | M23: Name | O23: Quality | P23: Cost | Q23: Weight | R23: Damage
B24: 0 | D24: Standard | E24: Untrained | H24: - | L24: 0 | O24: Standard | U24: Name
B25: 0 | D25: Standard | E25: Untrained | H25: - | L25: 0 | O25: Standard
B26: 0 | D26: Standard | E26: Untrained | H26: - | L26: 0 | O26: Standard | U26: Damage Type
B27: 0 | D27: Standard | E27: Untrained | H27: - | L27: 0 | O27: Standard
B28: 0 | D28: Standard | E28: Untrained | H28: - | L28: 0 | O28: Standard
B29: 0 | D29: Standard | E29: Untrained | H29: - | L29: 0 | O29: Standard | U29: Extra Dicepool
B30: 0 | D30: Standard | E30: Untrained | H30: - | L30: 0 | O30: Standard
B31: 0 | D31: Standard | E31: Untrained | H31: - | L31: 0 | O31: Standard
B32: 0 | D32: Standard | E32: Untrained | H32: - | L32: 0 | O32: Standard | U32: Extra Damage
B33: 0 | D33: Standard | E33: Untrained | H33: - | L33: 0 | O33: Standard
B34: 0 | D34: Standard | E34: Untrained | H34: - | L34: 0 | O34: Standard
B35: 0 | D35: Standard | E35: Untrained | H35: - | L35: 0 | O35: Standard | U35: Range
B36: 0 | D36: Standard | E36: Untrained | H36: - | L36: 0 | O36: Standard
B37: 0 | D37: Standard | E37: Untrained | H37: - | L37: 0 | O37: Standard
B38: Helmets | L38: Gear Secondary/Other
B39: Qty | C39: Name | D39: Quality | E39: Skill | F39: SOAK | G39: Cost | H39: Defense | I39: Weight | J39: Type | L39: Qty | M39: Name | O39: Quality | P39: Cost | Q39: Weight | R39: Description
B40: 0 | D40: Standard | E40: Untrained | J40: - | L40: 0 | O40: Standard
B41: 0 | D41: Standard | E41: Untrained | J41: - | L41: 0 | O41: Standard
B42: 0 | D42: Standard | E42: Untrained | J42: - | L42: 0 | O42: Standard
B43: 0 | D43: Standard | E43: Untrained | J43: - | L43: 0 | O43: Standard
B44: 0 | D44: Standard | E44: Untrained | J44: - | L44: 0 | O44: Standard
B45: 0 | D45: Standard | E45: Untrained | J45: - | L45: 0 | O45: Standard
B46: 0 | D46: Standard | E46: Untrained | J46: - | L46: 0 | O46: Standard
B47: 0 | D47: Standard | E47: Untrained | J47: - | L47: 0 | O47: Standard
B48: 0 | D48: Standard | E48: Untrained | J48: - | L48: 0 | O48: Standard
B49: 0 | D49: Standard | E49: Untrained | J49: - | L49: 0 | O49: Standard
B50: 0 | D50: Standard | E50: Untrained | J50: - | L50: 0 | O50: Standard
B51: 0 | D51: Standard | E51: Untrained | J51: - | L51: 0 | O51: Standard
... B53: 0 | D53: Standard | E53: Untrained | J53: - | L53: 0 | O53: Standard

Sheet Skills & Exploits
B2: Skill | C2: Rank | D2: Dicepool | F2: Skill | G2: Rank | H2: Dicepool | J2: Exploit | K2: Description | V2: Untrained
D3: =IF(ISBLANK(C3),"",VLOOKUP(C3,$S$497:$T$527,2)&"d6") | H3: =IF(ISBLANK(G3),"",VLOOKUP(G3,$S$497:$T$527,2)&"d6") | V3: =IFERROR(__xludf.DUMMYFUNCTION("FILTER({J497:J611;M497:M611;P497:P611},{J497:J611;M497:M611;P497:P611}<>"""")"),"Select Skill") -> Select Skill | W3: =IFERROR(__xludf.DUMMYFUNCTION("FILTER({K497:K611;N497:N611;Q497:Q611},{K497:K611;N497:N611;Q497:Q611}<>"""",{K497:K611;N497:N611;Q497:Q611}<>0)"),"1") -> 1 | X3: =IF(ISBLANK(W3),"",VLOOKUP(W3,$S$497:$T$527,2)) -> 1
D4: =IF(ISBLANK(C4),"",VLOOKUP(C4,$S$497:$T$527,2)&"d6") | H4: =IF(ISBLANK(G4),"",VLOOKUP(G4,$S$497:$T$527,2)&"d6") | X4: =IF(ISBLANK(W4),"",VLOOKUP(W4,$S$497:$T$527,2))
D5: =IF(ISBLANK(C5),"",VLOOKUP(C5,$S$497:$T$527,2)&"d6") | H5: =IF(ISBLANK(G5),"",VLOOKUP(G5,$S$497:$T$527,2)&"d6") | X5: =IF(ISBLANK(W5),"",VLOOKUP(W5,$S$497:$T$527,2))
D6: =IF(ISBLANK(C6),"",VLOOKUP(C6,$S$497:$T$527,2)&"d6") | H6: =IF(ISBLANK(G6),"",VLOOKUP(G6,$S$497:$T$527,2)&"d6") | X6: =IF(ISBLANK(W6),"",VLOOKUP(W6,$S$497:$T$527,2))
D7: =IF(ISBLANK(C7),"",VLOOKUP(C7,$S$497:$T$527,2)&"d6") | H7: =IF(ISBLANK(G7),"",VLOOKUP(G7,$S$497:$T$527,2)&"d6") | X7: =IF(ISBLANK(W7),"",VLOOKUP(W7,$S$497:$T$527,2))
D8: =IF(ISBLANK(C8),"",VLOOKUP(C8,$S$497:$T$527,2)&"d6") | H8: =IF(ISBLANK(G8),"",VLOOKUP(G8,$S$497:$T$527,2)&"d6") | X8: =IF(ISBLANK(W8),"",VLOOKUP(W8,$S$497:$T$527,2))
D9: =IF(ISBLANK(C9),"",VLOOKUP(C9,$S$497:$T$527,2)&"d6") | H9: =IF(ISBLANK(G9),"",VLOOKUP(G9,$S$497:$T$527,2)&"d6") | X9: =IF(ISBLANK(W9),"",VLOOKUP(W9,$S$497:$T$527,2))
D10: =IF(ISBLANK(C10),"",VLOOKUP(C10,$S$497:$T$527,2)&"d6") | H10: =IF(ISBLANK(G10),"",VLOOKUP(G10,$S$497:$T$527,2)&"d6") | X10: =IF(ISBLANK(W10),"",VLOOKUP(W10,$S$497:$T$527,2))
D11: =IF(ISBLANK(C11),"",VLOOKUP(C11,$S$497:$T$527,2)&"d6") | H11: =IF(ISBLANK(G11),"",VLOOKUP(G11,$S$497:$T$527,2)&"d6") | X11: =IF(ISBLANK(W11),"",VLOOKUP(W11,$S$497:$T$527,2))
D12: =IF(ISBLANK(C12),"",VLOOKUP(C12,$S$497:$T$527,2)&"d6") | H12: =IF(ISBLANK(G12),"",VLOOKUP(G12,$S$497:$T$527,2)&"d6") | X12: =IF(ISBLANK(W12),"",VLOOKUP(W12,$S$497:$T$527,2))
D13: =IF(ISBLANK(C13),"",VLOOKUP(C13,$S$497:$T$527,2)&"d6") | H13: =IF(ISBLANK(G13),"",VLOOKUP(G13,$S$497:$T$527,2)&"d6") | X13: =IF(ISBLANK(W13),"",VLOOKUP(W13,$S$497:$T$527,2))
D14: =IF(ISBLANK(C14),"",VLOOKUP(C14,$S$497:$T$527,2)&"d6") | H14: =IF(ISBLANK(G14),"",VLOOKUP(G14,$S$497:$T$527,2)&"d6") | X14: =IF(ISBLANK(W14),"",VLOOKUP(W14,$S$497:$T$527,2))
D15: =IF(ISBLANK(C15),"",VLOOKUP(C15,$S$497:$T$527,2)&"d6") | H15: =IF(ISBLANK(G15),"",VLOOKUP(G15,$S$497:$T$527,2)&"d6") | X15: =IF(ISBLANK(W15),"",VLOOKUP(W15,$S$497:$T$527,2))
... D495: =IF(ISBLANK(C495),"",VLOOKUP(C495,$S$497:$T$527,2)&"d6") | H495: =IF(ISBLANK(G495),"",VLOOKUP(G495,$S$497:$T$527,2)&"d6") | X495: =IF(ISBLANK(W495),"",VLOOKUP(W495,$S$497:$T$527,2))
D496: =IF(ISBLANK(C496),"",VLOOKUP(C496,$S$497:$T$527,2)&"d6") | H496: =IF(ISBLANK(G496),"",VLOOKUP(G496,$S$497:$T$527,2)&"d6") | J496: Skill | K496: Rank | L496: Dice Pool | M496: Skill | N496: Rank | O496: Dice Pool | P496: Skill | Q496: Rank | R496: Dice Pool | S496: Reference Data | X496: =IF(ISBLANK(W496),"",VLOOKUP(W496,$S$497:$T$527,2))
D497: =IF(ISBLANK(C497),"",VLOOKUP(C497,$S$497:$T$527,2)&"d6") | H497: =IF(ISBLANK(G497),"",VLOOKUP(G497,$S$497:$T$527,2)&"d6") | J497: =IFERROR(__xludf.DUMMYFUNCTION("FILTER('Character Sheet'!X27:X49,'Character Sheet'!X27:X49<>"""")"),"Select Skill") -> Select Skill | K497: =IFERROR(__xludf.DUMMYFUNCTION("FILTER('Character Sheet'!Y27:Y49,'Character Sheet'!Y27:Y49<>"""",'Character Sheet'!Y27:Y49<>0)"),"1") -> 1 | L497: =VLOOKUP(K497,$S$497:$T$527,2,TRUE) -> 1 | M497: =IFERROR(__xludf.DUMMYFUNCTION("FILTER(B3:B1000,B3:B1000<>"""")"),"#N/A") -> #N/A | N497: =IFERROR(__xludf.DUMMYFUNCTION("FILTER(B3:B1000,B3:B1000<>"""")"),"#N/A") -> #N/A | O497: =VLOOKUP(N497,$S$497:$T$527,2,TRUE) -> #N/A | P497: =IFERROR(__xludf.DUMMYFUNCTION("FILTER(F3:F1000,F3:F1000<>"""")"),"#N/A") -> #N/A | Q497: =IFERROR(__xludf.DUMMYFUNCTION("FILTER(F3:F1000,F3:F1000<>"""")"),"#N/A") -> #N/A | R497: =VLOOKUP(Q497,$S$497:$T$527,2,TRUE) -> #N/A | S497: -36 | T497: -8 | X497: =IF(ISBLANK(W497),"",VLOOKUP(W497,$S$497:$T$527,2))
D498: =IF(ISBLANK(C498),"",VLOOKUP(C498,$S$497:$T$527,2)&"d6") | H498: =IF(ISBLANK(G498),"",VLOOKUP(G498,$S$497:$T$527,2)&"d6") | L498: =VLOOKUP(K498,$S$497:$T$527,2,TRUE) -> 0 | O498: =VLOOKUP(N498,$S$497:$T$527,2,TRUE) -> 0 | R498: =VLOOKUP(Q498,$S$497:$T$527,2,TRUE) -> 0 | S498: -28 | T498: -7 | X498: =IF(ISBLANK(W498),"",VLOOKUP(W498,$S$497:$T$527,2))
D499: =IF(ISBLANK(C499),"",VLOOKUP(C499,$S$497:$T$527,2)&"d6") | H499: =IF(ISBLANK(G499),"",VLOOKUP(G499,$S$497:$T$527,2)&"d6") | L499: =VLOOKUP(K499,$S$497:$T$527,2,TRUE) -> 0 | O499: =VLOOKUP(N499,$S$497:$T$527,2,TRUE) -> 0 | R499: =VLOOKUP(Q499,$S$497:$T$527,2,TRUE) -> 0 | S499: -21 | T499: -6 | X499: =IF(ISBLANK(W499),"",VLOOKUP(W499,$S$497:$T$527,2))
D500: =IF(ISBLANK(C500),"",VLOOKUP(C500,$S$497:$T$527,2)&"d6") | H500: =IF(ISBLANK(G500),"",VLOOKUP(G500,$S$497:$T$527,2)&"d6") | L500: =VLOOKUP(K500,$S$497:$T$527,2,TRUE) -> 0 | O500: =VLOOKUP(N500,$S$497:$T$527,2,TRUE) -> 0 | R500: =VLOOKUP(Q500,$S$497:$T$527,2,TRUE) -> 0 | S500: -15 | T500: -5 | X500: =IF(ISBLANK(W500),"",VLOOKUP(W500,$S$497:$T$527,2))
D501: =IF(ISBLANK(C501),"",VLOOKUP(C501,$S$497:$T$527,2)&"d6") | H501: =IF(ISBLANK(G501),"",VLOOKUP(G501,$S$497:$T$527,2)&"d6") | L501: =VLOOKUP(K501,$S$497:$T$527,2,TRUE) -> 0 | O501: =VLOOKUP(N501,$S$497:$T$527,2,TRUE) -> 0 | R501: =VLOOKUP(Q501,$S$497:$T$527,2,TRUE) -> 0 | S501: -10 | T501: -4 | X501: =IF(ISBLANK(W501),"",VLOOKUP(W501,$S$497:$T$527,2))
D502: =IF(ISBLANK(C502),"",VLOOKUP(C502,$S$497:$T$527,2)&"d6") | H502: =IF(ISBLANK(G502),"",VLOOKUP(G502,$S$497:$T$527,2)&"d6") | L502: =VLOOKUP(K502,$S$497:$T$527,2,TRUE) -> 0 | O502: =VLOOKUP(N502,$S$497:$T$527,2,TRUE) -> 0 | R502: =VLOOKUP(Q502,$S$497:$T$527,2,TRUE) -> 0 | S502: -6 | T502: -3 | X502: =IF(ISBLANK(W502),"",VLOOKUP(W502,$S$497:$T$527,2))
D503: =IF(ISBLANK(C503),"",VLOOKUP(C503,$S$497:$T$527,2)&"d6") | H503: =IF(ISBLANK(G503),"",VLOOKUP(G503,$S$497:$T$527,2)&"d6") | L503: =VLOOKUP(K503,$S$497:$T$527,2,TRUE) -> 0 | O503: =VLOOKUP(N503,$S$497:$T$527,2,TRUE) -> 0 | R503: =VLOOKUP(Q503,$S$497:$T$527,2,TRUE) -> 0 | S503: -3 | T503: -2 | X503: =IF(ISBLANK(W503),"",VLOOKUP(W503,$S$497:$T$527,2))
D504: =IF(ISBLANK(C504),"",VLOOKUP(C504,$S$497:$T$527,2)&"d6") | H504: =IF(ISBLANK(G504),"",VLOOKUP(G504,$S$497:$T$527,2)&"d6") | L504: =VLOOKUP(K504,$S$497:$T$527,2,TRUE) -> 0 | O504: =VLOOKUP(N504,$S$497:$T$527,2,TRUE) -> 0 | R504: =VLOOKUP(Q504,$S$497:$T$527,2,TRUE) -> 0 | S504: -1 | T504: -1 | X504: =IF(ISBLANK(W504),"",VLOOKUP(W504,$S$497:$T$527,2))
D505: =IF(ISBLANK(C505),"",VLOOKUP(C505,$S$497:$T$527,2)&"d6") | H505: =IF(ISBLANK(G505),"",VLOOKUP(G505,$S$497:$T$527,2)&"d6") | L505: =VLOOKUP(K505,$S$497:$T$527,2,TRUE) -> 0 | O505: =VLOOKUP(N505,$S$497:$T$527,2,TRUE) -> 0 | R505: =VLOOKUP(Q505,$S$497:$T$527,2,TRUE) -> 0 | S505: 0 | T505: 0 | X505: =IF(ISBLANK(W505),"",VLOOKUP(W505,$S$497:$T$527,2))
D506: =IF(ISBLANK(C506),"",VLOOKUP(C506,$S$497:$T$527,2)&"d6") | H506: =IF(ISBLANK(G506),"",VLOOKUP(G506,$S$497:$T$527,2)&"d6") | L506: =VLOOKUP(K506,$S$497:$T$527,2,TRUE) -> 0 | O506: =VLOOKUP(N506,$S$497:$T$527,2,TRUE) -> 0 | R506: =VLOOKUP(Q506,$S$497:$T$527,2,TRUE) -> 0 | S506: 1 | T506: 1 | X506: =IF(ISBLANK(W506),"",VLOOKUP(W506,$S$497:$T$527,2))
D507: =IF(ISBLANK(C507),"",VLOOKUP(C507,$S$497:$T$527,2)&"d6") | H507: =IF(ISBLANK(G507),"",VLOOKUP(G507,$S$497:$T$527,2)&"d6") | L507: =VLOOKUP(K507,$S$497:$T$527,2,TRUE) -> 0 | O507: =VLOOKUP(N507,$S$497:$T$527,2,TRUE) -> 0 | R507: =VLOOKUP(Q507,$S$497:$T$527,2,TRUE) -> 0 | S507: 3 | T507: 2 | X507: =IF(ISBLANK(W507),"",VLOOKUP(W507,$S$497:$T$527,2))
D508: =IF(ISBLANK(C508),"",VLOOKUP(C508,$S$497:$T$527,2)&"d6") | H508: =IF(ISBLANK(G508),"",VLOOKUP(G508,$S$497:$T$527,2)&"d6") | L508: =VLOOKUP(K508,$S$497:$T$527,2,TRUE) -> 0 | O508: =VLOOKUP(N508,$S$497:$T$527,2,TRUE) -> 0 | R508: =VLOOKUP(Q508,$S$497:$T$527,2,TRUE) -> 0 | S508: 6 | T508: 3 | X508: =IF(ISBLANK(W508),"",VLOOKUP(W508,$S$497:$T$527,2))
D509: =IF(ISBLANK(C509),"",VLOOKUP(C509,$S$497:$T$527,2)&"d6") | H509: =IF(ISBLANK(G509),"",VLOOKUP(G509,$S$497:$T$527,2)&"d6") | L509: =VLOOKUP(K509,$S$497:$T$527,2,TRUE) -> 0 | O509: =VLOOKUP(N509,$S$497:$T$527,2,TRUE) -> 0 | R509: =VLOOKUP(Q509,$S$497:$T$527,2,TRUE) -> 0 | S509: 10 | T509: 4 | X509: =IF(ISBLANK(W509),"",VLOOKUP(W509,$S$497:$T$527,2))
... D519: =IF(ISBLANK(C519),"",VLOOKUP(C519,$S$497:$T$527,2)&"d6") | H519: =IF(ISBLANK(G519),"",VLOOKUP(G519,$S$497:$T$527,2)&"d6") | L519: =VLOOKUP(K519,$S$497:$T$527,2,TRUE) -> 0 | O519: =VLOOKUP(N519,$S$497:$T$527,2,TRUE) -> 0 | R519: =VLOOKUP(Q519,$S$497:$T$527,2,TRUE) -> 0 | S519: 105 | T519: 14 | X519: =IF(ISBLANK(W519),"",VLOOKUP(W519,$S$497:$T$527,2))
D520: =IF(ISBLANK(C520),"",VLOOKUP(C520,$S$497:$T$527,2)&"d6") | H520: =IF(ISBLANK(G520),"",VLOOKUP(G520,$S$497:$T$527,2)&"d6") | O520: =VLOOKUP(N520,$S$497:$T$527,2,TRUE) -> 0 | R520: =VLOOKUP(Q520,$S$497:$T$527,2,TRUE) -> 0 | S520: 120 | T520: 15 | X520: =IF(ISBLANK(W520),"",VLOOKUP(W520,$S$497:$T$527,2))
D521: =IF(ISBLANK(C521),"",VLOOKUP(C521,$S$497:$T$527,2)&"d6") | H521: =IF(ISBLANK(G521),"",VLOOKUP(G521,$S$497:$T$527,2)&"d6") | O521: =VLOOKUP(N521,$S$497:$T$527,2,TRUE) -> 0 | R521: =VLOOKUP(Q521,$S$497:$T$527,2,TRUE) -> 0 | S521: 136 | T521: 16 | X521: =IF(ISBLANK(W521),"",VLOOKUP(W521,$S$497:$T$527,2))
D522: =IF(ISBLANK(C522),"",VLOOKUP(C522,$S$497:$T$527,2)&"d6") | H522: =IF(ISBLANK(G522),"",VLOOKUP(G522,$S$497:$T$527,2)&"d6") | O522: =VLOOKUP(N522,$S$497:$T$527,2,TRUE) -> 0 | R522: =VLOOKUP(Q522,$S$497:$T$527,2,TRUE) -> 0 | S522: 153 | T522: 17 | X522: =IF(ISBLANK(W522),"",VLOOKUP(W522,$S$497:$T$527,2))
D523: =IF(ISBLANK(C523),"",VLOOKUP(C523,$S$497:$T$527,2)&"d6") | H523: =IF(ISBLANK(G523),"",VLOOKUP(G523,$S$497:$T$527,2)&"d6") | O523: =VLOOKUP(N523,$S$497:$T$527,2,TRUE) -> 0 | R523: =VLOOKUP(Q523,$S$497:$T$527,2,TRUE) -> 0 | S523: 171 | T523: 18 | X523: =IF(ISBLANK(W523),"",VLOOKUP(W523,$S$497:$T$527,2))
D524: =IF(ISBLANK(C524),"",VLOOKUP(C524,$S$497:$T$527,2)&"d6") | H524: =IF(ISBLANK(G524),"",VLOOKUP(G524,$S$497:$T$527,2)&"d6") | O524: =VLOOKUP(N524,$S$497:$T$527,2,TRUE) -> 0 | R524: =VLOOKUP(Q524,$S$497:$T$527,2,TRUE) -> 0 | S524: 190 | T524: 19 | X524: =IF(ISBLANK(W524),"",VLOOKUP(W524,$S$497:$T$527,2))
D525: =IF(ISBLANK(C525),"",VLOOKUP(C525,$S$497:$T$527,2)&"d6") | H525: =IF(ISBLANK(G525),"",VLOOKUP(G525,$S$497:$T$527,2)&"d6") | O525: =VLOOKUP(N525,$S$497:$T$527,2,TRUE) -> 0 | R525: =VLOOKUP(Q525,$S$497:$T$527,2,TRUE) -> 0 | S525: 210 | T525: 20 | X525: =IF(ISBLANK(W525),"",VLOOKUP(W525,$S$497:$T$527,2))
D526: =IF(ISBLANK(C526),"",VLOOKUP(C526,$S$497:$T$527,2)&"d6") | H526: =IF(ISBLANK(G526),"",VLOOKUP(G526,$S$497:$T$527,2)&"d6") | O526: =VLOOKUP(N526,$S$497:$T$527,2,TRUE) -> 0 | R526: =VLOOKUP(Q526,$S$497:$T$527,2,TRUE) -> 0 | S526: 231 | T526: 21 | X526: =IF(ISBLANK(W526),"",VLOOKUP(W526,$S$497:$T$527,2))
D527: =IF(ISBLANK(C527),"",VLOOKUP(C527,$S$497:$T$527,2)&"d6") | H527: =IF(ISBLANK(G527),"",VLOOKUP(G527,$S$497:$T$527,2)&"d6") | O527: =VLOOKUP(N527,$S$497:$T$527,2,TRUE) -> 0 | R527: =VLOOKUP(Q527,$S$497:$T$527,2,TRUE) -> 0 | T527: 0 | X527: =IF(ISBLANK(W527),"",VLOOKUP(W527,$S$497:$T$527,2))
D528: =IF(ISBLANK(C528),"",VLOOKUP(C528,$S$497:$T$527,2)&"d6") | H528: =IF(ISBLANK(G528),"",VLOOKUP(G528,$S$497:$T$527,2)&"d6") | O528: =VLOOKUP(N528,$S$497:$T$527,2,TRUE) -> 0 | R528: =VLOOKUP(Q528,$S$497:$T$527,2,TRUE) -> 0 | X528: =IF(ISBLANK(W528),"",VLOOKUP(W528,$S$497:$T$527,2))
D529: =IF(ISBLANK(C529),"",VLOOKUP(C529,$S$497:$T$527,2)&"d6") | H529: =IF(ISBLANK(G529),"",VLOOKUP(G529,$S$497:$T$527,2)&"d6") | O529: =VLOOKUP(N529,$S$497:$T$527,2,TRUE) -> 0 | R529: =VLOOKUP(Q529,$S$497:$T$527,2,TRUE) -> 0 | X529: =IF(ISBLANK(W529),"",VLOOKUP(W529,$S$497:$T$527,2))
D530: =IF(ISBLANK(C530),"",VLOOKUP(C530,$S$497:$T$527,2)&"d6") | H530: =IF(ISBLANK(G530),"",VLOOKUP(G530,$S$497:$T$527,2)&"d6") | O530: =VLOOKUP(N530,$S$497:$T$527,2,TRUE) -> 0 | R530: =VLOOKUP(Q530,$S$497:$T$527,2,TRUE) -> 0 | X530: =IF(ISBLANK(W530),"",VLOOKUP(W530,$S$497:$T$527,2))
D531: =IF(ISBLANK(C531),"",VLOOKUP(C531,$S$497:$T$527,2)&"d6") | H531: =IF(ISBLANK(G531),"",VLOOKUP(G531,$S$497:$T$527,2)&"d6") | O531: =VLOOKUP(N531,$S$497:$T$527,2,TRUE) -> 0 | R531: =VLOOKUP(Q531,$S$497:$T$527,2,TRUE) -> 0 | X531: =IF(ISBLANK(W531),"",VLOOKUP(W531,$S$497:$T$527,2))
D532: =IF(ISBLANK(C532),"",VLOOKUP(C532,$S$497:$T$527,2)&"d6") | H532: =IF(ISBLANK(G532),"",VLOOKUP(G532,$S$497:$T$527,2)&"d6") | O532: =VLOOKUP(N532,$S$497:$T$527,2,TRUE) -> 0 | R532: =VLOOKUP(Q532,$S$497:$T$527,2,TRUE) -> 0 | X532: =IF(ISBLANK(W532),"",VLOOKUP(W532,$S$497:$T$527,2))
D533: =IF(ISBLANK(C533),"",VLOOKUP(C533,$S$497:$T$527,2)&"d6") | H533: =IF(ISBLANK(G533),"",VLOOKUP(G533,$S$497:$T$527,2)&"d6") | O533: =VLOOKUP(N533,$S$497:$T$527,2,TRUE) -> 0 | R533: =VLOOKUP(Q533,$S$497:$T$527,2,TRUE) -> 0 | X533: =IF(ISBLANK(W533),"",VLOOKUP(W533,$S$497:$T$527,2))
D534: =IF(ISBLANK(C534),"",VLOOKUP(C534,$S$497:$T$527,2)&"d6") | H534: =IF(ISBLANK(G534),"",VLOOKUP(G534,$S$497:$T$527,2)&"d6") | O534: =VLOOKUP(N534,$S$497:$T$527,2,TRUE) -> 0 | R534: =VLOOKUP(Q534,$S$497:$T$527,2,TRUE) -> 0 | X534: =IF(ISBLANK(W534),"",VLOOKUP(W534,$S$497:$T$527,2))
D535: =IF(ISBLANK(C535),"",VLOOKUP(C535,$S$497:$T$527,2)&"d6") | H535: =IF(ISBLANK(G535),"",VLOOKUP(G535,$S$497:$T$527,2)&"d6") | O535: =VLOOKUP(N535,$S$497:$T$527,2,TRUE) -> 0 | R535: =VLOOKUP(Q535,$S$497:$T$527,2,TRUE) -> 0 | X535: =IF(ISBLANK(W535),"",VLOOKUP(W535,$S$497:$T$527,2))
D536: =IF(ISBLANK(C536),"",VLOOKUP(C536,$S$497:$T$527,2)&"d6") | H536: =IF(ISBLANK(G536),"",VLOOKUP(G536,$S$497:$T$527,2)&"d6") | O536: =VLOOKUP(N536,$S$497:$T$527,2,TRUE) -> 0 | R536: =VLOOKUP(Q536,$S$497:$T$527,2,TRUE) -> 0 | X536: =IF(ISBLANK(W536),"",VLOOKUP(W536,$S$497:$T$527,2))
D537: =IF(ISBLANK(C537),"",VLOOKUP(C537,$S$497:$T$527,2)&"d6") | H537: =IF(ISBLANK(G537),"",VLOOKUP(G537,$S$497:$T$527,2)&"d6") | O537: =VLOOKUP(N537,$S$497:$T$527,2,TRUE) -> 0 | R537: =VLOOKUP(Q537,$S$497:$T$527,2,TRUE) -> 0 | X537: =IF(ISBLANK(W537),"",VLOOKUP(W537,$S$497:$T$527,2))
D538: =IF(ISBLANK(C538),"",VLOOKUP(C538,$S$497:$T$527,2)&"d6") | H538: =IF(ISBLANK(G538),"",VLOOKUP(G538,$S$497:$T$527,2)&"d6") | O538: =VLOOKUP(N538,$S$497:$T$527,2,TRUE) -> 0 | R538: =VLOOKUP(Q538,$S$497:$T$527,2,TRUE) -> 0 | X538: =IF(ISBLANK(W538),"",VLOOKUP(W538,$S$497:$T$527,2))
D539: =IF(ISBLANK(C539),"",VLOOKUP(C539,$S$497:$T$527,2)&"d6") | H539: =IF(ISBLANK(G539),"",VLOOKUP(G539,$S$497:$T$527,2)&"d6") | O539: =VLOOKUP(N539,$S$497:$T$527,2,TRUE) -> 0 | R539: =VLOOKUP(Q539,$S$497:$T$527,2,TRUE) -> 0 | X539: =IF(ISBLANK(W539),"",VLOOKUP(W539,$S$497:$T$527,2))
... D611: =IF(ISBLANK(C611),"",VLOOKUP(C611,$S$497:$T$527,2)&"d6") | H611: =IF(ISBLANK(G611),"",VLOOKUP(G611,$S$497:$T$527,2)&"d6") | O611: =VLOOKUP(N611,$S$497:$T$527,2,TRUE) -> 0 | R611: =VLOOKUP(Q611,$S$497:$T$527,2,TRUE) -> 0 | X611: =IF(ISBLANK(W611),"",VLOOKUP(W611,$S$497:$T$527,2))
D612: =IF(ISBLANK(C612),"",VLOOKUP(C612,$S$497:$T$527,2)&"d6") | H612: =IF(ISBLANK(G612),"",VLOOKUP(G612,$S$497:$T$527,2)&"d6") | X612: =IF(ISBLANK(W612),"",VLOOKUP(W612,$S$497:$T$527,2))
D613: =IF(ISBLANK(C613),"",VLOOKUP(C613,$S$497:$T$527,2)&"d6") | H613: =IF(ISBLANK(G613),"",VLOOKUP(G613,$S$497:$T$527,2)&"d6") | X613: =IF(ISBLANK(W613),"",VLOOKUP(W613,$S$497:$T$527,2))
D614: =IF(ISBLANK(C614),"",VLOOKUP(C614,$S$497:$T$527,2)&"d6") | H614: =IF(ISBLANK(G614),"",VLOOKUP(G614,$S$497:$T$527,2)&"d6") | X614: =IF(ISBLANK(W614),"",VLOOKUP(W614,$S$497:$T$527,2))
D615: =IF(ISBLANK(C615),"",VLOOKUP(C615,$S$497:$T$527,2)&"d6") | H615: =IF(ISBLANK(G615),"",VLOOKUP(G615,$S$497:$T$527,2)&"d6") | X615: =IF(ISBLANK(W615),"",VLOOKUP(W615,$S$497:$T$527,2))
D616: =IF(ISBLANK(C616),"",VLOOKUP(C616,$S$497:$T$527,2)&"d6") | H616: =IF(ISBLANK(G616),"",VLOOKUP(G616,$S$497:$T$527,2)&"d6") | X616: =IF(ISBLANK(W616),"",VLOOKUP(W616,$S$497:$T$527,2))
D617: =IF(ISBLANK(C617),"",VLOOKUP(C617,$S$497:$T$527,2)&"d6") | H617: =IF(ISBLANK(G617),"",VLOOKUP(G617,$S$497:$T$527,2)&"d6") | X617: =IF(ISBLANK(W617),"",VLOOKUP(W617,$S$497:$T$527,2))
D618: =IF(ISBLANK(C618),"",VLOOKUP(C618,$S$497:$T$527,2)&"d6") | H618: =IF(ISBLANK(G618),"",VLOOKUP(G618,$S$497:$T$527,2)&"d6") | X618: =IF(ISBLANK(W618),"",VLOOKUP(W618,$S$497:$T$527,2))
D619: =IF(ISBLANK(C619),"",VLOOKUP(C619,$S$497:$T$527,2)&"d6") | H619: =IF(ISBLANK(G619),"",VLOOKUP(G619,$S$497:$T$527,2)&"d6") | X619: =IF(ISBLANK(W619),"",VLOOKUP(W619,$S$497:$T$527,2))
D620: =IF(ISBLANK(C620),"",VLOOKUP(C620,$S$497:$T$527,2)&"d6") | H620: =IF(ISBLANK(G620),"",VLOOKUP(G620,$S$497:$T$527,2)&"d6") | X620: =IF(ISBLANK(W620),"",VLOOKUP(W620,$S$497:$T$527,2))
D621: =IF(ISBLANK(C621),"",VLOOKUP(C621,$S$497:$T$527,2)&"d6") | H621: =IF(ISBLANK(G621),"",VLOOKUP(G621,$S$497:$T$527,2)&"d6") | X621: =IF(ISBLANK(W621),"",VLOOKUP(W621,$S$497:$T$527,2))
D622: =IF(ISBLANK(C622),"",VLOOKUP(C622,$S$497:$T$527,2)&"d6") | H622: =IF(ISBLANK(G622),"",VLOOKUP(G622,$S$497:$T$527,2)&"d6") | X622: =IF(ISBLANK(W622),"",VLOOKUP(W622,$S$497:$T$527,2))
D623: =IF(ISBLANK(C623),"",VLOOKUP(C623,$S$497:$T$527,2)&"d6") | H623: =IF(ISBLANK(G623),"",VLOOKUP(G623,$S$497:$T$527,2)&"d6") | X623: =IF(ISBLANK(W623),"",VLOOKUP(W623,$S$497:$T$527,2))
... D1000: =IF(ISBLANK(C1000),"",VLOOKUP(C1000,$S$497:$T$527,2)&"d6") | H1000: =IF(ISBLANK(G1000),"",VLOOKUP(G1000,$S$497:$T$527,2)&"d6") | X1000: =IF(ISBLANK(W1000),"",VLOOKUP(W1000,$S$497:$T$527,2))

Sheet Stat Block
A4: =CONCATENATE("STR"," ",'Character Sheet'!C13," ","(",'Character Sheet'!C10,")") -> STR 3 (2d6) | B4: =CONCATENATE("AGI"," ",'Character Sheet'!D13," ","(",'Character Sheet'!D10,")") -> AGI 3 (2d6) | C4: =CONCATENATE("END"," ",'Character Sheet'!E13," ","(",'Character Sheet'!E10,")") -> END 3 (2d6) | D4: =CONCATENATE("MAG"," ",'Character Sheet'!H13," ","(",'Character Sheet'!H10,")") -> MAG 0 (0d6)
A5: =CONCATENATE("WIL"," ",'Character Sheet'!F13," ","(",'Character Sheet'!F10,")") -> WIL 3 (2d6) | B5: =CONCATENATE("INT"," ",'Character Sheet'!G13," ","(",'Character Sheet'!G10,")") -> INT 3 (2d6) | C5: =CONCATENATE("LOG"," ",'Character Sheet'!C20," ","(",'Character Sheet'!C17,")") -> LOG 3 (2d6) | D5: =CONCATENATE("CHA"," ",'Character Sheet'!D20," ","(",'Character Sheet'!D17,")") -> CHA 3 (2d6) | E5: =IF('Character Sheet'!I302="Nothing",";",CONCATENATE(" (",'Character Sheet'!I302,")")) -> ; | F5: =IF('Character Sheet'!H2="None","-",'Character Sheet'!H2) -> - | G5: =CONCATENATE("REACH"," ",IF(E28="ACTIONS 0",5,IF(E28="ACTIONS 2",5,IF(E28="ACTIONS 3",10,IF(E28="ACTIONS 4",15,IF(E28="ACTIONS 5",20,IF(E28="ACTIONS 6",30,0))))))) -> REACH 5 | H5: =IF('Character Sheet'!C20<3,"semi-sentient",IF('Character Sheet'!C20<20,"sentient","super-sentient")) -> sentient
A6: =CONCATENATE("LUC"," ",'Character Sheet'!E20," ","(",'Character Sheet'!E17,")") -> LUC 3 (2d6) | B6: =CONCATENATE("REP"," ",'Character Sheet'!F20," ","(",'Character Sheet'!F17,")") -> REP 0 (0d6) | C6: =CONCATENATE("PSI"," ",'Character Sheet'!G20," ","(",'Character Sheet'!G17,")") -> PSI 0 (0d6) | D6: =IF('Character Sheet'!P74="-",";","") | E6: =IF(ISBLANK('Character Sheet'!P74),"-",CONCATENATE('Character Sheet'!P74,", ",'Character Sheet'!R74,", ",'Character Sheet'!S74,", ",'Character Sheet'!U74)) -> -
E9: ='Character Sheet'!D3
I10: =IFERROR(__xludf.DUMMYFUNCTION("IF(ISNA(FILTER(I30:I52,I30:I52<>"""")),"""",FILTER(I30:I52,I30:I52<>""""))"),"") | J10: =IFERROR(__xludf.DUMMYFUNCTION("IF(ISNA(FILTER(K30:K52,K30:K52<>"""")),"""",FILTER(K30:K52,K30:K52<>""""))"),"")
E11: =CONCATENATE('Character Sheet'!J3," ",H5," ",'Character Sheet'!D2," ","(",'Character Sheet'!C6,"d6",")") -> Select Size sentient Voidanoid (5d6)
A12: =IFERROR(__xludf.DUMMYFUNCTION("UNIQUE('Character Sheet'!L35:L59)"),"") | B12: =IF(A12="Nothing","",IF(A12="Name","",IF(ISTEXT(A12),CONCATENATE(A12,", "),""))) | C12: =IFERROR(__xludf.DUMMYFUNCTION("FILTER(B12:B31,B12:B31<>"""")"),"#N/A") -> #N/A | E12: =CONCATENATE("A"," ",'Character Sheet'!M3," ",'Character Sheet'!P3," ",'Character Sheet'!R3," ",'Character Sheet'!S3," ",'Character Sheet'!T3) -> A (trait) Select Race Career who (hook)
B13: =IF(A13="Nothing","",IF(A13="Name","",IF(ISTEXT(A13),CONCATENATE(A13,", "),"")))
B14: =IF(A14="Nothing","",IF(A14="Name","",IF(ISTEXT(A14),CONCATENATE(A14,", "),""))) | E14: =CONCATENATE(A4," ",B4," ",C4) -> STR 3 (2d6) AGI 3 (2d6) END 3 (2d6)
B15: =IF(A15="Nothing","",IF(A15="Name","",IF(ISTEXT(A15),CONCATENATE(A15,", "),""))) | E15: =CONCATENATE(B5," ",C5," ",A5," ",D5) -> INT 3 (2d6) LOG 3 (2d6) WIL 3 (2d6) CHA 3 (2d6)
B16: =IF(A16="Nothing","",IF(A16="Name","",IF(ISTEXT(A16),CONCATENATE(A16,", "),""))) | E16: =CONCATENATE(A6," ",B6," ",C6," ",D4) -> LUC 3 (2d6) REP 0 (0d6) PSI 0 (0d6) MAG 0 (0d6)
B17: =IF(A17="Nothing","",IF(A17="Name","",IF(ISTEXT(A17),CONCATENATE(A17,", "),""))) | E17: =CONCATENATE("HEALTH"," ",'Character Sheet'!C28) -> HEALTH 16
B18: =IF(A18="Nothing","",IF(A18="Name","",IF(ISTEXT(A18),CONCATENATE(A18,", "),"")))
B19: =IF(A19="Nothing","",IF(A19="Name","",IF(ISTEXT(A19),CONCATENATE(A19,", "),""))) | E19: =CONCATENATE("MELEE DEFENSE"," ",'Character Sheet'!C25,";"," ","RANGED DEFENSE"," ",'Character Sheet'!D25,";") -> MELEE DEFENSE 10; RANGED DEFENSE 10;
B20: =IF(A20="Nothing","",IF(A20="Name","",IF(ISTEXT(A20),CONCATENATE(A20,", "),""))) | E20: =CONCATENATE("MENTAL DEFENSE"," ",'Character Sheet'!E25) -> MENTAL DEFENSE 10
B21: =IF(A21="Nothing","",IF(A21="Name","",IF(ISTEXT(A21),CONCATENATE(A21,", "),""))) | E21: =CONCATENATE("SOAK"," ",'Character Sheet'!G25,E5," ","VULN"," ",F5,"; ","immune ",E6) -> SOAK 0; VULN -; immune -
B22: =IF(A22="Nothing","",IF(A22="Name","",IF(ISTEXT(A22),CONCATENATE(A22,", "),"")))
B23: =IF(A23="Nothing","",IF(A23="Name","",IF(ISTEXT(A23),CONCATENATE(A23,", "),""))) | E23: =CONCATENATE("STATUS IMMUNITIES"," ",'Character Sheet'!P76," ",'Character Sheet'!R76," ",'Character Sheet'!S76," ",'Character Sheet'!U76) -> STATUS IMMUNITIES
B24: =IF(A24="Nothing","",IF(A24="Name","",IF(ISTEXT(A24),CONCATENATE(A24,", "),""))) | E24: INITIATIVE | F24: ='Character Sheet'!D33 -> 2d6
B25: =IF(A25="Nothing","",IF(A25="Name","",IF(ISTEXT(A25),CONCATENATE(A25,", "),""))) | E25: PERCEPTION | F25: ='Character Sheet'!G33 -> -
B26: =IF(A26="Nothing","",IF(A26="Name","",IF(ISTEXT(A26),CONCATENATE(A26,", "),""))) | E26: =CONCATENATE("SPEED"," ",'Character Sheet'!E28) -> SPEED 4 | F26: =CONCATENATE("CLIMB"," ",'Character Sheet'!F28) -> CLIMB 2 | G26: =CONCATENATE("JUMP"," ",'Character Sheet'!C31) -> JUMP 6'/3'
B27: =IF(A27="Nothing","",IF(A27="Name","",IF(ISTEXT(A27),CONCATENATE(A27,", "),""))) | E27: =CONCATENATE("CARRY ",'Character Sheet'!AI96,"lb"," (max lift ",'Character Sheet'!AG98,"lb)") -> CARRY 60lb (max lift 150lb)
B28: =IF(A28="Nothing","",IF(A28="Name","",IF(ISTEXT(A28),CONCATENATE(A28,", "),""))) | E28: =CONCATENATE("ACTIONS"," ",IF(OR('Character Sheet'!J3="Tiny",'Character Sheet'!J3="Small",'Character Sheet'!J3="Medium",'Character Sheet'!J3="Large"),2,IF('Character Sheet'!J3="Enormous",3,IF('Character Sheet'!J3="Gigantic",4,IF('Character Sheet'!J3="Colossal",5,IF('Character Sheet'!J3="Titanic",6,0)))))) -> ACTIONS 0
B29: =IF(A29="Nothing","",IF(A29="Name","",IF(ISTEXT(A29),CONCATENATE(A29,", "),""))) | E29: =CONCATENATE("NATURAL DAMAGE"," ",'Character Sheet'!E329) -> NATURAL DAMAGE 0d6+2
B30: =IF(A30="Nothing","",IF(A30="Name","",IF(ISTEXT(A30),CONCATENATE(A30,", "),""))) | E30: =CONCATENATE(G5,"'") -> REACH 5' | I30: =IFERROR(__xludf.DUMMYFUNCTION("UNIQUE('Character Sheet'!I7:L25)"),"#REF!") -> #REF! | K30: =IFERROR(__xludf.DUMMYFUNCTION("UNIQUE('Character Sheet'!M7:U25)"),"")
B31: =IF(A31="Nothing","",IF(A31="Name","",IF(ISTEXT(A31),CONCATENATE(A31,", "),"")))
E32: =" "&'Character Sheet'!C36
B33: =CONCATENATE('Character Sheet'!X27," ",'Character Sheet'!Y27," ") -> Select Skill 1 | C33: =CONCATENATE("(",'Character Sheet'!Z27,"), ") -> (1d6),
B34: =CONCATENATE('Character Sheet'!X28," ",'Character Sheet'!Y28," ") -> 0 | C34: =CONCATENATE("(",'Character Sheet'!Z28,"), ") -> (0d6), | E34: =" "&'Character Sheet'!C37
B35: =CONCATENATE('Character Sheet'!X29," ",'Character Sheet'!Y29," ") -> 0 | C35: =CONCATENATE("(",'Character Sheet'!Z29,"), ") -> (0d6),
B36: =CONCATENATE('Character Sheet'!X30," ",'Character Sheet'!Y30," ") -> 0 | C36: =CONCATENATE("(",'Character Sheet'!Z30,"), ") -> (0d6), | E36: =" "&'Character Sheet'!C38
B37: =CONCATENATE('Character Sheet'!X31," ",'Character Sheet'!Y31," ") -> 0 | C37: =CONCATENATE("(",'Character Sheet'!Z31,"), ") -> (0d6),
B38: =CONCATENATE('Character Sheet'!X32," ",'Character Sheet'!Y32," ") -> 0 | C38: =CONCATENATE("(",'Character Sheet'!Z32,"), ") -> (0d6), | E38: =IF(B33="Select Skill 1 ","",CONCATENATE(" Skills - ",B58:C80))
B39: =CONCATENATE('Character Sheet'!X33," ",'Character Sheet'!Y33," ") -> 0 | C39: =CONCATENATE("(",'Character Sheet'!Z33,"), ") -> (0d6),
B40: =CONCATENATE('Character Sheet'!X34," ",'Character Sheet'!Y34," ") -> 0 | C40: =CONCATENATE("(",'Character Sheet'!Z34,"), ") -> (0d6),
B41: =CONCATENATE('Character Sheet'!X35," ",'Character Sheet'!Y35," ") -> 0 | C41: =CONCATENATE("(",'Character Sheet'!Z35,"), ") -> (0d6),
B42: =CONCATENATE('Character Sheet'!X36," ",'Character Sheet'!Y36," ") -> 0 | C42: =CONCATENATE("(",'Character Sheet'!Z36,"), ") -> (0d6),
B43: =CONCATENATE('Character Sheet'!X37," ",'Character Sheet'!Y37," ") -> 0 | C43: =CONCATENATE("(",'Character Sheet'!Z37,"), ") -> (0d6),
B44: =CONCATENATE('Character Sheet'!X38," ",'Character Sheet'!Y38," ") -> 0 | C44: =CONCATENATE("(",'Character Sheet'!Z38,"), ") -> (0d6),
B45: =CONCATENATE('Character Sheet'!X39," ",'Character Sheet'!Y39," ") -> 0 | C45: =CONCATENATE("(",'Character Sheet'!Z39,"), ") -> (0d6),
B46: =CONCATENATE('Character Sheet'!X40," ",'Character Sheet'!Y40," ") -> 0 | C46: =CONCATENATE("(",'Character Sheet'!Z40,"), ") -> (0d6),
B47: =CONCATENATE('Character Sheet'!X41," ",'Character Sheet'!Y41," ") -> 0 | C47: =CONCATENATE("(",'Character Sheet'!Z41,"), ") -> (0d6),
B48: =CONCATENATE('Character Sheet'!X42," ",'Character Sheet'!Y42," ") -> 0 | C48: =CONCATENATE("(",'Character Sheet'!Z42,"), ") -> (0d6),
B49: =CONCATENATE('Character Sheet'!X43," ",'Character Sheet'!Y43," ") -> 0 | C49: =CONCATENATE("(",'Character Sheet'!Z43,"), ") -> (0d6),
B50: =CONCATENATE('Character Sheet'!X44," ",'Character Sheet'!Y44," ") -> 0 | C50: =CONCATENATE("(",'Character Sheet'!Z44,"), ") -> (0d6),
... B54: =CONCATENATE('Character Sheet'!X48," ",'Character Sheet'!Y48," ") -> 0 | C54: =CONCATENATE("(",'Character Sheet'!Z48,"), ") -> (0d6),
B55: =CONCATENATE('Character Sheet'!X49," ",'Character Sheet'!Y49," ") -> 0 | C55: =CONCATENATE("(",'Character Sheet'!Z49,")") -> (0d6)
B58: =IF(B33=" 0 ","",B33) -> Select Skill 1 | C58: =IF(B58="","",C33) -> (1d6),
B59: =IF(B34=" 0 ","",B34) | C59: =IF(B59="","",C34)
B60: =IF(B35=" 0 ","",B35) | C60: =IF(B60="","",C35)
B61: =IF(B36=" 0 ","",B36) | C61: =IF(B61="","",C36)
B62: =IF(B37=" 0 ","",B37) | C62: =IF(B62="","",C37)
B63: =IF(B38=" 0 ","",B38) | C63: =IF(B63="","",C38)
B64: =IF(B39=" 0 ","",B39) | C64: =IF(B64="","",C39)
B65: =IF(B40=" 0 ","",B40) | C65: =IF(B65="","",C40)
B66: =IF(B41=" 0 ","",B41) | C66: =IF(B66="","",C41)
B67: =IF(B42=" 0 ","",B42) | C67: =IF(B67="","",C42)
B68: =IF(B43=" 0 ","",B43) | C68: =IF(B68="","",C43)
B69: =IF(B44=" 0 ","",B44) | C69: =IF(B69="","",C44)
... B80: =IF(B55=" 0 ","",B55) | C80: =IF(B80="","",C55)

Sheet Race Modification
B1: Race Type | C1: Name | D1: STR | E1: AGI | F1: END | G1: INT | H1: WIL | I1: LOG | J1: CHA | K1: LUC | L1: REP | M1: PSI | N1: MAG | O1: CHI | P1: =VLOOKUP('Character Sheet'!P3,C2:S56,14,FALSE) | Q1: =VLOOKUP('Character Sheet'!P3,C2:S56,15,FALSE) | R1: =VLOOKUP('Character Sheet'!P3,C2:S56,16,FALSE) | S1: Select Size | T1: Adult | U1: Old | V1: n/a | W1: Jump Horizontal | X1: Jump Vertical | Y1: Resistance (SOAK) 1 | Z1: Val | AA1: Resistance (SOAK) 2 | AB1: Val | AC1: Melee Defense | AD1: Ranged Defense | AE1: Mental Defense | AF1: SPEED | AG1: Climb | AH1: Swim | AI1: High-g | AJ1: Low-g | AK1: Zero-g | AL1: Fly | AM1: Health | AN1: Actions | AO1: Perception | AP1: Initiative | AQ1: Unarmed Bonus | AR1: Unarmed Type | AS1: Range | AT1: Carry Percent | AU1: Initiative | AV1: Vulnerability 1 | AW1: Val | AX1: Vulnerability 2 | AY1: Val | AZ1: Immune 1 | BA1: Immune 2 | BB1: Natural Attack Name 1 | BC1: Damage Type 1 | BD1: Damage Type 2 | BE1: Damage | BF1: Range | BG1: Special | BH1: Melee or Ranged | BI1: Natural Attack Name 2 | BJ1: Damage Type 1 | BK1: Damage Type 2 | BL1: Damage | BM1: Range | BN1: Special | BO1: Melee or Ranged | BP1: Resolve
A2: 1 | B2: Voidanoid | C2: Select Race | S2: =B2 -> Voidanoid | Y2: - | AA2: - | AR2: - | AV2: - | AX2: - | AZ2: - | BA2: - | BC2: - | BD2: - | BH2: - | BJ2: - | BK2: - | BO2: -
A3: 2 | B3: Humanoid | C3: Human | K3: 2 | P3: Medium | S3: =B3 -> Humanoid | T3: 26 | U3: 60 | Y3: - | AA3: - | AR3: - | AV3: - | AX3: - | AZ3: - | BA3: - | BC3: - | BD3: - | BH3: - | BJ3: - | BK3: - | BO3: -
A4: 3 | B4: Humanoid | C4: Borian | F4: 1 | G4: 1 | J4: 1 | P4: Small | S4: =B4 -> Humanoid | T4: 90 | U4: 210 | Y4: - | AA4: - | AR4: - | AV4: - | AX4: - | AZ4: Poison | BA4: - | BC4: - | BD4: - | BH4: - | BJ4: - | BK4: - | BO4: -
A5: 4 | B5: Humanoid | C5: Ogron | D5: 2 | F5: 2 | P5: Large | S5: =B5 -> Humanoid | T5: 20 | U5: 40 | Y5: - | AA5: - | AE5: 4 | AR5: - | AT5: 50 | AV5: - | AX5: - | AZ5: - | BA5: - | BC5: - | BD5: - | BH5: - | BJ5: - | BK5: - | BO5: -
A6: 5 | B6: Humanoid | C6: Felan | E6: 2 | G6: 1 | J6: 1 | K6: 1 | P6: Medium | S6: =B6 -> Humanoid | T6: 12 | U6: 40 | W6: 5 | X6: 5 | Y6: - | AA6: - | AF6: 2 | AQ6: 1 | AR6: Slashing | AV6: - | AX6: - | AZ6: - | BA6: - | BC6: - | BD6: - | BH6: - | BJ6: - | BK6: - | BO6: -
A7: 6 | B7: Humanoid | C7: Spartan | D7: 1 | E7: 1 | F7: 1 | P7: Medium | S7: =B7 -> Humanoid | T7: 31 | U7: 70 | Y7: - | AA7: - | AR7: - | AV7: - | AX7: - | AZ7: - | BA7: - | BC7: - | BD7: - | BH7: - | BJ7: - | BK7: - | BO7: -
A8: 7 | B8: Mechanoid | C8: Android | D8: 2 | I8: 2 | K8: -3 | P8: Small | Q8: Medium | R8: Large | S8: =B8 -> Mechanoid | Y8: - | AA8: - | AE8: Immune | AR8: - | AV8: Electricity | AW8: 1 | AX8: Ion | AY8: 2 | AZ8: - | BA8: - | BC8: - | BD8: - | BH8: - | BJ8: - | BK8: - | BO8: -
A9: 8 | B9: Humanoid | C9: Venetian | E9: 1 | I9: 2 | K9: -2 | M9: 3 | P9: Medium | S9: =B9 -> Humanoid | T9: 190 | U9: 550 | Y9: - | AA9: - | AR9: - | AV9: - | AX9: - | AZ9: - | BA9: - | BC9: - | BD9: - | BH9: - | BJ9: - | BK9: - | BO9: -
A10: 9 | B10: Fey | C10: Grand Elf | E10: 2 | I10: 2 | K10: -2 | N10: 3 | P10: Medium | S10: =B10 -> Fey | T10: 190 | U10: 550 | Y10: - | AA10: - | AR10: - | AV10: - | AX10: - | AZ10: - | BA10: - | BC10: - | BD10: - | BH10: - | BJ10: - | BK10: - | BO10: -
A11: 10 | B11: Goblinoid | C11: Ogre | D11: 3 | F11: 3 | P11: Large | S11: =B11 -> Goblinoid | Y11: Natural | Z11: 2 | AA11: Acid | AB11: 5 | AR11: - | AV11: - | AX11: - | AZ11: - | BA11: - | BC11: - | BD11: - | BH11: - | BJ11: - | BK11: - | BO11: -
A12: 11 | B12: Fey | C12: Sylvan Elf | E12: 2 | F12: 2 | N12: 3 | P12: Medium | S12: =B12 -> Fey | Y12: - | AA12: - | AG12: Equal | AR12: - | AV12: - | AX12: - | AZ12: - | BA12: - | BC12: - | BD12: - | BH12: - | BJ12: - | BK12: - | BO12: -
A13: 12 | B13: Humanoid | C13: Smallfolk | E13: 2 | J13: 2 | K13: 2 | N13: 1 | P13: Small | S13: =B13 -> Humanoid | Y13: - | AA13: - | AC13: 5 | AD13: 5 | AE13: 5 | AR13: - | AV13: - | AX13: - | AZ13: - | BA13: - | BC13: - | BD13: - | BH13: - | BJ13: - | BK13: - | BO13: -
A14: 13 | B14: Humanoid | C14: Orc | D14: 2 | E14: 2 | G14: 3 | P14: Medium | S14: =B14 -> Humanoid | Y14: - | AA14: - | AC14: -2 | AD14: -2 | AR14: - | AV14: - | AX14: - | AZ14: - | BA14: - | BC14: - | BD14: - | BH14: - | BJ14: - | BK14: - | BO14: -
A15: 14 | B15: Humanoid | C15: Mountain Dwarf | F15: 2 | H15: 2 | P15: Small | S15: =B15 -> Humanoid | Y15: - | AA15: - | AR15: - | AV15: - | AX15: - | AZ15: Poison | BA15: - | BC15: - | BD15: - | BH15: - | BJ15: - | BK15: - | BO15: -
A16: 15 | B16: Plantoid | C16: Solurial | D16: 1 | E16: -1 | F16: 2 | H16: 1 | P16: Large | S16: =B16 -> Plantoid | T16: 120 | U16: 820 | Y16: Natural | Z16: 5 | AA16: Natural | AB16: 5 | AF16: -2 | AP16: -1 | AR16: - | AV16: Heat | AW16: 1 | AX16: - | AZ16: - | BA16: - | BB16: Lashing Vines | BC16: Slashing | BD16: - | BE16: 2 | BF16: 4 | BH16: Melee | BJ16: - | BK16: - | BO16: -
A17: 16 | B17: Humanoid | C17: Drahzik | D17: 1 | F17: 1 | G17: 2 | L17: 1 | P17: Medium | S17: =B17 -> Humanoid | T17: 25 | U17: 70 | Y17: - | AA17: - | AO17: 1 | AR17: - | AV17: Cold | AW17: 1 | AX17: - | AZ17: - | BA17: - | BC17: - | BD17: - | BH17: - | BJ17: - | BK17: - | BO17: -
A18: 17 | B18: Crystalline | C18: Houseki | D18: 2 | E18: -1 | H18: 1 | I18: 1 | M18: 1 | P18: Small | Q18: Medium | R18: Large | S18: =B18 -> Crystalline | T18: 40 | U18: 150 | Y18: Natural | Z18: 5 | AA18: - | AF18: -1 | AP18: -1 | AR18: Piercing | AV18: Sonic | AW18: 1 | AX18: - | AZ18: - | BA18: - | BC18: - | BD18: - | BH18: - | BJ18: - | BK18: - | BO18: -
A19: 18 | B19: Insectoid | C19: Pajak | E19: 2 | F19: -1 | G19: 2 | J19: -1 | P19: Medium | S19: =B19 -> Insectoid | T19: 15 | U19: 50 | Y19: - | AA19: - | AG19: Equal | AO19: 1 | AR19: - | AT19: -50 | AV19: - | AX19: - | AZ19: - | BA19: - | BB19: Poison Bite | BC19: Piercing | BD19: Poison | BE19: 2 | BF19: 1 | BH19: Melee | BJ19: - | BK19: - | BO19: -
A20: 19 | B20: Humanoid | C20: Jamila | G20: 2 | J20: 2 | M20: 1 | P20: Medium | S20: =B20 -> Humanoid | T20: 25 | U20: 75 | Y20: - | AA20: - | AR20: - | AV20: - | AX20: - | AZ20: - | BA20: - | BB20: Drain Life Force | BC20: Psionic | BD20: - | BE20: 1 | BF20: 1 | BG20: Heals self for damage done | BH20: Melee | BJ20: - | BK20: - | BO20: -
A21: 20 | B21: Humanoid | C21: Zetan | E21: 2 | G21: 2 | H21: -1 | K21: 1 | P21: Medium | S21: =B21 -> Humanoid | T21: 12 | U21: 40 | Y21: - | AA21: - | AC21: 4 | AD21: 4 | AE21: -4 | AN21: 1 | AR21: - | AV21: - | AX21: - | AZ21: - | BA21: - | BC21: - | BD21: - | BH21: - | BJ21: - | BK21: - | BO21: -
A22: 21 | B22: Crystalline | C22: Kryte | D22: -1 | H22: 2 | I22: 2 | M22: 3 | P22: Large | S22: =B22 -> Crystalline | T22: 26 | U22: 60 | Y22: Natural | Z22: 5 | AA22: - | AP22: -1 | AR22: - | AV22: Sonic | AW22: 1 | AX22: - | AZ22: - | BA22: - | BC22: - | BD22: - | BH22: - | BJ22: - | BK22: - | BO22: -
A23: 22 | B23: Crystalline | C23: Metallic Kryte | D23: -1 | H23: 2 | I23: 2 | M23: 3 | P23: Large | S23: =B23 -> Crystalline | T23: 26 | U23: 60 | Y23: Natural | Z23: 7 | AA23: - | AF23: -1 | AR23: - | AV23: Electricity | AW23: 1 | AX23: - | AZ23: - | BA23: - | BC23: - | BD23: - | BH23: - | BJ23: - | BK23: - | BO23: -
A24: 23 | B24: Crystalline | C24: Reflective Kryte | D24: -1 | H24: 2 | I24: 2 | M24: 3 | P24: Large | S24: =B24 -> Crystalline | T24: 26 | U24: 60 | Y24: - | AA24: - | AR24: - | AV24: Sonic | AW24: 1 | AX24: - | AZ24: - | BA24: - | BC24: - | BD24: - | BH24: - | BJ24: - | BK24: - | BO24: -
A25: 24 | B25: Humanoid | C25: Clone | D25: 1 | E25: 1 | F25: 1 | G25: 1 | H25: 1 | I25: 1 | P25: Medium | S25: =B25 -> Humanoid | T25: 52 | U25: 120 | Y25: - | AA25: - | AR25: - | AV25: - | AX25: - | AZ25: - | BA25: - | BC25: - | BD25: - | BH25: - | BJ25: - | BK25: - | BO25: -
A26: 25 | B26: Humanoid | C26: Belter | E26: 2 | G26: 2 | K26: 1 | P26: Medium | S26: =B26 -> Humanoid | T26: 26 | U26: 60 | Y26: - | AA26: - | AD26: 2 | AJ26: Equal | AK26: Equal | AR26: - | AV26: - | AX26: - | AZ26: - | BA26: - | BC26: - | BD26: - | BH26: - | BJ26: - | BK26: - | BO26: -
A27: 26 | B27: Humanoid | C27: Jovian | D27: 1 | F27: 2 | H27: 1 | P27: Medium | S27: =B27 -> Humanoid | T27: 26 | U27: 60 | Y27: Natural | Z27: 3 | AA27: - | AE27: 2 | AI27: Equal | AM27: 7 | AR27: - | AV27: - | AX27: - | AZ27: - | BA27: - | BC27: - | BD27: - | BH27: - | BJ27: - | BK27: - | BO27: -
A28: 27 | B28: Humanoid | C28: Warped | G28: 2 | H28: 2 | J28: -1 | M28: 2 | P28: Medium | S28: =B28 -> Humanoid | T28: 26 | U28: 60 | Y28: - | AA28: - | AE28: 4 | AR28: - | AV28: - | AX28: - | AZ28: - | BA28: - | BC28: - | BD28: - | BH28: - | BJ28: - | BK28: - | BO28: -
A29: 28 | B29: Humanoid | C29: Flint Dwarf | D29: 2 | H29: 1 | J29: 1 | P29: Small | S29: =B29 -> Humanoid | Y29: - | AA29: - | AR29: - | AV29: - | AX29: - | AZ29: - | BA29: - | BC29: - | BD29: - | BH29: - | BJ29: - | BK29: - | BO29: -
A30: 29 | B30: Humanoid | C30: Jade Dwarf | H30: 1 | I30: 1 | J30: 2 | P30: Small | S30: =B30 -> Humanoid | Y30: - | AA30: - | AR30: - | AV30: - | AX30: - | AZ30: - | BA30: - | BC30: - | BD30: - | BH30: - | BJ30: - | BK30: - | BO30: -
A31: 30 | B31: Humanoid | C31: Obsidian Dwarf | G31: 2 | I31: 2 | P31: Small | S31: =B31 -> Humanoid | Y31: Heat | Z31: 5 | AA31: Natural | AB31: 2 | AR31: - | AV31: Cold | AW31: 1 | AX31: - | AZ31: - | BA31: - | BC31: - | BD31: - | BH31: - | BJ31: - | BK31: - | BO31: -
A32: 31 | B32: Fey | C32: Night Elf | E32: 1 | G32: 1 | J32: 1 | N32: 1 | P32: Medium | S32: =B32 -> Fey | T32: 30 | U32: 100 | Y32: Poison | Z32: 10 | AA32: - | AR32: - | AV32: - | AX32: - | AZ32: - | BA32: - | BC32: - | BD32: - | BH32: - | BJ32: - | BK32: - | BO32: -
A33: 32 | B33: Fey | C33: Faun | E33: 1 | J33: 2 | N33: 2 | P33: Medium | S33: =B33 -> Fey | T33: 17 | U33: 70 | Y33: - | AA33: - | AF33: 2 | AR33: - | AV33: - | AX33: - | AZ33: - | BA33: - | BC33: - | BD33: - | BH33: - | BJ33: - | BK33: - | BO33: -
A34: 33 | B34: Fey | C34: Gremlin | E34: 1 | I34: 2 | N34: 3 | P34: Small | S34: =B34 -> Fey | T34: 10 | U34: 100 | Y34: - | AA34: - | AR34: - | AV34: - | AX34: - | AZ34: - | BA34: - | BC34: - | BD34: - | BH34: - | BJ34: - | BK34: - | BO34: -
A35: 34 | B35: Plantoid Fey | C35: Spriggan | D35: 1 | G35: 1 | H35: 1 | N35: 2 | P35: Medium | S35: =B35 -> Plantoid Fey | T35: 50 | Y35: Natural | Z35: 5 | AA35: - | AR35: - | AV35: Heat | AW35: 1 | AX35: - | AZ35: - | BA35: - | BC35: - | BD35: - | BH35: - | BJ35: - | BK35: - | BO35: -
A36: 35 | B36: Humanoid | C36: Deva | G36: 1 | J36: 2 | P36: Medium | S36: =B36 -> Humanoid | Y36: Holy | Z36: 5 | AA36: Unholy | AB36: 5 | AR36: - | AV36: - | AX36: - | AZ36: - | BA36: - | BC36: - | BD36: - | BH36: - | BJ36: - | BK36: - | BO36: -
A37: 36 | B37: Fey | C37: Eladrin | G37: 2 | I37: 1 | N37: 3 | P37: Medium | S37: =B37 -> Fey | Y37: - | AA37: - | AR37: - | AV37: - | AX37: - | AZ37: - | BA37: - | BC37: - | BD37: - | BH37: - | BJ37: - | BK37: - | BO37: -
A38: 37 | B38: Fey | C38: Tiefling | E38: 2 | I38: 2 | J38: 2 | P38: Medium | S38: =B38 -> Fey | Y38: Heat | Z38: 5 | AA38: - | AQ38: 1 | AR38: Piercing | AV38: - | AX38: - | AZ38: - | BA38: - | BC38: - | BD38: - | BH38: - | BJ38: - | BK38: - | BO38: -
A39: 38 | B39: Fey | C39: Tauren | D39: 2 | F39: 1 | G39: 2 | L39: 1 | P39: Medium | S39: =B39 -> Fey | T39: 19 | U39: 60 | Y39: - | AA39: - | AQ39: 1 | AR39: Piercing | AV39: - | AX39: - | AZ39: - | BA39: - | BC39: - | BD39: - | BH39: - | BJ39: - | BK39: - | BO39: -
A40: 39 | B40: Goblinoid Fey | C40: Goblin | E40: 2 | G40: 2 | P40: Small | S40: =B40 -> Goblinoid Fey | T40: 31 | U40: 81 | Y40: - | AA40: - | AR40: - | AV40: - | AX40: - | AZ40: - | BA40: - | BC40: - | BD40: - | BH40: - | BJ40: - | BK40: - | BO40: -
A41: 40 | B41: Automaton | C41: Clockmen | D41: 1 | H41: 2 | I41: 2 | P41: Medium | S41: =B41 -> Automaton | Y41: - | AA41: - | AE41: Immune | AR41: - | AV41: Electricity | AW41: 1 | AX41: Ion | AY41: 2 | AZ41: - | BA41: - | BC41: - | BD41: - | BH41: - | BJ41: - | BK41: - | BO41: -
A42: 41 | B42: Undead | C42: Revenant | F42: 2 | G42: 1 | H42: 1 | P42: Medium | S42: =B42 -> Undead | Y42: - | AA42: - | AR42: - | AV42: Holy | AW42: 1 | AX42: - | AZ42: - | BA42: - | BC42: - | BD42: - | BH42: - | BJ42: - | BK42: - | BO42: -
A43: 42 | Y43: - | AA43: - | AR43: - | AV43: - | AX43: - | AZ43: - | BA43: - | BC43: - | BD43: - | BH43: - | BJ43: - | BK43: - | BO43: -
A44: 43 | S44: =B44 | Y44: - | AA44: - | AR44: - | AV44: - | AX44: - | AZ44: - | BA44: - | BC44: - | BD44: - | BH44: - | BJ44: - | BK44: - | BO44: -
A45: 44 | S45: =B45 | Y45: - | AA45: - | AR45: - | AV45: - | AX45: - | AZ45: - | BA45: - | BC45: - | BD45: - | BH45: - | BJ45: - | BK45: - | BO45: -
A46: 45 | S46: =B46 | Y46: - | AA46: - | AR46: - | AV46: - | AX46: - | AZ46: - | BA46: - | BC46: - | BD46: - | BH46: - | BJ46: - | BK46: - | BO46: -
A47: 46 | S47: =B47 | Y47: - | AA47: - | AR47: - | AV47: - | AX47: - | AZ47: - | BA47: - | BC47: - | BD47: - | BH47: - | BJ47: - | BK47: - | BO47: -
A48: 47 | S48: =B48 | Y48: - | AA48: - | AR48: - | AV48: - | AX48: - | AZ48: - | BA48: - | BC48: - | BD48: - | BH48: - | BJ48: - | BK48: - | BO48: -
A49: 48 | S49: =B49 | Y49: - | AA49: - | AR49: - | AV49: - | AX49: - | AZ49: - | BA49: - | BC49: - | BD49: - | BH49: - | BJ49: - | BK49: - | BO49: -
A50: 49 | S50: =B50 | Y50: - | AA50: - | AR50: - | AV50: - | AX50: - | AZ50: - | BA50: - | BC50: - | BD50: - | BH50: - | BJ50: - | BK50: - | BO50: -
A51: 50 | S51: =B51 | Y51: - | AA51: - | AR51: - | AV51: - | AX51: - | AZ51: - | BA51: - | BC51: - | BD51: - | BH51: - | BJ51: - | BK51: - | BO51: -
A52: 51 | S52: =B52 | Y52: - | AA52: - | AR52: - | AV52: - | AX52: - | AZ52: - | BA52: - | BC52: - | BD52: - | BH52: - | BJ52: - | BK52: - | BO52: -
A53: 52 | S53: =B53 | Y53: - | AA53: - | AR53: - | AV53: - | AX53: - | AZ53: - | BA53: - | BC53: - | BD53: - | BH53: - | BJ53: - | BK53: - | BO53: -
A54: 53 | S54: =B54 | Y54: - | AA54: - | AR54: - | AV54: - | AX54: - | AZ54: - | BA54: - | BC54: - | BD54: - | BH54: - | BJ54: - | BK54: - | BO54: -
A55: 54 | S55: =B55 | Y55: - | AA55: - | AR55: - | AV55: - | AX55: - | AZ55: - | BA55: - | BC55: - | BD55: - | BH55: - | BJ55: - | BK55: - | BO55: -
C56: 1 | D56: 2 | E56: 3 | F56: 4 | G56: 5 | H56: 6 | I56: 7 | J56: 8 | K56: 9 | L56: 10 | M56: 11 | N56: 12 | O56: 13 | P56: 14 | Q56: 15 | R56: 16 | S56: 17 | T56: 18 | U56: 19 | V56: 20 | W56: 21 | X56: 22 | Y56: 23 | Z56: 24 | AA56: 25 | AB56: 26 | AC56: 27 | AD56: 28 | AE56: 29 | AF56: 30 | AG56: 31 | AH56: 32 | AI56: 33 | AJ56: 34 | AK56: 35 | AL56: 36 | AM56: 37 | AN56: 38 | AO56: 39 | AP56: 40 | AQ56: 41 | AR56: 42 | AS56: 43 | AT56: 44 | AU56: 45 | AV56: 46 | AW56: 47 | AX56: 48 | AY56: 49 | AZ56: 50 | BA56: 51 | BB56: 52 | BC56: 53 | BD56: 54 | BE56: 55 | BF56: 56 | BG56: 57 | BH56: 58 | BI56: 59 | BJ56: 60 | BK56: 61 | BL56: 62 | BM56: 63 | BN56: 64 | BO56: 65 | BP56: 66
H175: Humanoid | I175: Terrans | J175: 1 | L175: 1 | Y175: Medium | AB175: Humanoid
H176: Humanoid | I176: Voshvek | L176: 1 | P176: 1 | R176: 1 | W176: 1 | Y176: Small | Z176: Medium | AB176: Humanoid
H177: Aquatic | I177: Spectral | P177: 1 | Q177: 2 | X177: 2 | Y177: Medium | AB177: Aquatic
H178: Reptile | I178: Drakhan | J178: 1 | L178: 1 | P178: 1 | R178: 2 | Y178: Medium | Z178: Large | AB178: Reptile
H179: Reptile | I179: Rokhan | J179: 2 | K179: 2 | R179: -1 | Y179: Medium | AB179: Reptile
H180: Humanoid | I180: Vargr | J180: 1 | K180: 1 | M180: 1 | P180: 2 | Y180: Medium | AB180: Humanoid
H181: Humanoid | I181: Janoi | J181: -1 | K181: 2 | P181: 1 | Q181: 2 | Y181: Small | AB181: Humanoid
H182: Insectoid | I182: Keltor | J182: 2 | L182: 2 | Q182: 1 | Y182: Large | AB182: Insectoid
H183: Humanoid | I183: Sylvin | K183: 2 | P183: 1 | R183: 2 | Y183: Medium | AB183: Humanoid
H184: Humanoid | I184: Heldyr | J184: 3 | L184: 2 | P184: -1 | Q184: 1 | S184: -1 | Y184: Large | AB184: Humanoid
H185: Humanoid | I185: Sibuna | J185: 2 | K185: -1 | M185: 2 | W185: 2 | Y185: Medium | AB185: Humanoid
H186: Avian | I186: Taigaru | K186: 1 | M186: 1 | P186: 2 | S186: 1 | Y186: Medium | AB186: Avian
H187: Humanoid | I187: Viyth | K187: 1 | P187: 1 | Q187: 2 | R187: 1 | Y187: Small | Z187: Medium | AB187: Humanoid
H188: Humanoid | I188: Ordonari | L188: 1 | M188: 2 | P188: 1 | X188: 1 | Y188: Medium | AB188: Humanoid
H189: Humanoid | I189: Panthra | J189: 1 | K189: 2 | P189: 2 | R189: -1 | S189: 1 | Y189: Medium | Z189: Large | AB189: Humanoid
H190: Humanoid | I190: Shado | K190: 2 | P190: 2 | Q190: 1 | Y190: Medium | AB190: Humanoid

Sheet Stat Modification
B1: Damage | D1: Disease & Illness | L1: Environment | S1: Fundamental Skills | Y1: Equipment Quality | AB1: Cybernetic Enhancements | AG1: Homeworlds
B2: Damage types | D2: Illness | E2: Transmission | F2: Pool | G2: Interval | H2: Difficulty | I2: Status | J2: Effect | L2: Environment | N2: Status Track | O2: Extreme Version | P2: Damage Type | Q2: Half Move | S2: Ranged Skills | T2: Melee Skills | U2: Ranged Defense | V2: Melee Defense | W2: Mental Defense | Y2: Equipment Quality | Z2: Value | AB2: Enhancement | AC2: Type | AD2: Effect | AE2: Cost | AG2: Homeworld | AH2: STR | AI2: AGI | AJ2: END | AK2: WIL | AL2: INT | AM2: LOG | AN2: CHA | AO2: LUC | AP2: REP | AQ2: PSI | AR2: MAG | AS2: CHI | AT2: =VLOOKUP('Character Sheet'!F7,AG3:AV100,14,FALSE) | AU2: =VLOOKUP('Character Sheet'!F7,AG3:AV100,15,FALSE) | AV2: =VLOOKUP('Character Sheet'!F7,AG3:AV100,16,FALSE) | AW2: Select Skill
B3: - | D3: Choose Illness | L3: Caustic | N3: Pain | O3: Acidic | P3: Acid | S3: Rifles | T3: Boxing | U3: Acrobatics | V3: Acrobatics | W3: Concentration | Y3: Improvised | Z3: -2 | AB3: Select Enhancement | AG3: Select Homeworld
B4: Natural | D4: Macrovirus | E4: Airborne | F4: WIL | G4: Daily | H4: Demanding [21] | I4: Fatigued | J4: Lethargy/death | L4: Cold | N4: Mobility | O4: Freezing | P4: Cold | S4: Pistols | T4: Brawling | U4: Dodging | V4: Dodging | W4: Meditation | Y4: Poor | Z4: -1 | AB4: Artificial arm | AC4: Major | AD4: +1d6 to STRENGTH dice pool | AE4: -2 | AG4: Agricultural | AJ4: 1 | AM4: -1 | AT4: Farming | AU4: Animal Handling | AV4: Botany
B5: Blunt | D5: Orman's Symdrome | E5: Injury | F5: LOG | G5: Daily | H5: Difficult [16] | I5: Forgetful | J5: Memory loss | L5: Dampened | N5: - | O5: Inhibited | P5: - | S5: Heavy Weapons | T5: Martial Arts | U5: Foresight | V5: Foresight | W5: Bravery | Y5: Standard | Z5: 0 | AB5: Artificial leg | AC5: Major | AD5: +1d6 to AGILITY dice pool | AE5: -2 | AG5: Arctic | AI5: -1 | AJ5: 1 | AT5: Survival | AU5: Hardy | AV5: Brewing
B6: Crushing | D6: Petrification | E6: Injury | F6: END | G6: Daily | H6: Demanding [21] | I6: Slowed | J6: Death | L6: Difficult Terrain* | N6: - | O6: - | P6: - | Q6: Yes | S6: Bows | T6: Wrestling | V6: Axes | W6: Discipline | Y6: High | Z6: 1 | AB6: Digiclaws | AC6: Minor | AD6: +1d6 natural damage | AE6: -1 | AG6: Asteroid | AH6: -1 | AI6: 1 | AT6: Zero-g | AU6: Mining | AV6: Geology
B7: Ballistic | D7: Radiation Sickness | E7: Exposure | F7: END | G7: Daily | H7: Difficult [16] | I7: Debilitated | J7: Death | L7: Dim/smoky | N7: Sight (Half blind) | O7: Blind/Dark | P7: - | S7: Thrown | V7: Boxing | W7: Religion | Y7: Exceptional | Z7: 2 | AB7: Sub-dermal plating | AC7: Major | AD7: SOAK 5 | AE7: -2 | AG7: Barren | AJ7: 1 | AN7: -1 | AT7: Survival | AU7: Thievery | AV7: Driving
B8: Cold | D8: Retrograde Psychosis | E8: Airborne | F8: WIL | G8: Daily | H8: Difficult [16] | I8: Confused | J8: Psychosis | L8: Snow/rain | N8: Sight (Half blind) | O8: Blind/Dark | P8: - | V8: Brawling | W8: Conviction | Y8: Mastercraft | Z8: 3 | AB8: Duraskin | AC8: Major | AD8: SOAK 2, SOAK 5 (fire) | AE8: -2 | AG8: City | AJ8: -1 | AN8: 1 | AT8: Diplomacy | AU8: Bureacracy | AV8: Thievery
B9: Electricity | D9: Rigellian Fever | E9: Contact | F9: END | G9: Daily | H9: Difficult [16] | I9: Debilitated | J9: Death | L9: Hi-grav* | N9: Tiredness | O9: Crushing | P9: Crushing | Q9: Yes | V9: Clubs | W9: Leadership | Y9: Artisanal | Z9: 4 | AB9: Exosuit, partial | AC9: Major | AD9: +1d6 to STRENGTH dice pool | AE9: -2 | AG9: Desert | AI9: -1 | AJ9: 1 | AT9: Navigation | AU9: Survival | AV9: Cooking
B10: Force | D10: Salt Plague | E10: Injury | F10: END | G10: Daily | H10: Demanding [21] | I10: - | J10: Salt cravings | L10: Hot | N10: Fire | O10: Scorching | P10: Heat | V10: Knives | W10: Psychology | Y10: Legendary | Z10: 5 | AB10: Exosuit, full | AC10: Major | AD10: +1d6 to AGILITY and STRENGTH | AE10: -2 | AG10: Jungle | AI10: 1 | AJ10: -1 | AT10: Climbing | AU10: Hunting | AV10: Navigation
B11: Heat | D11: Vampiris | E11: Injury | F11: WIL | G11: Hourly | H11: Strenuous [25] | I11: - | J11: Vampirism | L11: Lo-grav* | N11: Nausea | O11: Zero-g | P11: - | Q11: Yes | V11: Martial Arts | W11: Rulership | AB11: Hormonal regulators | AC11: Minor | AD11: +1d6 to social interactions 3x a day | AE11: -1 | AG11: Ocean | AI11: 1 | AL11: -1 | AT11: Swimming | AU11: Sailing | AV11: Fishing
B12: Ion | D12: White Disease | E12: Contact | F12: END | G12: Weekly | H12: Demanding [21] | I12: Slowed | J12: Death | L12: Radioactive | N12: Nausea | O12: Irradiated | P12: Radiation | V12: Polearms | AB12: Injector implant | AC12: Minor | AD12: One drug type, injects as free action | AE12: -1 | AG12: Volcanic | AH12: -1 | AI12: 1 | AT12: Dodging | AU12: Farming | AV12: Geology
B13: Piercing | L13: Slippery* | N13: - | O13: - | P13: - | Q13: Yes | V13: Swords | AB13: Input jacks | AC13: Minor | AD13: +1d6 to computer operations | AE13: -1
B14: Poison | L14: Thick/thin atmosphere | N14: Tiredness | O14: Vacuum | P14: Crushing | V14: Wrestling | AB14: Memory chip | AC14: Minor | AD14: +1d6 to LOG dice pool | AE14: -1
B15: Psionic | L15: Tremors* | N15: - | O15: Quakes | P15: - | Q15: Yes | V15: Spears | AB15: Olfactory sensors | AC15: Minor | AD15: +1d6 to smell-based INT checks | AE15: -1
B16: Slashing | L16: Wet | N16: - | O16: Underwater* | P16: - | AB16: Psionic scrambler | AC16: Minor | AD16: +5 MENTAL DEFENSE | AE16: -1
B17: Sonic | L17: Windy | N17: - | O17: Hurricane | P17: - | AB17: Skeletal reinforcement | AC17: Major | AD17: +1d6 to ENDURANCE dice pool | AE17: -2
B18: Acid | L18: Select Environment | AB18: Skill implant | AC18: Minor | AD18: 1 new skill at 1d6 | AE18: -1
B19: Radiation | AB19: Static dynamo | AC19: Major | AD19: Discharge energy as an attack | AE19: -2
B20: Stun | AB20: Weapon integration | AC20: Major | AD20: Plus price of weapon | AE20: -2
B21: Magical | AB21: Voice synthesizer | AC21: Minor | AD21: Fake voice, +1d6 checks to decieve | AE21: -1
B22: Disease | AB22: Wavelength reciever | AC22: Minor | AD22: Sense/read energy/rad wavelengths | AE22: -1
B23: Holy
B24: Unholy
B25: Burst

Sheet Changelog
B2: Changelog
B3: May 23rd 2017 | C3: v2.0.0 | D3: Official Release v2.0
B5: May 23rd | C5: v2.0.1 | D5: Changed minimum dicepool cap from 0 to 1. Fixed notes that were referencing older iterations of the sheet. Fixed Stat Block.
B6: May 24th | C6: v2.0.1 | D6: Added additional notes throughout sheet for better documentation and explanation. Last few changes to formatting.
B7: May 25th | C7: v2.0.2 | D7: Added Luck Pool; Improved weight calculation so that you can now turn off the penalties for carrying too much weight.
B8: May 26th | C8: v2.0.3 | D8: Added support for the following traits: Nimble; Alcoholic. Fixed weight/carried weight calculation using the wrong value.
