{"text_format":"2","workbook":"xlsx","n_sheets":6,"sheets":["Sheet","PRINT SHEET","Stat","Cha","HtH","Reference Points"],"not_rendered":{"charts":0,"images":1,"macros":0,"external_links":0,"defined_names":17,"comments":0,"pivot_tables":0},"unopened":[],"bounds":{"document_bytes":16777216,"sheet_cells":100000,"run_cost":"one","rows_first":2000,"rows_last":500,"rows_between":2000,"halvings":0,"cell_chars":16384,"cell_head_chars":4096},"cells_cut":0,"cells_raw":0,"read":"whole","date_system":"1900"}

{"sheet":"Sheet","index":0,"n_rows":107,"n_cols":60,"rows_kept":107,"cut":false,"hidden":false,"merged":[[18,0,18,66],[19,0,19,66],[20,0,20,66],[21,0,21,66],[15,0,15,66],[6,0,7,6],[6,7,7,10],[0,0,1,9],[0,10,1,53],[0,56,1,60],[3,0,4,9],[3,10,4,53],[6,59,7,65],[3,55,4,58],[6,55,7,58],[9,0,10,3],[6,35,7,42],[6,43,7,53],[98,0,99,66],[100,0,101,66],[102,0,103,66],[104,0,105,66],[106,0,107,6],[106,7,107,23],[106,24,107,30],[106,31,107,47],[89,20,90,31],[91,0,92,31],[93,0,94,31],[96,0,97,18],[96,20,97,66],[3,59,4,65],[9,35,10,41],[9,42,10,65],[31,33,94,66],[22,0,22,66],[23,0,23,66],[24,0,24,66],[25,0,25,66],[34,0,35,6],[34,8,35,14],[89,0,90,18],[79,0,80,18],[79,20,80,31],[81,0,82,31],[84,0,85,18],[84,20,85,31],[86,0,87,31],[58,0,59,6],[26,0,26,66],[27,0,27,66],[28,0,28,66],[29,0,29,66],[16,0,16,66],[17,0,17,66],[49,0,50,11],[46,14,47,21],[61,8,62,14],[61,16,62,22],[46,6,47,12],[67,0,68,9],[67,10,68,14],[67,16,68,25],[73,0,74,7],[70,0,71,6],[70,7,71,14],[52,0,53,9],[61,0,62,7],[64,29,65,30],[73,8,74,18],[76,5,77,18],[67,26,68,28],[67,29,68,30],[76,0,77,4],[64,0,65,9],[64,10,65,12],[64,13,65,14],[64,16,65,25],[64,26,65,28],[70,16,71,22],[70,23,71,30],[55,0,56,9],[55,10,56,14],[34,22,35,25],[34,26,35,30],[37,0,38,5],[37,6,38,9],[37,10,38,14],[37,16,38,21],[37,22,38,25],[34,16,35,21],[46,0,47,5],[43,0,44,1],[43,2,44,6],[43,8,44,9],[43,16,44,17],[40,26,41,30],[37,26,38,30],[40,0,41,5],[40,6,41,9],[40,10,41,14],[40,16,41,21],[40,22,41,25],[61,24,62,30],[46,22,47,30],[58,27,59,30],[58,7,59,16],[9,4,10,10],[12,0,13,10],[49,23,50,26],[49,27,50,30],[49,12,50,15],[49,16,50,19],[58,19,59,26],[55,17,56,23],[52,17,53,23],[52,24,53,30],[55,24,56,30],[52,10,53,14],[43,24,44,25],[43,10,44,14],[43,18,44,22],[43,26,44,30],[31,0,32,5],[31,6,32,14],[31,16,32,23],[31,24,32,30]]}
["IDENTITY:",{"$nulls":9},"Hero Name",{"$nulls":45},"NPC"]
[]
[]
["NAME:",{"$nulls":9},"Real Name",{"$nulls":44},"SIDE",null,null,null,"G"]
[]
[]
["SEX:",{"$nulls":6},"M",{"$nulls":27},"EXP VALUE:",{"$nulls":7},{"$f":"(W47+Y56)*(BH7*2)","v":98},{"$nulls":11},"LEVEL",null,null,null,1]
[]
[]
["AGE:",null,null,null,24,{"$nulls":30},"TRAINING:"]
[]
[]
["POWERS:"]
{"$rows_empty":18}
["WEIGHT",{"$nulls":5},100,{"$nulls":9},"BASIC HITS",{"$nulls":7},{"$f":"ROUNDUP(G32/50,0)","v":2}]
[]
[]
["AGL MOD*",{"$nulls":7},{"$f":"VLOOKUP(G32,hthb,4,TRUE)","v":2},{"$nulls":7},"STR",{"$nulls":5},11,null,null,null,{"$f":"W35","v":11}]
[]
[]
["END",{"$nulls":5},11,null,null,null,{"$f":"G38","v":11},{"$nulls":5},"AGL",{"$nulls":5},11,null,null,null,{"$f":"W38+I35","v":13}]
[]
[]
["INT",{"$nulls":5},11,null,null,null,{"$f":"G41","v":11},{"$nulls":5},"CHA",{"$nulls":5},11,null,null,null,{"$f":"W41","v":11}]
[]
[]
["ST",null,{"$f":"VLOOKUP(AA35,statc,4,TRUE)","v":1},{"$nulls":5},"EN",null,{"$f":"VLOOKUP(K38,statc,5,TRUE)","v":1},{"$nulls":5},"AG",null,{"$f":"VLOOKUP(AA38,statc,6,TRUE)","v":1.3},{"$nulls":5},"IN",null,{"$f":"VLOOKUP(K41,statc,7,TRUE)","v":0.99999999999999989}]
[]
[]
["HIT MOD",{"$nulls":5},{"$f":"C44*K44*S44*AA44","v":1.2999999999999998},{"$nulls":7},"HIT POINTS",{"$nulls":7},{"$f":"ROUNDUP(Y32*G47,0)","v":3}]
[]
[]
["REACTONS FROM:",{"$nulls":11},"GOOD",null,null,null,{"$f":"VLOOKUP(AA41,chab,4)*VLOOKUP(BH4,GEB,2,FALSE)","v":0},{"$nulls":6},"EVIL",null,null,null,{"$f":"Q50*-1","v":0}]
[]
[]
["DMG MOD",{"$nulls":9},{"$f":"VLOOKUP(AA38,STATB,9,TRUE)+VLOOKUP(K41,STATB,11,TRUE)","v":1},{"$nulls":6},"HEAL RATE",{"$nulls":6},{"$f":"VLOOKUP(K38,STATB,8,TRUE)*Y32","v":0.5}]
[]
[]
["ACCURACY",{"$nulls":9},{"$f":"VLOOKUP(AA38,STATB,10,TRUE)","v":1},{"$nulls":6},"POWER",{"$nulls":6},{"$f":"AA35+K38+AA38+K41","v":46}]
[]
[]
["CARRY CAP",{"$nulls":6},{"$f":"ROUND((((AA35/10)^3)+(K38/10))*(G32/2),0)","v":122},{"$nulls":11},"BASIC HTH",{"$nulls":7},{"$f":"VLOOKUP(H59,hthc,5,TRUE)","v":"1d4"}]
[]
[]
["MOVE RATES",{"$nulls":7},{"$f":"AA35+K38+AA38","v":35}]
[]
[]
["DET HIDDEN",{"$nulls":9},{"$f":"VLOOKUP(K41,STATB,12,TRUE)","v":8},null,null,"%",null,null,"DET DANGER",{"$nulls":9},{"$f":"VLOOKUP(K41,STATB,13,TRUE)","v":12},null,null,"%"]
[]
[]
["INVENT PTS",{"$nulls":9},{"$f":"(K41/10)*BH7","v":1.1000000000000001},{"$nulls":5},"INVENT %",{"$nulls":9},{"$f":"K41*3","v":33},null,null,"%"]
[]
[]
["JUMP RATE",{"$nulls":6},{"$f":"H59/100","v":1.22},{"$nulls":8},"JUMP DUR.",{"$nulls":6},{"$f":"(H59/G32)","v":1.22}]
[]
[]
["JUMP HEIGHT",{"$nulls":7},{"$f":"H71*(X71/4)","v":0.37209999999999999}]
[]
[]
["CASH"]
[]
[]
["LEGAL STATUS"]
[]
[]
[]
[]
["SECURITY CLEARANCE"]
[]
[]
[]
[]
["KNOWLEDGE AREAS"]
[]
[]
[]
[]
[]
[]
["INVENTIONS"]
{"$rows_empty":9}
["CREATOR:",{"$nulls":23},"ART:"]

{"sheet":"PRINT SHEET","index":1,"n_rows":83,"n_cols":53,"rows_kept":83,"cut":false,"hidden":false,"merged":[[4,35,5,38],[4,39,5,45],[7,0,8,5],[7,35,8,38],[13,0,14,10],[4,0,5,6],[4,7,5,34],[7,6,8,34],[7,39,8,45],[10,9,11,19],[16,0,16,66],[10,35,11,39],[53,0,54,11],[62,0,63,9],[59,0,60,6],[10,40,11,46],[35,15,36,22],[10,48,11,51],[10,52,11,58],[13,35,14,41],[13,42,14,65],[32,34,33,36],[32,28,33,33],[17,0,17,66],[18,0,18,66],[19,0,19,66],[20,0,20,66],[21,0,21,66],[22,0,22,66],[38,0,39,5],[38,6,39,9],[30,0,30,66],[32,0,33,5],[29,0,29,66],[32,15,33,22],[23,0,23,66],[24,0,24,66],[25,0,25,66],[26,0,26,66],[27,0,27,66],[28,0,28,66],[32,23,33,27],[41,7,42,10],[38,13,39,22],[35,23,36,26],[35,7,36,10],[38,23,39,26],[44,0,45,25],[44,33,45,37],[47,21,48,30],[59,7,60,10],[59,22,60,30],[59,31,60,34],[53,12,54,21],[1,0,1,45],[65,6,66,9],[62,10,63,14],[56,0,57,7],[41,11,42,25],[50,7,51,11],[50,24,51,30],[50,31,51,37],[53,23,54,30],[53,31,54,34],[50,0,51,6],[41,26,42,29],[47,6,48,10],[47,31,48,37],[41,0,42,6],[47,0,48,5],[62,24,63,37],[65,0,66,5],[65,10,66,37],[76,0,77,8],[76,9,77,37],[69,0,70,14],[69,15,70,37],[33,39,80,66],[10,0,11,8],[79,0,80,15],[79,16,80,37],[82,0,83,11],[56,8,57,16],[56,18,57,26],[56,28,57,36],[41,30,42,33],[41,34,42,37],[32,6,33,14],[44,26,45,32],[35,0,36,6],[71,0,72,37],[73,0,74,37],[62,19,63,23]]}
[]
["                 CHARACTER RECORD SHEET"]
[]
[]
["IDENTITY:",{"$nulls":6},{"$f":"Sheet!K1","v":"Hero Name"},{"$nulls":27},"SIDE:",null,null,null,{"$f":"VLOOKUP(Sheet!BH4,Cha!I2:K7,3,FALSE)","v":"GOOD"}]
[]
[]
["NAME:",{"$nulls":5},{"$f":"Sheet!K4","v":"Real Name"},{"$nulls":28},"SEX:",null,null,null,{"$f":"VLOOKUP(Sheet!H7,Cha!I2:K7,3,FALSE)","v":"MALE"}]
[]
[]
["EXPERIENCE:",{"$nulls":34},"LEVEL:",{"$nulls":4},{"$f":"Sheet!BH7","v":1},{"$nulls":7},"AGE:",null,null,null,{"$f":"Sheet!E10","v":24}]
[]
[]
["POWERS:",{"$nulls":34},"TRAINING:"]
[]
[]
[{"$f":"Sheet!A16","v":0}]
[{"$f":"Sheet!A17","v":0}]
[{"$f":"Sheet!A18","v":0}]
[{"$f":"Sheet!A19","v":0}]
[{"$f":"Sheet!A20","v":0}]
[{"$f":"Sheet!A21","v":0}]
[{"$f":"Sheet!A22","v":0}]
[{"$f":"Sheet!A23","v":0}]
[{"$f":"Sheet!A24","v":0}]
[{"$f":"Sheet!A25","v":0}]
[{"$f":"Sheet!A26","v":0}]
[{"$f":"Sheet!A27","v":0}]
[{"$f":"Sheet!A28","v":0}]
[{"$f":"Sheet!A29","v":0}]
[{"$f":"Sheet!A30","v":0}]
[]
["WEIGHT:",{"$nulls":5},{"$f":"Sheet!G32","v":100},{"$nulls":8},"BASIC HITS:",{"$nulls":7},{"$f":"Sheet!Y32","v":2},{"$nulls":4},"AGL MOD:",{"$nulls":5},{"$f":"Sheet!I35","v":2}]
[]
[]
["STRENGTH:",{"$nulls":6},{"$f":"Sheet!AA35","v":11},{"$nulls":7},"ENDURANCE:",{"$nulls":7},{"$f":"Sheet!K38","v":11}]
[]
[]
["AGILITY:",{"$nulls":5},{"$f":"Sheet!AA38","v":13},{"$nulls":6},"INTELLIGENCE:",{"$nulls":9},{"$f":"Sheet!K41","v":11}]
[]
[]
["CHARISMA:",{"$nulls":6},{"$f":"Sheet!AA41","v":11},null,null,null,"REACTIONS FROM: GOOD:",{"$nulls":14},{"$f":"Sheet!Q50","v":0},null,null,null,"EVIL:",null,null,null,{"$f":"AA42*-1","v":0}]
[]
[]
[{"$f":"\"HIT MOD: (\"&Sheet!C44&\") x (\"&Sheet!K44&\") x (\"&Sheet!S44&\") x (\"&Sheet!AA44&\") = \"&Sheet!G47","v":"HIT MOD: (1) x (1) x (1.3) x (1) = 1.3"},{"$nulls":25},"HIT POINTS:",{"$nulls":6},{"$f":"\"(\"&Sheet!W47&\")\"","v":"(3)"}]
[]
[]
["DMG MOD:",{"$nulls":5},{"$f":"Sheet!K53","v":1},{"$nulls":14},"HEALING RATE:",{"$nulls":9},{"$f":"Sheet!Y53","v":0.5}]
[]
[]
["ACCURACY:",{"$nulls":6},{"$f":"Sheet!K56","v":1},{"$nulls":16},"POWER:",{"$nulls":6},{"$f":"\"(\"&Sheet!Y56&\")\"","v":"(46)"}]
[]
[]
["CARRYING CAPACITY:",{"$nulls":11},{"$f":"Sheet!H59&\" lbs\"","v":"122 lbs"},{"$nulls":10},"BASIC HTH:",{"$nulls":7},{"$f":"Sheet!AB59","v":"1d4"}]
[]
[]
["MOVE RATES:",{"$nulls":7},{"$f":"Sheet!I62&\" in/turn\"","v":"35 in/turn"},{"$nulls":9},{"$f":"Sheet!Q62","v":0},{"$nulls":9},{"$f":"Sheet!Y62","v":0}]
[]
[]
["DET. HIDDEN:",{"$nulls":6},{"$f":"Sheet!K65&\"%\"","v":"8%"},{"$nulls":14},"DET. DANGER:",{"$nulls":8},{"$f":"Sheet!AA65&\"%\"","v":"12%"}]
[]
[]
["INVENTING POINTS:",{"$nulls":9},{"$f":"Sheet!K68","v":1.1000000000000001},{"$nulls":8},"CASH: $"]
[]
[]
["INVENTING:",{"$nulls":5},{"$f":"\"(\"&Sheet!AA68&\"%)\"","v":"(33%)"}]
[]
[]
[]
["ORIGIN AND BACKGROUND:"]
[]
[]
[]
[]
[]
[]
["LEGAL STATUS:"]
[]
[]
["(SECURITY CLEARANCE=        )"]
[]
[]
["OTHER INFORMATION:"]

{"sheet":"Stat","index":2,"n_rows":87,"n_cols":13,"rows_kept":87,"cut":false,"hidden":false,"merged":[]}
[1,2,3,4,5,6,7,8,9,10,11,12,13]
[null,null,null,"STR","END","AGL","INT","END HR","AGL DMG","AGL ACC","INT DMG","Det Hid","Det Dan"]
[0,null,0,0.2,0.1,0.1,1,0.08,-3,-8,"--","--",30]
[1,"-",2,{"$f":"D3+0.2","v":0.4},0.2,0.2,0.7,0.09,-2,-6,-2,2,9]
[3,"-",5,{"$f":"D4+0.2","v":0.60000000000000009},0.4,0.4,{"$f":"G4+0.1","v":0.79999999999999993},0.1,-1,-4,-1,{"$f":"L4+2","v":4},10]
[6,"-",{"$f":"A6+2","v":8},0.8,0.6,0.7,{"$f":"G5+0.1","v":0.89999999999999991},0.2,0,-2,-1,{"$f":"L5+2","v":6},11]
[{"$f":"C6+1","v":9},"-",11,1,1,{"$f":"F6+0.3","v":1},0.99999999999999989,0.25,0,0,0,8,12]
[12,"-",14,1.2,{"$f":"E7+0.4","v":1.4},{"$f":"F7+0.3","v":1.3},1.0999999999999999,0.3,1,1,0,10,{"$f":"M7+2","v":14}]
[15,"-",17,1.4,{"$f":"E8+0.4","v":1.7999999999999998},1.6,1.2,{"$f":"H8+0.1","v":0.4},1,2,1,12,{"$f":"M8+2","v":16}]
[18,"-",20,1.5999999999999999,2.1999999999999997,1.9000000000000001,1.3,{"$f":"H9+0.1","v":0.5},2,3,1,14,18]
[21,"-",23,1.7999999999999998,2.5999999999999996,2.2000000000000002,1.4000000000000001,0.6,2,4,2,16,20]
[24,"-",26,1.9999999999999998,2.9999999999999996,2.5,1.5000000000000002,0.7,3,4,2,18,22]
[27,"-",29,2.1999999999999997,3.3999999999999995,2.8,1.6000000000000003,0.79999999999999993,3,5,3,20,24]
[30,"-",32,2.4,3.7999999999999994,3.0999999999999996,1.7000000000000004,0.89999999999999991,4,5,3,22,26]
[33,"-",35,2.6,4.1999999999999993,3.3999999999999995,1.8000000000000005,0.99999999999999989,4,6,4,24,28]
[36,"-",38,2.8000000000000003,4.5999999999999996,3.6999999999999993,1.9000000000000006,1.0999999999999999,5,6,4,26,30]
[39,"-",41,3.0000000000000004,5,3.9999999999999991,2.0000000000000004,1.2,5,6,5,28,32]
[42,"-",44,3.2000000000000006,5.4,4.2999999999999989,2.1000000000000005,1.3,6,7,5,30,34]
[45,"-",47,3.4000000000000008,5.8000000000000007,4.5999999999999988,2.2000000000000006,1.4000000000000001,6,7,6,32,36]
[48,"-",50,3.600000000000001,6.2000000000000011,4.8999999999999986,2.3000000000000007,1.5000000000000002,7,8,6,34,38]
[51,"-",53,3.8000000000000012,6.6000000000000014,5.1999999999999984,2.4000000000000008,1.6000000000000003,7,8,7,36,40]
[54,"-",56,4.0000000000000009,7.0000000000000018,5.4999999999999982,2.5000000000000009,1.7000000000000004,8,8,7,38,42]
[57,"-",59,4.2000000000000011,7.4000000000000021,5.799999999999998,2.600000000000001,1.8000000000000005,8,9,8,40,44]
[60,"-",62,4.4000000000000012,7.8000000000000025,6.0999999999999979,2.7000000000000011,1.9000000000000006,9,9,8,42,46]
[63,"-",65,4.6000000000000014,8.2000000000000028,6.3999999999999977,2.8000000000000012,2.0000000000000004,9,10,9,44,48]
[66,"-",68,4.8000000000000016,8.6000000000000032,6.6999999999999975,2.9000000000000012,2.1000000000000005,10,10,9,46,50]
[69,"-",71,5.0000000000000018,9.0000000000000036,6.9999999999999973,3.0000000000000013,2.2000000000000006,10,10,10,48,52]
[72,"-",74,5.200000000000002,9.4000000000000039,7.2999999999999972,3.1000000000000014,2.3000000000000007,11,11,10,50,54]
[75,"-",77,5.4000000000000021,9.8000000000000043,7.599999999999997,3.2000000000000015,2.4000000000000008,11,11,11,52,56]
[78,"-",80,5.6000000000000023,10.200000000000005,7.8999999999999968,3.3000000000000016,2.5000000000000009,12,12,11,54,58]
[81,"-",83,5.8000000000000025,10.600000000000005,8.1999999999999975,3.4000000000000017,2.600000000000001,12,12,12,56,60]
[84,"-",86,6.0000000000000027,11.000000000000005,8.4999999999999982,3.5000000000000018,2.7000000000000011,13,12,12,58,62]
[87,"-",89,{"$f":"D32+0.2","v":6.2000000000000028},11.400000000000006,8.7999999999999989,3.6000000000000019,2.8000000000000012,13,13,13,60,64]
[{"$f":"C33+1","v":90},"-",{"$f":"A34+2","v":92},{"$f":"D33+0.2","v":6.400000000000003},11.800000000000006,9.1,3.700000000000002,2.9000000000000012,14,13,13,62,66]
[{"$f":"C34+1","v":93},"-",{"$f":"A35+2","v":95},{"$f":"D34+0.2","v":6.6000000000000032},12.200000000000006,9.4,3.800000000000002,3.0000000000000013,14,14,14,64,68]
[96,"-",98,6.8000000000000034,12.600000000000007,9.7000000000000011,3.9000000000000021,3.1000000000000014,15,14,14,66,70]
[99,"-",101,7.0000000000000036,13.000000000000007,10.000000000000002,4.0000000000000018,3.2000000000000015,15,14,15,68,72]
[102,"-",104,7.2000000000000037,13.400000000000007,10.300000000000002,4.1000000000000014,3.3000000000000016,16,15,15,70,74]
[105,"-",107,7.4000000000000039,13.800000000000008,10.600000000000003,4.2000000000000011,3.4000000000000017,16,15,16,72,76]
[108,"-",110,7.6000000000000041,14.200000000000008,10.900000000000004,4.3000000000000007,3.5000000000000018,17,16,16,74,78]
[111,"-",113,7.8000000000000043,14.600000000000009,11.200000000000005,4.4000000000000004,3.6000000000000019,17,16,17,76,80]
[114,"-",116,8.0000000000000036,15.000000000000009,11.500000000000005,4.5,3.700000000000002,18,16,17,78,82]
[117,"-",119,8.2000000000000028,15.400000000000009,11.800000000000006,4.5999999999999996,3.800000000000002,18,17,18,80,84]
[120,"-",122,8.4000000000000021,15.80000000000001,12.100000000000007,4.6999999999999993,3.9000000000000021,19,17,18,82,86]
[123,"-",125,8.6000000000000014,16.20000000000001,12.400000000000007,4.7999999999999989,4.0000000000000018,19,18,19,84,88]
[126,"-",128,8.8000000000000007,16.600000000000009,12.700000000000008,4.8999999999999986,4.1000000000000014,20,18,19,86,90]
[129,"-",131,9,17.000000000000007,13.000000000000009,4.9999999999999982,4.2000000000000011,20,18,20,88,92]
[132,"-",134,9.1999999999999993,17.400000000000006,13.30000000000001,5.0999999999999979,4.3000000000000007,21,19,20,90,94]
[135,"-",137,9.3999999999999986,17.800000000000004,13.60000000000001,5.1999999999999975,4.4000000000000004,21,19,21,92,96]
[138,"-",140,9.5999999999999979,18.200000000000003,13.900000000000011,5.2999999999999972,4.5,22,20,21,94,98]
[141,"-",143,9.7999999999999972,18.600000000000001,14.200000000000012,5.3999999999999968,4.5999999999999996,22,20,22,96,100]
[144,"-",146,9.9999999999999964,19,14.500000000000012,5.4999999999999964,4.6999999999999993,23,20,22,98,102]
[147,"-",149,10.199999999999996,19.399999999999999,14.800000000000013,5.5999999999999961,4.7999999999999989,23,21,23,100,104]
[150,"-",152,10.399999999999995,19.799999999999997,15.100000000000014,5.6999999999999957,4.8999999999999986,24,21,23,102,106]
[153,"-",155,10.599999999999994,20.199999999999996,15.400000000000015,5.7999999999999954,4.9999999999999982,24,22,24,104,108]
[156,"-",158,10.799999999999994,20.599999999999994,15.700000000000015,5.899999999999995,5.0999999999999979,25,22,24,106,110]
[159,"-",161,10.999999999999993,20.999999999999993,16.000000000000014,5.9999999999999947,5.1999999999999975,25,22,25,108,112]
[162,"-",164,11.199999999999992,21.399999999999991,16.300000000000015,6.0999999999999943,5.2999999999999972,26,23,25,110,114]
[165,"-",167,11.399999999999991,21.79999999999999,16.600000000000016,6.199999999999994,5.3999999999999968,26,23,26,112,116]
[168,"-",170,11.599999999999991,22.199999999999989,16.900000000000016,6.2999999999999936,5.4999999999999964,27,24,26,114,118]
[171,"-",173,11.79999999999999,22.599999999999987,17.200000000000017,6.3999999999999932,5.5999999999999961,27,24,27,116,120]
[174,"-",176,11.999999999999989,22.999999999999986,17.500000000000018,6.4999999999999929,5.6999999999999957,28,24,27,118,122]
[{"$f":"C62+1","v":177},"-",{"$f":"A63+2","v":179},12.199999999999989,23.399999999999984,17.800000000000018,6.5999999999999925,5.7999999999999954,28,25,28,120,124]
[180,"-",182,12.399999999999988,23.799999999999983,18.100000000000019,6.6999999999999922,5.899999999999995,29,25,28,122,126]
[183,"-",185,12.599999999999987,24.199999999999982,18.40000000000002,6.7999999999999918,5.9999999999999947,29,26,29,124,128]
[186,"-",188,12.799999999999986,24.59999999999998,18.700000000000021,6.8999999999999915,6.0999999999999943,30,26,29,126,130]
[189,"-",191,12.999999999999986,24.999999999999979,19.000000000000021,6.9999999999999911,6.199999999999994,30,26,30,128,132]
[192,"-",194,13.199999999999985,25.399999999999977,19.300000000000022,7.0999999999999908,6.2999999999999936,31,27,30,130,134]
[195,"-",197,13.399999999999984,25.799999999999976,19.600000000000023,7.1999999999999904,6.3999999999999932,31,27,31,132,136]
[198,"-",200,13.599999999999984,26.199999999999974,19.900000000000023,{"$f":"G69+0.1","v":7.2999999999999901},6.4999999999999929,32,28,31,{"$f":"L69+2","v":134},138]
[{"$f":"C70+1","v":201},"-",{"$f":"A71+2","v":203},13.799999999999983,26.599999999999973,20.200000000000024,{"$f":"G70+0.1","v":7.3999999999999897},6.5999999999999925,32,28,31,{"$f":"L70+2","v":136},140]
[204,"-",206,13.999999999999982,26.999999999999972,{"$f":"F71+0.3","v":20.500000000000025},7.4999999999999893,6.6999999999999922,32,28,31,138,142]
[207,"-",209,14.199999999999982,{"$f":"E72+0.4","v":27.39999999999997},20.800000000000026,7.599999999999989,6.7999999999999918,32,28,31,140,144]
[210,"-",212,14.399999999999981,27.799999999999969,21.100000000000026,7.6999999999999886,6.8999999999999915,32,28,31,142,146]
[213,"-",215,14.59999999999998,28.199999999999967,21.400000000000027,7.7999999999999883,6.9999999999999911,32,28,31,144,148]
[216,"-",218,14.799999999999979,28.599999999999966,21.700000000000028,7.8999999999999879,7.0999999999999908,32,28,31,146,150]
[219,"-",221,14.999999999999979,28.999999999999964,22.000000000000028,7.9999999999999876,7.1999999999999904,32,28,31,148,152]
[222,"-",224,15.199999999999978,29.399999999999963,22.300000000000029,8.0999999999999872,7.2999999999999901,32,28,31,150,154]
[225,"-",227,15.399999999999977,29.799999999999962,22.60000000000003,8.1999999999999869,7.3999999999999897,32,28,31,152,156]
[228,"-",230,15.599999999999977,30.19999999999996,22.900000000000031,8.2999999999999865,7.4999999999999893,32,28,31,154,158]
[231,"-",233,15.799999999999976,30.599999999999959,23.200000000000031,8.3999999999999861,7.599999999999989,32,28,31,156,160]
[{"$f":"C81+1","v":234},"-",{"$f":"A82+2","v":236},15.999999999999975,30.999999999999957,23.500000000000032,{"$f":"G81+0.1","v":8.4999999999999858},7.6999999999999886,32,28,31,{"$f":"L81+2","v":158},162]
[237,"-",239,16.199999999999974,31.399999999999956,23.800000000000033,8.5999999999999854,7.7999999999999883,32,28,31,160,164]
[240,"-",242,16.399999999999974,31.799999999999955,24.100000000000033,8.6999999999999851,7.8999999999999879,32,28,31,162,166]
[243,"-",245,16.599999999999973,32.199999999999953,24.400000000000034,8.7999999999999847,7.9999999999999876,32,28,31,164,168]
[246,"-",248,16.799999999999972,32.599999999999952,24.700000000000035,8.8999999999999844,8.0999999999999872,32,28,31,166,170]
[249,"-",251,16.999999999999972,32.99999999999995,25.000000000000036,8.999999999999984,8.1999999999999869,32,28,31,168,172]

{"sheet":"Cha","index":3,"n_rows":45,"n_cols":11,"rows_kept":45,"cut":false,"hidden":false,"merged":[]}
[1,2,3,4,5,null,null,null,1,2]
[0,null,0,-6,{"$f":"D2*-1","v":6},null,null,null,"G",1,"GOOD"]
[1,"-",2,-6,{"$f":"D3*-1","v":6},null,null,null,"E",-1,"EVIL"]
[3,"-",5,-4,4,null,null,null,"GOOD",1]
[6,"-",{"$f":"A5+2","v":8},-2,2,null,null,null,"EVIL",-1]
[{"$f":"C5+1","v":9},"-",{"$f":"A6+2","v":11},0,0,null,null,null,"M",null,"MALE"]
[12,"-",{"$f":"A7+2","v":14},1,-1,null,null,null,"F",null,"FEMALE"]
[15,"-",{"$f":"A8+2","v":17},2,-2]
[18,"-",{"$f":"A9+2","v":20},3,-3]
[21,"-",25,{"$f":"D9+1","v":4},-4]
[26,"-",{"$f":"C10+5","v":30},5,-5]
[31,"-",{"$f":"C11+5","v":35},6,-6]
[36,"-",40,7,-7]
[41,"-",45,8,-8]
[46,"-",50,9,-9]
[51,"-",55,10,-10]
[56,"-",60,11,-11]
[61,"-",65,12,-12]
[66,"-",70,13,-13]
[71,"-",75,14,-14]
[76,"-",80,15,-15]
[81,"-",85,16,-16]
[86,"-",90,17,-17]
[{"$f":"C23+1","v":91},"-",95,{"$f":"D23+1","v":18},{"$f":"D24*-1","v":-18}]
[96,"-",100,19,-19]
[101,"-",105,20,-20]
[106,"-",110,21,-21]
[111,"-",115,22,-22]
[116,"-",120,23,-23]
[121,"-",125,24,-24]
[126,"-",130,25,-25]
[131,"-",135,26,-26]
[136,"-",140,27,-27]
[141,"-",145,28,-28]
[146,"-",150,29,-29]
[151,"-",155,30,-30]
[156,"-",160,31,-31]
[161,"-",165,32,-32]
[166,"-",170,33,-33]
[171,"-",175,34,-34]
[176,"-",180,35,-35]
[181,"-",185,36,-36]
[186,"-",190,37,-37]
[191,"-",195,38,-38]
[196,"-",200,39,-39]

{"sheet":"HtH","index":4,"n_rows":34,"n_cols":13,"rows_kept":34,"cut":false,"hidden":false,"merged":[[1,0,1,2]]}
[1,2,3,4,5]
[null,null,null,"AGL Mod","Basic HtH",null,null,1,"M",null,"M",150,220]
[0,"to",30,8,1,null,null,{"$f":"1+H2","v":2},"M",null,"F",100,150]
[{"$f":"C3+1","v":31},"to",{"$f":"C3*2","v":60},4,"1d2",null,null,{"$f":"1+H3","v":3},"M"]
[{"$f":"C4+1","v":61},"to",{"$f":"C4*2","v":120},2,"1d3",null,null,4,"F"]
[121,"to",240,0,"1d4",null,null,5,"M"]
[241,"to",480,-2,"1d6",null,null,6,"M"]
[481,"to",960,{"$f":"D7-2","v":-4},"1d8",null,null,7,"M"]
[961,"to",1920,{"$f":"D8-2","v":-6},"1d10",null,null,8,"F"]
[1921,"to",3840,-8,"1d12",null,null,9,"M"]
[3841,"to",7680,-10,"2d8",null,null,10,"M"]
[7681,"to",15360,-12,"2d10"]
[15361,"to",30720,-14,"3d10"]
[30721,"to",61440,-16,"4d10"]
[61441,"to",122880,-18,"5d10"]
[122881,"to",245760,-20,"6d10"]
[245761,"to",491520,-22,"7d10"]
[491521,"to",983040,-24,"8d10"]
[{"$f":"C18+1","v":983041},"to",1966080,-26,"9d10"]
[1966081,"to",3932160,-28,"10d10"]
[3932161,"to",7864320,-30,"11d10"]
[7864321,"to",15728640,-32,"12d10"]
[15728641,"to",31457280,-34,"13d10"]
[31457281,"to",62914560,-36,"14d10"]
[{"$f":"C24+1","v":62914561},"to",125829120,-38,"14d10"]
[125829121,"to",251658240,-40,"14d10"]
[251658241,"to",503316480,-42,"14d10"]
[503316481,"to",1006632960,-44,"14d10"]
[1006632961,"to",2013265920,-46,"14d10"]
[2013265921,"to",4026531840,-48,"14d10"]
[4026531841,"to",8053063680,-50,"14d10"]
[8053063681,"to",16106127360,-52,"14d10"]
[16106127361,"to",32212254720,-54,"14d10"]
[32212254721,"to",64424509440,-56,"14d10"]

{"sheet":"Reference Points","index":5,"n_rows":13,"n_cols":6,"rows_kept":13,"cut":false,"hidden":false,"merged":[]}
["STAT","STR","END","AGL","INT","CHA"]
["100+","Superman","Superman"]
["90-99","Captain Marvel","Captain Marvel"]
["80-89","Colossus","Wolverine"]
["70-79","Wonder Woman","Wonder Woman"]
["60-69","Thing",null,null,null,"Galactus"]
["50-59",null,"Thing","Superman",null,"Hal Jordan"]
["40-49","Spider-Man","Colossus","Spider-man","Mr. Fantastic","Alan Scott"]
["30-39","Aquaman","Spider-man","Quicksilver","Batman","Superman"]
["20-29","Captain America","Daredevil","Blue Beetle","Riddler","Batman"]
["12-19","Most Heroes","Most Heroes","Most Heroes","Most Heroes","Most Heroes"]
["09-11","Average Human","Average Human","Average Human","Average Human","Average Human"]
["< 09","Handicapped","Handicapped","Handicapped","Handicapped","Handicapped"]